BEGIN:VCALENDAR
VERSION:2.0
PRODID:-//Rocksound - ECPv6.15.18//NONSGML v1.0//EN
CALSCALE:GREGORIAN
METHOD:PUBLISH
X-ORIGINAL-URL:https://rocksound.cz
X-WR-CALDESC:Akce na Rocksound
REFRESH-INTERVAL;VALUE=DURATION:PT1H
X-Robots-Tag:noindex
X-PUBLISHED-TTL:PT1H
BEGIN:VTIMEZONE
TZID:Europe/Prague
BEGIN:DAYLIGHT
TZOFFSETFROM:+0100
TZOFFSETTO:+0200
TZNAME:CEST
DTSTART:20230326T010000
END:DAYLIGHT
BEGIN:STANDARD
TZOFFSETFROM:+0200
TZOFFSETTO:+0100
TZNAME:CET
DTSTART:20231029T010000
END:STANDARD
BEGIN:DAYLIGHT
TZOFFSETFROM:+0100
TZOFFSETTO:+0200
TZNAME:CEST
DTSTART:20240331T010000
END:DAYLIGHT
BEGIN:STANDARD
TZOFFSETFROM:+0200
TZOFFSETTO:+0100
TZNAME:CET
DTSTART:20241027T010000
END:STANDARD
BEGIN:DAYLIGHT
TZOFFSETFROM:+0100
TZOFFSETTO:+0200
TZNAME:CEST
DTSTART:20250330T010000
END:DAYLIGHT
BEGIN:STANDARD
TZOFFSETFROM:+0200
TZOFFSETTO:+0100
TZNAME:CET
DTSTART:20251026T010000
END:STANDARD
END:VTIMEZONE
BEGIN:VEVENT
DTSTART;TZID=Europe/Prague:20240925T180000
DTEND;TZID=Europe/Prague:20240925T233000
DTSTAMP:20260420T100151
CREATED:20240826T090054Z
LAST-MODIFIED:20240826T090054Z
UID:94945-1727287200-1727307000@rocksound.cz
SUMMARY:DOG EAT DOG 30 - Years All Boro Kings Tour - Praha
DESCRIPTION:25 / 09 / 2024 / PRAHA / PALÁC AKROPOLIS\nObscure vstupenky: https://obscure.cz/cs/tickets/detail/id/757Dále u Goout: https://goout.net/…/years-all-boro-kings-tour…/szfjghx/\nfyzické vstupenky u Ticketmaster\nDuch devadesátek žije! Ne\, není řeč o Discolandu\, ale o amerických DOG EAT DOG\, kteří se vrátí a znovu zahrají All Boro Kings.Jejich charakteristický mix hardcoru\, hip hopu\, rapu a funky nestárne\, právě naopak. Omlazuje jak pobyt v Lurdech a vy ani nemusíte tak daleko.Výroční tour totiž protne Prahu i Ostravu.\nProdej spuštěn!
URL:https://rocksound.cz/akce/dog-eat-dog-30-years-all-boro-kings-tour-praha/
LOCATION:Palác Akropolis\, Kubelíkova 1548/27 130 00\, Praha 3-Žižkov
ATTACH;FMTTYPE=image/jpeg:https://rocksound.cz/wp-content/uploads/2024/08/450535205_785463990408817_4237793781073459759_n.jpg
END:VEVENT
BEGIN:VEVENT
DTSTART;TZID=Europe/Prague:20240925T190000
DTEND;TZID=Europe/Prague:20240925T233000
DTSTAMP:20260420T100151
CREATED:20240826T115123Z
LAST-MODIFIED:20240826T115123Z
UID:94975-1727290800-1727307000@rocksound.cz
SUMMARY:Rikas - Praha
DESCRIPTION:Rikas opět vyráží na turné! Po hudebními kritiky oceňovaném soul-popovém albu „Showtime“ z roku 2019\, dvou vyprodaných turné a festivalových vystoupeních na MS Dockville\, Puls Open Air nebo Southside Festivalu mají kluci opět napilno. Po albech „Overthinking“ a „Short Stories EP“ se Rikas v roce 2022 vrátili s novou hudbou\, která předznamenala začátek nové éry kvarteta. Do Prahy se vrátí podruhé\, jejich česká premiéra proběhla před Alt-J v rámci letošního open-air Prague Summer Festivalu.\n VSTUPENKY na pražský koncert 4. 11. 2023 v Café V lese budou v prodeji za cenu 400 Kč od 21. 12.\, 12:00 na GoOut.net.\n�“Goodbye Sunshine“ je název nejnovějšího EP. A přichází přesně ve správný čas. Konečně se totiž opět aktivuje duch této kapely zrozené pro živé koncerty a konečně je jim dovoleno znovu přivést svou brilantní show na světová pódia. A právě s ohledem na to byly vytvořeny nové skladby. Ve srovnání s předchozími nahrávkami kapely se „Goodbye Sunshine“ jeví v nové barevné paletě\, jako by kapela pro jednou záměrně snížila sytost. Slyšíte melancholii\, která se vás krásným způsobem dotýká. Byl to pravděpodobně výlet do Los Angeles v březnu 2022\, který vdechl kapele nový život. Zde se ocitli ve studiu s nikým jiným než s producentem a hudebníkem Jonathanem Radem\, který již spolupracoval s umělci jako Weyes Blood\, The Killers\, Whitney\, nebo The Lemon Twigs.\nPro sekundární nákup/prodej vstupenek prosíme o využití jediné oficiální\, bezpečné a ověřené služby na sekundární prodej vstupenek TicketSwap\, se kterými spolupracujeme. U vstupenek pořízených mimo oficiální předprodej nebo TicketSwap nemůžeme garantovat jejich pravost a to\, že na koncert budete puštěni.
URL:https://rocksound.cz/akce/rikas-praha/
LOCATION:Café V Lese\, Praha\, Krymská 12\, Praha
ATTACH;FMTTYPE=image/jpeg:https://rocksound.cz/wp-content/uploads/2024/08/387073927_855263959300932_3081127894627699120_n.jpg
END:VEVENT
END:VCALENDAR