BEGIN:VCALENDAR
VERSION:2.0
PRODID:-//Rocksound - ECPv6.15.18//NONSGML v1.0//EN
CALSCALE:GREGORIAN
METHOD:PUBLISH
X-WR-CALNAME:Rocksound
X-ORIGINAL-URL:https://rocksound.cz
X-WR-CALDESC:Akce na Rocksound
REFRESH-INTERVAL;VALUE=DURATION:PT1H
X-Robots-Tag:noindex
X-PUBLISHED-TTL:PT1H
BEGIN:VTIMEZONE
TZID:Europe/Prague
BEGIN:DAYLIGHT
TZOFFSETFROM:+0100
TZOFFSETTO:+0200
TZNAME:CEST
DTSTART:20250330T010000
END:DAYLIGHT
BEGIN:STANDARD
TZOFFSETFROM:+0200
TZOFFSETTO:+0100
TZNAME:CET
DTSTART:20251026T010000
END:STANDARD
BEGIN:DAYLIGHT
TZOFFSETFROM:+0100
TZOFFSETTO:+0200
TZNAME:CEST
DTSTART:20260329T010000
END:DAYLIGHT
BEGIN:STANDARD
TZOFFSETFROM:+0200
TZOFFSETTO:+0100
TZNAME:CET
DTSTART:20261025T010000
END:STANDARD
BEGIN:DAYLIGHT
TZOFFSETFROM:+0100
TZOFFSETTO:+0200
TZNAME:CEST
DTSTART:20270328T010000
END:DAYLIGHT
BEGIN:STANDARD
TZOFFSETFROM:+0200
TZOFFSETTO:+0100
TZNAME:CET
DTSTART:20271031T010000
END:STANDARD
END:VTIMEZONE
BEGIN:VEVENT
DTSTART;TZID=Europe/Prague:20260207T183000
DTEND;TZID=Europe/Prague:20260207T233000
DTSTAMP:20260422T235927
CREATED:20260101T203858Z
LAST-MODIFIED:20260101T203858Z
UID:112986-1770489000-1770507000@rocksound.cz
SUMMARY:MØL\, TAYNE\, COLD NIGHT FOR ALLIGATORS - Praha
DESCRIPTION:07 / 02 / 2026 / PRAHA / FUTURUM\nObscure vstupenky: https://obscure.cz/cs/tickets/detail/id/974Předprodej bude zahájen 17.10. v 11:00hod\nV únoru do Prahy dorazí hned tři přední tváře současné dánské alternativní scény – MØL\, Tayne a Cold Night For Alligators. Každá z nich nabízí jiný přístup k moderní kytarové hudbě\, od emotivního blackgaze přes experimentální noise pop až po progresivní metal. Společně slibují večer plný kontrastů\, energie a intenzivních emocí – už 7. února v pražském klubu Futurum.\nMØL patří k nejvýraznějším představitelům žánru blackgaze\, v němž se syrová síla black metalu prolíná s melancholickou jemností shoegaze. Jejich hudba osciluje mezi agresí a katarzí\, mezi výbuchem emocí a klidnou introspekcí. Díky albům JORD a Diorama si kapela vydobyla mezinárodní uznání a naživo nabízí pohlcující zážitek\, který vás vtáhne do nekonečného souboje světla a temnoty.\nTayne přinášejí temnou\, experimentální směs industriálního noise popu a alternativního rocku. Londýnsko-dánský projekt\, vedený Thomasem Andrewem Duffyem\, propojuje hypnotické elektronické rytmy s kytarovými texturami a surovým vokálním projevem. Výsledkem je nervní\, dynamická hudba\, která se pohybuje mezi taneční euforií a klaustrofobní úzkostí – ideální soundtrack k modernímu chaosu.\nCold Night For Alligators představují progresivní stránku dánské metalové scény. Jejich zvuk kombinuje technickou preciznost s melodickým citem\, vrstvené aranže s emotivními vokály a moderní produkci s metalcoreovou razancí. Album The Hindsight Notes (2022) ukázalo kapelu ve vyzrálejší\, experimentálnější formě\, která oslovuje fanoušky napříč žánry.
URL:https://rocksound.cz/akce/mol-tayne-cold-night-for-alligators-praha/
LOCATION:Futurum Music Bar\, Zborovská 7\, Praha
ATTACH;FMTTYPE=image/jpeg:https://rocksound.cz/wp-content/uploads/2026/01/565721989_1113584884263391_3079805686316883647_n.jpg
END:VEVENT
BEGIN:VEVENT
DTSTART;TZID=Europe/Prague:20260207T190000
DTEND;TZID=Europe/Prague:20260207T233000
DTSTAMP:20260422T235927
CREATED:20250922T181818Z
LAST-MODIFIED:20250922T181818Z
UID:110224-1770490800-1770507000@rocksound.cz
SUMMARY:Alfa Mist - Praha
DESCRIPTION:Dát přednost pocitu před perfekcionismem. To je motto\, které stojí za neúnavnou kreativitou multiinstrumentalisty\, rappera a producenta Alfa Mist\, který vystoupí 7. února 2026 v MeetFactory.\n Vstupenky v prodeji od 10. září\, 10:00\, na GoOut  https://goout.net/cs/alfa-mist/szjphyx/.\nRok 2025 je pro hudebníka ve znamení rozvíjení své kreativní vize. Fanouškům oznámil vydání svého nového alba Roulette\, které vyjde 3. října na jeho vlastním labelu Sekito Records. Roulette je sci-fi koncepční album odehrávající se v dystopické blízké budoucnosti\, kde je reinkarnace vědecky prokázaným faktem. Album\, které Alfa složil\, napsal a produkoval\, obsahuje příspěvky newyorského rappera Homeboy Sandmana\, britské soulové hvězdy Tawiah a vokalistky a multiinstrumentalistky Kaya Thomas-Dyke.\nOd debutového alba Nocturne z roku 2015 se Alfa stal jednou z nejvýraznějších a nejvyhledávanějších osobností britské hudební scény. Spolupracoval s umělci jako Jordan Rakei nebo Tom Misch a vyhledáván je právě pro svůj osobitý mix intimní domácí produkce a široce rozkročených jazzových aranží. Jeho tvorba se nedá jednoduše zaškatulkovat – sahá od hip-hopových beatů a spolupráce s rapperem Loyle Carnerem\, přes neoklasické skladby pro London Contemporary Orchestra\, až po nové pojetí děl Ólafura Arnaldse nebo legendárního jazzového labelu Blue Note.\nAlfa vyrostl ve východním Londýně a k jazzu se dostal spíš náhodou. „Tam\, odkud pocházím\, jazz vlastně vůbec nebyl\,“ vzpomíná. „Společnost nám navíc podsouvala\, že děti jako já – černé a bez peněz – mají jen tři cesty: stát se hudebníkem\, sportovcem\, nebo zločincem.“ Alfa si našel cestu k hudbě díky londýnské grimeové scéně\, která v té době nabírala na síle. Ve škole během přestávek zkoušel hudební software a skládal rychlé grimeové beaty. Čím víc se nořil do britského rapu a hip-hopu\, tím víc ho začaly fascinovat samply\, které používali producenti jako Blackstar\, Madlib nebo J Dilla. „Byli to oni\, kdo mi otevřeli cestu k jazzu\,“ říká. Nakonec ho to dovedlo až ke klavíru – učil se hrát podle sluchu\, jen aby porozuměl harmonickým vrstvám jejich skladeb.
URL:https://rocksound.cz/akce/alfa-mist-praha/
LOCATION:MeetFactory\, Ke Sklárně 3213/15\, Praha
ATTACH;FMTTYPE=image/jpeg:https://rocksound.cz/wp-content/uploads/2025/09/541653922_1306958700798120_4584757325002437135_n.jpg
END:VEVENT
END:VCALENDAR