BEGIN:VCALENDAR
VERSION:2.0
PRODID:-//Rocksound - ECPv6.15.18//NONSGML v1.0//EN
CALSCALE:GREGORIAN
METHOD:PUBLISH
X-WR-CALNAME:Rocksound
X-ORIGINAL-URL:https://rocksound.cz
X-WR-CALDESC:Akce na Rocksound
REFRESH-INTERVAL;VALUE=DURATION:PT1H
X-Robots-Tag:noindex
X-PUBLISHED-TTL:PT1H
BEGIN:VTIMEZONE
TZID:Europe/Prague
BEGIN:DAYLIGHT
TZOFFSETFROM:+0100
TZOFFSETTO:+0200
TZNAME:CEST
DTSTART:20250330T010000
END:DAYLIGHT
BEGIN:STANDARD
TZOFFSETFROM:+0200
TZOFFSETTO:+0100
TZNAME:CET
DTSTART:20251026T010000
END:STANDARD
BEGIN:DAYLIGHT
TZOFFSETFROM:+0100
TZOFFSETTO:+0200
TZNAME:CEST
DTSTART:20260329T010000
END:DAYLIGHT
BEGIN:STANDARD
TZOFFSETFROM:+0200
TZOFFSETTO:+0100
TZNAME:CET
DTSTART:20261025T010000
END:STANDARD
BEGIN:DAYLIGHT
TZOFFSETFROM:+0100
TZOFFSETTO:+0200
TZNAME:CEST
DTSTART:20270328T010000
END:DAYLIGHT
BEGIN:STANDARD
TZOFFSETFROM:+0200
TZOFFSETTO:+0100
TZNAME:CET
DTSTART:20271031T010000
END:STANDARD
END:VTIMEZONE
BEGIN:VEVENT
DTSTART;TZID=Europe/Prague:20260211T180000
DTEND;TZID=Europe/Prague:20260211T233000
DTSTAMP:20260422T235921
CREATED:20260102T085352Z
LAST-MODIFIED:20260102T085352Z
UID:112992-1770832800-1770852600@rocksound.cz
SUMMARY:THE CALLOUS DAOBOYS\, KNIVES\, FALL FROM EVEREST - Praha
DESCRIPTION:11 / 02 / 2026 / PRAHA / ROCK CAFÉ\nObscure vstupenky: https://obscure.cz/cs/tickets/detail/id/947\nPoctivá mathcore sekanice z Atlanty – to jsou The Callous Daoboys! Ti se teď po dvou letech vrací do Prahy\, tentokrát ale v pozici headlinera – v Rock Café vám 11. února naservírují svoji typickou kombinaci technické přesnosti s chaotickým nábojem a melodickými pasážemi. Pro fanoušky The Dillinger Escape Plan povinnost!\nThe Callous Daoboys od svého vzniku v roce 2016 získávají stále větší pozornost\, díky své nezkrotné energii a naprosto nepředvídatelnému hudebnímu stylu. V jejich tvorbě se mísí technická přesnost s chaotickým nábojem\, brutální breakdowny se prolínají s melodickými pasážemi a vedle kytarových riffů se bez ostychu objevují i prvky popu\, jazzových aranží a nebo orchestrálních zvuků. Kapela si rychle vybudovala pověst nekompromisního inovátora\, který se odmítá držet jakýchkoliv žánrových hranic.\nJejich poslední 3 desky Die on Mars (2019)\, Celebrity Therapist (2022) a letošní I Don’t Want to See You in Heaven jsou důkazem\, že The Callous Daoboys dokáží přetavit hudební chaos v promyšlený a soudržný celek. Texty často kombinují sarkasmus\, společenskou kritiku i surrealistické obrazy\, přičemž vokální projev osciluje mezi výbušným screamem\, mluveným slovem a čistým zpěvem. Hudba kapely působí jako adrenalinová jízda\, která vás nutí držet se pevně\, protože nikdy nevíte\, kam vás v dalším taktu zanese.\nNaživo jsou The Callous Daoboys doslova uragánem. Neustálý pohyb po pódiu\, interakce s publikem a nečekané hudební zvraty z nich dělají jednu z nejvíce nepředvídatelných a zábavných kapel současné mathcorové scény. Každé vystoupení je jedinečnou kombinací precizní hudební techniky a syrového\, nezkrotného výkonu\, který bourá bariéry mezi kapelou a fanoušky. The Callous Daoboys jsou prostě chaos v té nejchytřejší a nejzábavnější podobě.\nFall From Everest je pražská metalcorová čtveřice působící od roku 2015. Kapela kombinuje tvrdé metalcorové riffy s chytlavými melodiemi a výraznými vokály\, čímž vytváří unikátní náladovou rozpolcenost. S několika singly\, EP a albem z roku 2020 si vybudovala pevnou pozici na české scéně\, kde pravidelně boduje energickými koncerty a festivalovými vystoupeními (Rock for People\, Nouvelle Prague\, Fajtfest).\nJejich texty často otevírají vážná témata\, přičemž kapela klade důraz na upřímnost\, autenticitu a propojení s fanoušky.
URL:https://rocksound.cz/akce/the-callous-daoboys-knives-fall-from-everest-praha/
LOCATION:Rock Café Prague\, Národní třída 20\, Praha
ATTACH;FMTTYPE=image/jpeg:https://rocksound.cz/wp-content/uploads/2026/01/585884069_1141805678107978_8090837042938491769_n.jpg
END:VEVENT
END:VCALENDAR