BEGIN:VCALENDAR
VERSION:2.0
PRODID:-//Rocksound - ECPv6.15.18//NONSGML v1.0//EN
CALSCALE:GREGORIAN
METHOD:PUBLISH
X-WR-CALNAME:Rocksound
X-ORIGINAL-URL:https://rocksound.cz
X-WR-CALDESC:Akce na Rocksound
REFRESH-INTERVAL;VALUE=DURATION:PT1H
X-Robots-Tag:noindex
X-PUBLISHED-TTL:PT1H
BEGIN:VTIMEZONE
TZID:Europe/Prague
BEGIN:DAYLIGHT
TZOFFSETFROM:+0100
TZOFFSETTO:+0200
TZNAME:CEST
DTSTART:20250330T010000
END:DAYLIGHT
BEGIN:STANDARD
TZOFFSETFROM:+0200
TZOFFSETTO:+0100
TZNAME:CET
DTSTART:20251026T010000
END:STANDARD
BEGIN:DAYLIGHT
TZOFFSETFROM:+0100
TZOFFSETTO:+0200
TZNAME:CEST
DTSTART:20260329T010000
END:DAYLIGHT
BEGIN:STANDARD
TZOFFSETFROM:+0200
TZOFFSETTO:+0100
TZNAME:CET
DTSTART:20261025T010000
END:STANDARD
BEGIN:DAYLIGHT
TZOFFSETFROM:+0100
TZOFFSETTO:+0200
TZNAME:CEST
DTSTART:20270328T010000
END:DAYLIGHT
BEGIN:STANDARD
TZOFFSETFROM:+0200
TZOFFSETTO:+0100
TZNAME:CET
DTSTART:20271031T010000
END:STANDARD
END:VTIMEZONE
BEGIN:VEVENT
DTSTART;TZID=Europe/Prague:20260212T183000
DTEND;TZID=Europe/Prague:20260212T233000
DTSTAMP:20260422T235921
CREATED:20250718T115943Z
LAST-MODIFIED:20250718T115943Z
UID:106668-1770921000-1770939000@rocksound.cz
SUMMARY:IGORRR - Praha
DESCRIPTION:12 / 02 / 2026 / PRAHA / ROXY\nGOOUT: https://goout.net/cs/igorrr/szvepvx/Obscure vstupenky: https://obscure.cz/cs/tickets/detail/id/924Dále pak ticketmaster a goout.\nKrál hudebního experimentu Igorrr se vrací do Prahy! Tento francouzský vizionář svojí tvorbou dává termínu „boření žánrů“ úplně nový význam\, těžko byste totiž hledali bizarnější hudební kombinaci.\nIgorrrova hudba je jeden velký nezkrotný experiment\, ve kterém se prolínají zdánlivě neslučitelné světy: brutální grindcorové blastbeaty\, pompéznost barokní klasiky\, zběsilost breakcoru\, trip-hopová melancholie i energie balkánské lidové hudby. Výsledkem je intenzivní a vysoce nepředvídatelná hudební smršť\, která balancuje na hraně chaosu a dokonalé kompozice.\nIgorrr začal v roce 2005 jako sólový projekt\, kde zhmotňovla své vize pomocí samplů a elektroniky. Postupně se však vyvinul v plnohodnotnou živou kapelu\, kde nechybí živé bicí\, kytary\, growling\, scream\, operní soprán ani šílená performativní energie. Každý koncert je nejen hudební\, ale i vizuálním zážitkem – fascinující spektákl\, který vás nenechá vydechnout.\nAlba jako Savage Sinusoid (2017) a Spirituality and Distortion (2020) si získala kultovní status díky svému originálnímu přístupu a odvaze bourat žánrové škatulky. V září 2025 je pak naplánováno vydání nového alba Amen\, které opět slibuje posun do neprobádaných hudebních teritorií – temnější hlubší a ještě vrstevnatější.\nIgor není jen hudba – je to výbuch kreativity\, divoký karneval emocí a surové energie\, který propojuje fanoušky metalu\, elektroniky i klasiky. Pokud hledáte něco\, co vás naprosto vytrhne ze stereotypu a přinutí přehodnotit\, kde leží hranice možného\, pak je Igorrr zážitek\, který nesmíte minout. Nejbližší možnost budete mít 12. února v pražské Roxy!
URL:https://rocksound.cz/akce/igorrr-praha/
LOCATION:Roxy Prague\, Dlouhá 33\, Praha
ATTACH;FMTTYPE=image/jpeg:https://rocksound.cz/wp-content/uploads/2025/07/506837211_1018601683761712_6153892863538524054_n.jpg
END:VEVENT
BEGIN:VEVENT
DTSTART;TZID=Europe/Prague:20260212T190000
DTEND;TZID=Europe/Prague:20260212T233000
DTSTAMP:20260422T235921
CREATED:20250922T182349Z
LAST-MODIFIED:20250922T182349Z
UID:110227-1770922800-1770939000@rocksound.cz
SUMMARY:grandson - Praha
DESCRIPTION:Grandson se vrací do Česka! Po bouřlivém úspěchu na Rock for People 2025 se oblíbenec tuzemských fans chystá odpálit 12. února SaSaZu se svou sólovou show. Jako speciální host vystoupí VOWER.\n Vstupenky v prodeji od 5. září\, 11:00\, na GoOut https://goout.net/cs/grandson/szfmtxx/.\nGrandson je hudebník se zálibou v alternativní muzice. Pochází z malého města Englewood v New Jersey a v mládí se přestěhoval do Toronta – kulturního epicentra – kde vyrůstal obklopen hudbou od jazzu přes rock and roll až po rap\, dancehall a r&b.\nHudebník našel svůj hlas a smysl v dnešním rozděleném a chaotickém světě. Prostřednictvím svých songů se vyrovnává s nejpalčivějšími problémy své generace\, jako je finanční nerovnost\, vládní a ekologická odpovědnost nebo sociální spravedlnost. Tím dává těmto tématům soundtrack se spalující naléhavostí a frustrací.\nGrandson\, známý pro své ostré společenské komentáře (viz průlomový singl „Blood // Water“) i emotivní a osobní příběhy (například „Heather“)\, chystá své třetí studiové album s názvem „INERTIA“. A podle jeho slov bude temnější\, tvrdší a nekompromisnější než cokoli\, co dosud vydal.\n„INERTIA“ ukazuje grandsonovu hudbu v ještě syrovější a divočejší podobě. Hlavním tématem desky je myšlenka rostoucí potřeby třídní solidarity – tedy uvědomění si\, že lidé napříč politickým spektrem mohou získat sílu\, když se spojí proti privilegované menšině. Tohle poselství se odráží i v samotné hudbě: masivní kytarové riffy\, agresivní rapové pasáže\, strhující refrény a celková energie\, která působí jako bojový pokřik za spravedlnost.
URL:https://rocksound.cz/akce/grandson-praha/
LOCATION:SaSaZu\, Praha\, Bubenské nábřeží 306\, Praha
ATTACH;FMTTYPE=image/jpeg:https://rocksound.cz/wp-content/uploads/2025/09/539421641_1301203661373624_5228796551312074252_n.jpg
END:VEVENT
END:VCALENDAR