BEGIN:VCALENDAR
VERSION:2.0
PRODID:-//Rocksound - ECPv6.15.18//NONSGML v1.0//EN
CALSCALE:GREGORIAN
METHOD:PUBLISH
X-WR-CALNAME:Rocksound
X-ORIGINAL-URL:https://rocksound.cz
X-WR-CALDESC:Akce na Rocksound
REFRESH-INTERVAL;VALUE=DURATION:PT1H
X-Robots-Tag:noindex
X-PUBLISHED-TTL:PT1H
BEGIN:VTIMEZONE
TZID:Europe/Prague
BEGIN:DAYLIGHT
TZOFFSETFROM:+0100
TZOFFSETTO:+0200
TZNAME:CEST
DTSTART:20250330T010000
END:DAYLIGHT
BEGIN:STANDARD
TZOFFSETFROM:+0200
TZOFFSETTO:+0100
TZNAME:CET
DTSTART:20251026T010000
END:STANDARD
BEGIN:DAYLIGHT
TZOFFSETFROM:+0100
TZOFFSETTO:+0200
TZNAME:CEST
DTSTART:20260329T010000
END:DAYLIGHT
BEGIN:STANDARD
TZOFFSETFROM:+0200
TZOFFSETTO:+0100
TZNAME:CET
DTSTART:20261025T010000
END:STANDARD
BEGIN:DAYLIGHT
TZOFFSETFROM:+0100
TZOFFSETTO:+0200
TZNAME:CEST
DTSTART:20270328T010000
END:DAYLIGHT
BEGIN:STANDARD
TZOFFSETFROM:+0200
TZOFFSETTO:+0100
TZNAME:CET
DTSTART:20271031T010000
END:STANDARD
END:VTIMEZONE
BEGIN:VEVENT
DTSTART;TZID=Europe/Prague:20260224T180000
DTEND;TZID=Europe/Prague:20260224T233000
DTSTAMP:20260422T235924
CREATED:20260102T094116Z
LAST-MODIFIED:20260102T094116Z
UID:113003-1771956000-1771975800@rocksound.cz
SUMMARY:SANGUISUGABOGG\, FULCI\, GATES TO HELL\, CELESTIAL SANCTUARY - Praha
DESCRIPTION:24 / 02 / 2026 / PRAHA / ROCK CAFÉ\nProdej začíná 22.08.2025Obscure vstupenky: https://obscure.cz/sk/tickets/detail/id/949Ticketmaster a goout: https://goout.net/…/sanguisugabogg%2Bfulci…/szygwxx/\nAmerická smečka Sanguisugabogg je synonymem pro špinavý\, surový a absolutně nekompromisní slam death metal. Na světovou scénu vrthli v roce 2019 jako buldozer a během pár let se z undergroundového fenoménu stali jednou z nejžádanějších kapel současného extrémního metalu – vy se o jejich brutální energii budete moct přesvědčit 24. února v pražském Rock Café. O pořádně prohnilý support se postarají italové Fulci\, američané Gates to Hell a britové Celestial Sanctuary.\nDebutová deska Sanguisugabogg nazvaná Tortured Whole nakopl deathmetalovou scénu brutální dávkou oldschoolového hnusu a slamu\, zatímco pokračování Homicidal Ecstasy jen potvrdilo\, že tihle chlapi nejsou žádná jednorázová senzace\, ale mašina na neustálý tlak a extrém. Naživo je jejich show naprosto devastující – těžké riffy\, hutný zvuk a moshpit\, který si vás prostě podmaní. Sanguisugabogg si rychle získávají status kapely\, kterou prostě musíte vidět\, pokud milujete extrémní muziku. Jejich koncerty jsou kombinací brutální energie\, temného humoru a totální oddanosti death metalu. Připravte se na večer\, kdy neexistují žádné zábrany – jen syrový\, těžkotonážní nářez\, který vás pohltí od prvního tónu.\nSuport obstarají italští řezníci Fulci\, kteří svojí brutální tvorbou vzdávají holt legendě italského hororového filmu\, režisérovi Lucio Fulci\, sekundovat jim budou američtí Gates To Hell se svým ojedinělým mixem death metalu\, hardcoru a grindcoru a soupisku uzavřou britští Celestial Sanctuary.
URL:https://rocksound.cz/akce/sanguisugabogg-fulci-gates-to-hell-celestial-sanctuary-praha/
LOCATION:Rock Café Prague\, Národní třída 20\, Praha
ATTACH;FMTTYPE=image/jpeg:https://rocksound.cz/wp-content/uploads/2026/01/536269396_1067420532213160_7840265816621987707_n.jpg
END:VEVENT
END:VCALENDAR