BEGIN:VCALENDAR
VERSION:2.0
PRODID:-//Rocksound - ECPv6.15.18//NONSGML v1.0//EN
CALSCALE:GREGORIAN
METHOD:PUBLISH
X-WR-CALNAME:Rocksound
X-ORIGINAL-URL:https://rocksound.cz
X-WR-CALDESC:Akce na Rocksound
REFRESH-INTERVAL;VALUE=DURATION:PT1H
X-Robots-Tag:noindex
X-PUBLISHED-TTL:PT1H
BEGIN:VTIMEZONE
TZID:Europe/Prague
BEGIN:DAYLIGHT
TZOFFSETFROM:+0100
TZOFFSETTO:+0200
TZNAME:CEST
DTSTART:20250330T010000
END:DAYLIGHT
BEGIN:STANDARD
TZOFFSETFROM:+0200
TZOFFSETTO:+0100
TZNAME:CET
DTSTART:20251026T010000
END:STANDARD
BEGIN:DAYLIGHT
TZOFFSETFROM:+0100
TZOFFSETTO:+0200
TZNAME:CEST
DTSTART:20260329T010000
END:DAYLIGHT
BEGIN:STANDARD
TZOFFSETFROM:+0200
TZOFFSETTO:+0100
TZNAME:CET
DTSTART:20261025T010000
END:STANDARD
BEGIN:DAYLIGHT
TZOFFSETFROM:+0100
TZOFFSETTO:+0200
TZNAME:CEST
DTSTART:20270328T010000
END:DAYLIGHT
BEGIN:STANDARD
TZOFFSETFROM:+0200
TZOFFSETTO:+0100
TZNAME:CET
DTSTART:20271031T010000
END:STANDARD
END:VTIMEZONE
BEGIN:VEVENT
DTSTART;TZID=Europe/Prague:20260228T190000
DTEND;TZID=Europe/Prague:20260228T233000
DTSTAMP:20260422T235925
CREATED:20260122T195339Z
LAST-MODIFIED:20260122T195339Z
UID:113416-1772305200-1772321400@rocksound.cz
SUMMARY:XIII. století + special guest: Still Patient? - Praha
DESCRIPTION:XIII. STOLETÍ + special guest: Still Patient? (DE)Sobota 28. února 2026\, od 19:00Palác Akropolis\, Kubelíkova 27\, Praha 3\n———\nLegendární jihlavská formace XIII. století se po roce vrací do pražského Paláce Akropolis\, aby svým fanouškům připomněla\, že temnota nikdy nespí. Petr Štěpán a jeho vlkodlačí smečka patří už tři desetiletí k nejvýraznějším ikonám domácí gothicrockové scény a každý jejich koncert v metropoli se stává malým svátkem všech milovníků temné romantiky\, gotických příběhů a nesmrtelných refrénů.\nTentokrát přijedou XIII. století s plnohodnotným koncertním setem\, který připomene zásadní momenty z jejich bohaté diskografie. Pražské vystoupení bude opět výjimečnou příležitostí zažít atmosféru\, která z této kapely udělala fenomén dalece přesahující hranice gotického žánru.\nSpeciálním hostem večera budou Still Patient? – letitá gothicrocková kapela z Německa\, která po svém návratu na scénu dokazuje\, že i po třech dekádách dokáže spojit melancholii s elektrizující energií. Jejich temné hymny\, v nichž se mísí klasický post-punk s moderním temně-rockovým zvukem\, zněly na největších evropských festivalech (Wave Gotik Treffen\, Castle Party ad.) a v únoru je konečně uslyšíme i v Praze.\nVstupné: 450 Kč + poplatky (předprodej GoOut.cz\, pokladna Paláce Akropolis)\, 550 Kč na místě\nVíce informací na:www.xiiistoletimerch.comwww.stillpatient.dewww.sanctuary.czwww.facebook.com/sanctuarycz
URL:https://rocksound.cz/akce/xiii-stoleti-special-guest-still-patient-praha/
LOCATION:Palác Akropolis\, Kubelíkova 1548/27 130 00\, Praha 3-Žižkov
ATTACH;FMTTYPE=image/jpeg:https://rocksound.cz/wp-content/uploads/2026/01/580574729_1408043884665278_6850738151065659935_n.jpg
END:VEVENT
END:VCALENDAR