BEGIN:VCALENDAR
VERSION:2.0
PRODID:-//Rocksound - ECPv6.15.18//NONSGML v1.0//EN
CALSCALE:GREGORIAN
METHOD:PUBLISH
X-WR-CALNAME:Rocksound
X-ORIGINAL-URL:https://rocksound.cz
X-WR-CALDESC:Akce na Rocksound
REFRESH-INTERVAL;VALUE=DURATION:PT1H
X-Robots-Tag:noindex
X-PUBLISHED-TTL:PT1H
BEGIN:VTIMEZONE
TZID:Europe/Prague
BEGIN:DAYLIGHT
TZOFFSETFROM:+0100
TZOFFSETTO:+0200
TZNAME:CEST
DTSTART:20250330T010000
END:DAYLIGHT
BEGIN:STANDARD
TZOFFSETFROM:+0200
TZOFFSETTO:+0100
TZNAME:CET
DTSTART:20251026T010000
END:STANDARD
BEGIN:DAYLIGHT
TZOFFSETFROM:+0100
TZOFFSETTO:+0200
TZNAME:CEST
DTSTART:20260329T010000
END:DAYLIGHT
BEGIN:STANDARD
TZOFFSETFROM:+0200
TZOFFSETTO:+0100
TZNAME:CET
DTSTART:20261025T010000
END:STANDARD
BEGIN:DAYLIGHT
TZOFFSETFROM:+0100
TZOFFSETTO:+0200
TZNAME:CEST
DTSTART:20270328T010000
END:DAYLIGHT
BEGIN:STANDARD
TZOFFSETFROM:+0200
TZOFFSETTO:+0100
TZNAME:CET
DTSTART:20271031T010000
END:STANDARD
END:VTIMEZONE
BEGIN:VEVENT
DTSTART;TZID=Europe/Prague:20260306T183000
DTEND;TZID=Europe/Prague:20260306T233000
DTSTAMP:20260422T235917
CREATED:20260111T182651Z
LAST-MODIFIED:20260111T182651Z
UID:113262-1772821800-1772839800@rocksound.cz
SUMMARY:KATAKLYSM\, VADER\, BLOOD RED THRONE - Brno
DESCRIPTION:06 / 03 / 2026 / BRNO / FLÉDA\nObscure vstupenky: https://obscure.cz/cs/tickets/detail/id/971\nTři veteráni světové deathmetalové scény vyráží na společné turné – Kataklysm\, Vader a Blood Red Throne. Každá z těchto kapel představuje jiný pohled na extrémní žánr – společné vystoupení tak slibuje večer\, který prověří odolnost každého fanuška death metalu – bez kompromisů\, bez oddechu a v duchu čisté devastace.\nKataklysm z Kanady patří mezi nejdéle působící a nejinspirativnější formace moderního death metalu. Od počátků v 90. letech rozvíjejí svůj charakteristický styl „Northern Hyperblast“\, který kombinuje agresivní tempo s melodickými kytarami a hymnickou atmosférou. Desky jako Shadows & Dust nebo In the Arms of Devastation se staly klasikami žánru a i po třech dekádách Kataklysm dokazují\, že energie a přesvědčivost jsou stále jejich největšími zbraněmi.\nVader z Polska jsou skutečnou institucí evropského death metalu. Od svého vzniku v roce 1983 si vybudovali pověst kapely\, která nikdy neslevila z intenzity ani rychlosti. Jejich hudba je syrová\, přesná a válečně nabitá — riffy se řežou jako bajonety a Piotr Wiwczarek zůstává jedním z nejcharismatičtějších frontmanů scény. Vader jsou zárukou neúprosného\, poctivého death metalu\, který zní stejně brutálně dnes jako před třiceti lety.\nBlood Red Throne přinášejí na pódium typickou norskou školu – chladnou\, přesnou a krví nasáklou. Od založení v roce 1998 se drží nekompromisního deathmetalového jádra\, přičemž jejich tvorba čerpá jak z klasických amerických vlivů\, tak ze severské temnoty. S albem Imperial Congregation (2021) potvrdili\, že i po více než dvou dekádách zůstávají jedním z nejautentičtějších hlasů extrémní scény.
URL:https://rocksound.cz/akce/kataklysm-vader-blood-red-throne-brno/
LOCATION:Fléda Club\, Štefánikova 24\, Brno
ATTACH;FMTTYPE=image/jpeg:https://rocksound.cz/wp-content/uploads/2026/01/564806720_1112847627670450_7645108030072983637_n.jpg
END:VEVENT
BEGIN:VEVENT
DTSTART;TZID=Europe/Prague:20260306T190000
DTEND;TZID=Europe/Prague:20260306T230000
DTSTAMP:20260422T235917
CREATED:20260111T165851Z
LAST-MODIFIED:20260111T165851Z
UID:113236-1772823600-1772838000@rocksound.cz
SUMMARY:Sullivan King - Praha
DESCRIPTION:OZNAMUJEME  Sullivan King\nSullivan King dělá hudbu\, která boří pódia\, což fanouškům předvedl na letošním Rock for People. Jeho dravé spojení rocku a EDM rozhýbe i ten nejtvrdší dav. Se svým novým EP “CHAOS WILL BRING PEACE” přijede už 6. března 2026 do pražského Futurum Music Baru.\nVstupenky v prodeji od 21. listopadu\, 10:00\, na GoOut https://goout.net/cs/sullivan-king/szaiody/.\nAmerický producent\, kytarista\, zpěvák a skladatel Sullivan King vyrůstal na post-hardcoru a dubstepu. Teď tyhle žánry spojuje a vytváří si vlastní místo na elektronické a alternativní scéně. Jeho spolupráce s Excision\, Aaronem Gillespiem (Underoath)\, Papa Roach\, Jasonem Aalonem Butlerem (letlive./Fever 333)\, Ice Nine Kills či Timmy Trumpetem potvrzují\, že se s ním musí počítat.Sullivan je známý svými jedinečnými živými vystoupeními – hraje na kytaru\, zpívá\, mixuje a přitom stíhá skákat do davu. Přesně tohle předvede i v Praze s novým EP\, na němž se podílel mimo jiné i legendární basketbalista Shaquille O’Neal.
URL:https://rocksound.cz/akce/sullivan-king-praha/
LOCATION:Futurum Music Bar\, Zborovská 7\, Praha
ATTACH;FMTTYPE=image/jpeg:https://rocksound.cz/wp-content/uploads/2026/01/586237587_122105115087105481_9085550571958595971_n.jpg
END:VEVENT
BEGIN:VEVENT
DTSTART;TZID=Europe/Prague:20260306T190000
DTEND;TZID=Europe/Prague:20260306T233000
DTSTAMP:20260422T235917
CREATED:20250724T090729Z
LAST-MODIFIED:20250724T090729Z
UID:106855-1772823600-1772839800@rocksound.cz
SUMMARY:Alice Merton - Praha
DESCRIPTION:Kanadsko-německá zpěvačka Alice Merton s nezaměnitelným hlasem se vrací do Prahy! Svou třaskavou směs popu a rocku přiveze 6. března 2026 do klubu Rock Café.\n Vstupenky jsou právě v prodeji na GoOut https://goout.net/cs/alice-merton/szmqwux/.\nAlice Merton se nesporně stala známou jako “the girl with no roots”. Zpěvaččina poslední kapitola začala v roce 2024 vydáním alba Heron. V tomto EP se její myšlenky obracejí dovnitř a místo hledání domova ve vnějším světě se jej snaží nalézt uvnitř sebe a klade si otázku všech otázek: kým mám být a jak dobře se vůbec znám?\nPřemítá o vlastním štěstí ve světě\, kde jsme neustále ovlivňovaní názory jiných lidí na to\, co je pro ně štěstí\, zejména prostřednictvím sociálních sítí. Stalo se téměř nemožným odfiltrovat šum a položit si otázku: „Co od života skutečně chceme a jak dobře se vůbec známe? Dokážeme nezávisle najít spokojenost\, aniž bychom byli bombardovaní definicemi všech ostatních?“.\nA nyní Alice Merton vstupuje do nové vzrušující kapitoly. V březnu 2026 ji čeká turné po Evropě – se zastávkami v Mnichově\, Berlíně\, Praze\, Miláně\, Londýně\, Paříži a dalších městech. Tato koncertní šňůra slibuje nejen cestu přes všechny oblíbené skladby od No Roots po Heron\, ale i novou hudbu.
URL:https://rocksound.cz/akce/alice-merton-praha/
LOCATION:Rock Café Prague\, Národní třída 20\, Praha
ATTACH;FMTTYPE=image/jpeg:https://rocksound.cz/wp-content/uploads/2025/07/520613504_1269300057897318_8351786664011171767_n.jpg
END:VEVENT
END:VCALENDAR