BEGIN:VCALENDAR
VERSION:2.0
PRODID:-//Rocksound - ECPv6.15.18//NONSGML v1.0//EN
CALSCALE:GREGORIAN
METHOD:PUBLISH
X-ORIGINAL-URL:https://rocksound.cz
X-WR-CALDESC:Akce na Rocksound
REFRESH-INTERVAL;VALUE=DURATION:PT1H
X-Robots-Tag:noindex
X-PUBLISHED-TTL:PT1H
BEGIN:VTIMEZONE
TZID:Europe/Prague
BEGIN:DAYLIGHT
TZOFFSETFROM:+0100
TZOFFSETTO:+0200
TZNAME:CEST
DTSTART:20250330T010000
END:DAYLIGHT
BEGIN:STANDARD
TZOFFSETFROM:+0200
TZOFFSETTO:+0100
TZNAME:CET
DTSTART:20251026T010000
END:STANDARD
BEGIN:DAYLIGHT
TZOFFSETFROM:+0100
TZOFFSETTO:+0200
TZNAME:CEST
DTSTART:20260329T010000
END:DAYLIGHT
BEGIN:STANDARD
TZOFFSETFROM:+0200
TZOFFSETTO:+0100
TZNAME:CET
DTSTART:20261025T010000
END:STANDARD
BEGIN:DAYLIGHT
TZOFFSETFROM:+0100
TZOFFSETTO:+0200
TZNAME:CEST
DTSTART:20270328T010000
END:DAYLIGHT
BEGIN:STANDARD
TZOFFSETFROM:+0200
TZOFFSETTO:+0100
TZNAME:CET
DTSTART:20271031T010000
END:STANDARD
END:VTIMEZONE
BEGIN:VEVENT
DTSTART;TZID=Europe/Prague:20260309T190000
DTEND;TZID=Europe/Prague:20260309T233000
DTSTAMP:20260423T014347
CREATED:20260111T171556Z
LAST-MODIFIED:20260111T171556Z
UID:113242-1773082800-1773099000@rocksound.cz
SUMMARY:The Haunt + special guest: Himalayas - Praha
DESCRIPTION:The Haunt na letošním Rock for People dokázali\, že jim rock doslova proudí v žilách! Teď oznamují návrat do Česka se sólovou show a speciálním hostem Himalayas. Kapela vystoupí 9. března 2026 v pražském klubu Bike Jesus.\nVstupenky v prodeji od 15. prosince\, 11:00\, na GoOut https://goout.net/…/the-haunt%2Bspecial-guest…/szhmeey/.\nKrása\, která vzniká někde mezi světlem a stínem\, často leží uprostřed extrémů. The Haunt umí mistrně pracovat s kontrasty. Propojují zastřený\, emotivní zpěv s filmově znějícími zvukovými plochami\, které doplňuje napínavá rocková energie\, glitchové syntezátorové linky a jemné goticky laděné elektronické prvky.\nTahle floridská kapela\, kterou založili sourozenci Anastasia Grace Haunt (zpěv) a Maxamillion „Max“ Haunt (kytara\, produkce)\, si vybudovala vlastní nezaměnitelný styl. Je v něm cítit jak jazz-popová temnota\, tak i pečlivě řízený industriální chaos.
URL:https://rocksound.cz/akce/the-haunt-special-guest-himalayas-praha/
LOCATION:Bike Jesus\, Praha\, ostrov Štvanice 1125\, Praha
ATTACH;FMTTYPE=image/jpeg:https://rocksound.cz/wp-content/uploads/2026/01/597916889_122110101381105481_5734722379087188503_n.jpg
END:VEVENT
BEGIN:VEVENT
DTSTART;TZID=Europe/Prague:20260309T193000
DTEND;TZID=Europe/Prague:20260309T233000
DTSTAMP:20260423T014347
CREATED:20260216T185945Z
LAST-MODIFIED:20260216T185945Z
UID:113699-1773084600-1773099000@rocksound.cz
SUMMARY:Danny Worsnop + Tyler Rich - Praha
DESCRIPTION:Nezaměnitelný hlas Dannyho Worsnopa je známý z kapel Asking Alexandria a We Are Harlot. S Asking Alexandria několikrát obletěl svět a získal tisíce věrných fanoušků. Na svém sólovém projektu ale míří úplně jinam – do světa country rocku\, blues a amerických kořenů. Přesně tak se představí už 9. března 2026 na exkluzivním koncertě v pražském Café V lese\, kde ho doplní jeden z nejvýraznějších hlasů americké country scény – Tyler Rich. Předem upozorňujeme\, že kapacita koncertu bude velmi omezená. Doporučujeme vstupenku pořídit hned.\nVstupenky v prodeji právě teď na GoOut https://goout.net/cz/danny-worsnop+tyler-rich/szuaufy/.\nDannyho sólová tvorba stojí na kontrastu. Drsnost blues\, vypravěčskou tradici country a duši klasického rocku mísí tak\, jako by vám vypadli ze snu. Po country debutu rozšířil svůj zvuk na albu Shades of Blue (2019)\, kde se otevřel soulu i pochmurnějším náladám a ve svých textech mluví o životě prožitém na plné obrátky.\nPřijede s ním zpěvák Tyler Rich\, který vyrostl na country legendách jako Garth Brooks a John Denver\, ale i na Creedence Clearwater Revival. Jeho moderní country s chytlavými refrény mu vyneslo přes půl miliardy streamů.
URL:https://rocksound.cz/akce/danny-worsnop-tyler-rich-praha/
LOCATION:Café V Lese\, Praha\, Krymská 12\, Praha
ATTACH;FMTTYPE=image/jpeg:https://rocksound.cz/wp-content/uploads/2026/02/623380967_122118280755105481_3698560273755047358_n.jpg
END:VEVENT
END:VCALENDAR