BEGIN:VCALENDAR
VERSION:2.0
PRODID:-//Rocksound - ECPv6.15.18//NONSGML v1.0//EN
CALSCALE:GREGORIAN
METHOD:PUBLISH
X-ORIGINAL-URL:https://rocksound.cz
X-WR-CALDESC:Akce na Rocksound
REFRESH-INTERVAL;VALUE=DURATION:PT1H
X-Robots-Tag:noindex
X-PUBLISHED-TTL:PT1H
BEGIN:VTIMEZONE
TZID:Europe/Prague
BEGIN:DAYLIGHT
TZOFFSETFROM:+0100
TZOFFSETTO:+0200
TZNAME:CEST
DTSTART:20250330T010000
END:DAYLIGHT
BEGIN:STANDARD
TZOFFSETFROM:+0200
TZOFFSETTO:+0100
TZNAME:CET
DTSTART:20251026T010000
END:STANDARD
BEGIN:DAYLIGHT
TZOFFSETFROM:+0100
TZOFFSETTO:+0200
TZNAME:CEST
DTSTART:20260329T010000
END:DAYLIGHT
BEGIN:STANDARD
TZOFFSETFROM:+0200
TZOFFSETTO:+0100
TZNAME:CET
DTSTART:20261025T010000
END:STANDARD
BEGIN:DAYLIGHT
TZOFFSETFROM:+0100
TZOFFSETTO:+0200
TZNAME:CEST
DTSTART:20270328T010000
END:DAYLIGHT
BEGIN:STANDARD
TZOFFSETFROM:+0200
TZOFFSETTO:+0100
TZNAME:CET
DTSTART:20271031T010000
END:STANDARD
END:VTIMEZONE
BEGIN:VEVENT
DTSTART;TZID=Europe/Prague:20260312T190000
DTEND;TZID=Europe/Prague:20260312T233000
DTSTAMP:20260423T014515
CREATED:20260111T184525Z
LAST-MODIFIED:20260111T184525Z
UID:113274-1773342000-1773358200@rocksound.cz
SUMMARY:FIVE THE HIEROPHANT - Praha
DESCRIPTION:12 / 03 / 2026 / PRAHA / MODRÁ VOPICE\nObscure vstupenky: https://obscure.cz/cs/tickets/detail/id/1004Dále pak ticketmaster a goout.\nTemný\, ponurý a drtivý zvuk\, který spojuje těžké riffy\, drone atmosféru a intenzitu\, jakou najdete jen v Black Metalu. Five the Hierophant s naprosto netypickým nástrojovým obsazením přijíždí do pražské Modré Vopice\, aby zde předvedli to nejlepší ze své tvorby. Už 12. března!\nFive the Hierophant je britská kapela z Londýna\, založená v roce 2014. Jejich hudba je těžko zařaditelná do jednoho žánru — mísí prvky doom metalu\, post-metalu\, black metalu\, ambientu\, jazzu a experimentální hudby. Jejím charakteristickým rysem je\, že je téměř zcela instrumentální — vokál je v podstatě zanedbatelný nebo absentuje\, což dává prostoru pro atmosféru a experiment.\nKapela je známá svým originálním zvukem: využívá vedle klasické metalové sestavy i netradiční nástroje\, jako saxofon\, smyčcové nástroje\, různé druhy bicích\, djembe\, gongy a další perkusní či atmosférické nástroje — to jejich hudbu posouvá směrem k ambientu\, psychedelii i rituální atmosféře. Jejich tvorba často působí jako hypnotická\, snová a na hranici experimentu\, bez typické metalové struktury skladeb.\nV diskografii stojí za zmínku debutové album Over Phlegethon (2017)\, které už ukázalo směr kapely — temný\, psychedelický doom s razancí a atmosférou. Další výraznou deskou je Through Aureate Void (2021)\, na které kapela posunula experiment ještě dál a výsledkem jsou rozvleklé\, ambientní\, jazzem prosycené kompozice bez zpěvu. V roce 2024 vydali své zatím nejnovější album Apeiron\, které kapelu představuje v nejzralejší formě — s bohatou instrumentací\, výrazně atmosférickým\, hypnotickým a snovým zvukem.
URL:https://rocksound.cz/akce/five-the-hierophant-praha/
LOCATION:MusicClub Modrá Vopice\, Spojovací 1901/12\, Praha
ATTACH;FMTTYPE=image/jpeg:https://rocksound.cz/wp-content/uploads/2026/01/594524441_1151868867101659_5664920803191010870_n.jpg
END:VEVENT
END:VCALENDAR