BEGIN:VCALENDAR
VERSION:2.0
PRODID:-//Rocksound - ECPv6.15.18//NONSGML v1.0//EN
CALSCALE:GREGORIAN
METHOD:PUBLISH
X-ORIGINAL-URL:https://rocksound.cz
X-WR-CALDESC:Akce na Rocksound
REFRESH-INTERVAL;VALUE=DURATION:PT1H
X-Robots-Tag:noindex
X-PUBLISHED-TTL:PT1H
BEGIN:VTIMEZONE
TZID:Europe/Prague
BEGIN:DAYLIGHT
TZOFFSETFROM:+0100
TZOFFSETTO:+0200
TZNAME:CEST
DTSTART:20250330T010000
END:DAYLIGHT
BEGIN:STANDARD
TZOFFSETFROM:+0200
TZOFFSETTO:+0100
TZNAME:CET
DTSTART:20251026T010000
END:STANDARD
BEGIN:DAYLIGHT
TZOFFSETFROM:+0100
TZOFFSETTO:+0200
TZNAME:CEST
DTSTART:20260329T010000
END:DAYLIGHT
BEGIN:STANDARD
TZOFFSETFROM:+0200
TZOFFSETTO:+0100
TZNAME:CET
DTSTART:20261025T010000
END:STANDARD
BEGIN:DAYLIGHT
TZOFFSETFROM:+0100
TZOFFSETTO:+0200
TZNAME:CEST
DTSTART:20270328T010000
END:DAYLIGHT
BEGIN:STANDARD
TZOFFSETFROM:+0200
TZOFFSETTO:+0100
TZNAME:CET
DTSTART:20271031T010000
END:STANDARD
END:VTIMEZONE
BEGIN:VEVENT
DTSTART;TZID=Europe/Prague:20260313T190000
DTEND;TZID=Europe/Prague:20260313T233000
DTSTAMP:20260423T014456
CREATED:20260111T185041Z
LAST-MODIFIED:20260111T185041Z
UID:113277-1773428400-1773444600@rocksound.cz
SUMMARY:LUICIDAL (OG SUICIDAL TENDENCIES MEMBERS)\, LOCO MUERTE - Praha
DESCRIPTION:13 / 03 / 2026 / PRAHA / SUBZERO PRAGUE\nObscure vstupenky: https://obscure.cz/cs/tickets/detail/id/1011Dále pak ticketmaster a goout.\nOGs of Suicidal Tendencies se řítí na Prahu!\nAmerická kapela Luicidal přiváží do Prahy ryzí crossover thrash z Venice Beach\, v čemž jim pomůžou jejich francouzšří bratři Locomuerte! Tohle bude moshpitová jízda\, která v pražském klubu Subzero nenechá kámen na kameni – už 13. března!Luicidal nejsou jen dalším nostalgickým projektem; je to přímá genetická linie žánru\, který definoval srážku punkové drzosti a thrashmetalové preciznosti. Baskytarista Louiche Mayorga\, spoluautor nesmrtelných riffů na debutu ST a desce Join the Army\, tvoří spolu s bubeníkem RJ Herrerou rytmické srdce\, které kdysi pumpovalo krev do žil celé Venice scéně. Luicidal vrací crossover ke kořenům – k těm\, které voní po asfaltu skateparků a slané vodě Pacifiku. Jejich sety jsou přehlídkou technické suverenity a nefalšovaného „cyco“ šílenství\, které vás nenechá stát v koutě.\nFrancouzská úderka Locomuerte pak do večera vlije horkou krev svým specifickým „Cholo-core“ stylem. Ačkoliv pocházejí z Evropy\, jejich projev\, dravost a španělsky štěkané texty evokují ty nejdrsnější gangy z L.A. Jejich crossover thrash je moderní\, neuvěřitelně energický a disponuje groovem\, který drtí kosti. Locomuerte jsou vyhlášení svou živelnou show\, kde hranice mezi pódiem a publikem mizí v prachu moshpitu. Pokud hledáte esenci latinskoamerického temperamentu přetavenou do hardcorové agrese\, tohle je vaše cílová destinace.
URL:https://rocksound.cz/akce/luicidal-og-suicidal-tendencies-members-loco-muerte-praha/
LOCATION:Subzero Prague\, Nádražní 349/3\, Praha
ATTACH;FMTTYPE=image/jpeg:https://rocksound.cz/wp-content/uploads/2026/01/611336968_1174219161533296_4622903907127985611_n.jpg
END:VEVENT
BEGIN:VEVENT
DTSTART;TZID=Europe/Prague:20260313T190000
DTEND;TZID=Europe/Prague:20260313T233000
DTSTAMP:20260423T014456
CREATED:20260111T194359Z
LAST-MODIFIED:20260111T194359Z
UID:113304-1773428400-1773444600@rocksound.cz
SUMMARY:TRAUTENBERK + host Cocotte Minute - Hradec Králové
DESCRIPTION:Trautenberk vyráží na oslavnou šňůru veselic u příležitosti vydání páteho řadového alba s poetickým názvem „Sojčí teror“\nvstupenky: https://tickethk.cz/event/trautenberk\nProstě hodit bůčkem v rytmu tanzmetalu\, to chceš. Tak neleň a přijď slavit s námi. Uděláme si to hezký!\nMůžeš se těšit na parádního hosta Cocotte Minute\, extra svůdnost naší Aničky a rohlík od ucha k uchu.
URL:https://rocksound.cz/akce/trautenberk-host-cocotte-minute-hradec-kralove/
LOCATION:MOOD Hradec Králové\, Pilnáčkova 543\, Hradec Králové
ATTACH;FMTTYPE=image/jpeg:https://rocksound.cz/wp-content/uploads/2026/01/589175786_1151632763666237_8967724169743540486_n.jpg
END:VEVENT
BEGIN:VEVENT
DTSTART;TZID=Europe/Prague:20260313T190000
DTEND;TZID=Europe/Prague:20260313T233000
DTSTAMP:20260423T014456
CREATED:20260309T191452Z
LAST-MODIFIED:20260309T191452Z
UID:114012-1773428400-1773444600@rocksound.cz
SUMMARY:XIII. STOLETÍ - Ostrava
DESCRIPTION:Legendární XIII.Století se na den přesně vrátí do ostravského klubu Barrak a tentokrát stylově – v pátek 13.března 2026.
URL:https://rocksound.cz/akce/xiii-stoleti-ostrava-4/
LOCATION:Barrák Music Club Ostrava\, Fügnerova 595/1\, Ostrava
ATTACH;FMTTYPE=image/jpeg:https://rocksound.cz/wp-content/uploads/2026/03/498641385_1509590443772158_4562483434177049284_n.jpg
END:VEVENT
END:VCALENDAR