BEGIN:VCALENDAR
VERSION:2.0
PRODID:-//Rocksound - ECPv6.15.18//NONSGML v1.0//EN
CALSCALE:GREGORIAN
METHOD:PUBLISH
X-ORIGINAL-URL:https://rocksound.cz
X-WR-CALDESC:Akce na Rocksound
REFRESH-INTERVAL;VALUE=DURATION:PT1H
X-Robots-Tag:noindex
X-PUBLISHED-TTL:PT1H
BEGIN:VTIMEZONE
TZID:Europe/Prague
BEGIN:DAYLIGHT
TZOFFSETFROM:+0100
TZOFFSETTO:+0200
TZNAME:CEST
DTSTART:20250330T010000
END:DAYLIGHT
BEGIN:STANDARD
TZOFFSETFROM:+0200
TZOFFSETTO:+0100
TZNAME:CET
DTSTART:20251026T010000
END:STANDARD
BEGIN:DAYLIGHT
TZOFFSETFROM:+0100
TZOFFSETTO:+0200
TZNAME:CEST
DTSTART:20260329T010000
END:DAYLIGHT
BEGIN:STANDARD
TZOFFSETFROM:+0200
TZOFFSETTO:+0100
TZNAME:CET
DTSTART:20261025T010000
END:STANDARD
BEGIN:DAYLIGHT
TZOFFSETFROM:+0100
TZOFFSETTO:+0200
TZNAME:CEST
DTSTART:20270328T010000
END:DAYLIGHT
BEGIN:STANDARD
TZOFFSETFROM:+0200
TZOFFSETTO:+0100
TZNAME:CET
DTSTART:20271031T010000
END:STANDARD
END:VTIMEZONE
BEGIN:VEVENT
DTSTART;TZID=Europe/Prague:20260315T183000
DTEND;TZID=Europe/Prague:20260315T233000
DTSTAMP:20260422T205901
CREATED:20250724T084825Z
LAST-MODIFIED:20250724T084901Z
UID:106839-1773599400-1773617400@rocksound.cz
SUMMARY:Heaven Shall Burn - Brno
DESCRIPTION:HEAVEN SHALL BURN\, The Halo Effect\, The Black Dahlia Murder\, Frozen Soul – Heimat Over Europe 2026 – 15. 3. 2026\, 18:30\, BRNO – Sono Centrum\nNěmečtí metal-core mistři HEAVEN SHALL BURN vydali na konci června nové album „Heimat“\, které se jim díky nenadálým zdravotním problémům zpěváka nepodařilo představit v PLZNI na letošním METALFESTU. Nyní kapela oznamuje své jarní Evropské turné k této nové desce s názvem „Heimat Over Europe 2026“ v rámci něhož se zastaví také v ČR! Bude to 15. března 2026 v brněnském Sono Centru!\nKapela na tomto albu zůstává věrná své charakteristické směsi melodického death metalu a hardcoru v klasicky divoké a silně emocionálně působivé show! Kapela\, známá pro svoji technickou preciznost a silné velmi osobní\, socio-politické texty\, přináší album o duchovním domově jako o něčem\, co formuje a ovlivňuje naše myšlenky a činy. V textech se odráží sociální odolnost\, útlak a touha po spravedlnosti pro všechny. Intenzita kapely naživo je natolik energická a dravá\, že přímo vybízí k mnohým moshpitům!\nHEAVEN SHAL BURN si na turné navíc přizvali trio dalších fantastických kapel! Těšte se na známé melodic-death metalové Švédy THE HALO EFFECT v čele s growlerem Mikaelem Stannem z kapely Dark Tranquillity. THE HALO EFFECT vždy přináší to nejlepší v brutálně efektivní podívané plné melodického chaosu a zuřivého vrčení. Jejich syrový\, ale přesto melodický metal vám mohutně rozbuší srdce\, na to můžete vzít jed! Přijedou také charismatičtí death-metaloví amíci THE BLACK DAHLIA MURDER\, které asi není třeba více představovat. Kluci se po smrti frontmana v roce 2022 dali dohromady\, mikrofonu se chopil kytarista Brian Eschbach a v roce 2024 vydali úspěšnou desku „Servitude“. Třetím hostem je další americká death-metalová kapela FROZEN SOUL\, která vám zmrazí útroby svým drtivým\, masivním způsobem a tématy o izolaci\, depresích či utrpení.\n15. březen 2026 bude v BRNĚ ve znamení drsné školy death-metalu od těch nejvýznamnějších a nejlepších mistrů svého oboru! Tady nesmíte chybět!
URL:https://rocksound.cz/akce/heaven-shall-burn-brno/
LOCATION:Sono Music Club\, Veveří 113\, Brno
ATTACH;FMTTYPE=image/jpeg:https://rocksound.cz/wp-content/uploads/2025/07/521931527_1058140136480339_1145367510676338979_n.jpg
END:VEVENT
END:VCALENDAR