BEGIN:VCALENDAR
VERSION:2.0
PRODID:-//Rocksound - ECPv6.15.18//NONSGML v1.0//EN
CALSCALE:GREGORIAN
METHOD:PUBLISH
X-ORIGINAL-URL:https://rocksound.cz
X-WR-CALDESC:Akce na Rocksound
REFRESH-INTERVAL;VALUE=DURATION:PT1H
X-Robots-Tag:noindex
X-PUBLISHED-TTL:PT1H
BEGIN:VTIMEZONE
TZID:Europe/Prague
BEGIN:DAYLIGHT
TZOFFSETFROM:+0100
TZOFFSETTO:+0200
TZNAME:CEST
DTSTART:20250330T010000
END:DAYLIGHT
BEGIN:STANDARD
TZOFFSETFROM:+0200
TZOFFSETTO:+0100
TZNAME:CET
DTSTART:20251026T010000
END:STANDARD
BEGIN:DAYLIGHT
TZOFFSETFROM:+0100
TZOFFSETTO:+0200
TZNAME:CEST
DTSTART:20260329T010000
END:DAYLIGHT
BEGIN:STANDARD
TZOFFSETFROM:+0200
TZOFFSETTO:+0100
TZNAME:CET
DTSTART:20261025T010000
END:STANDARD
BEGIN:DAYLIGHT
TZOFFSETFROM:+0100
TZOFFSETTO:+0200
TZNAME:CEST
DTSTART:20270328T010000
END:DAYLIGHT
BEGIN:STANDARD
TZOFFSETFROM:+0200
TZOFFSETTO:+0100
TZNAME:CET
DTSTART:20271031T010000
END:STANDARD
END:VTIMEZONE
BEGIN:VEVENT
DTSTART;TZID=Europe/Prague:20260316T200000
DTEND;TZID=Europe/Prague:20260316T233000
DTSTAMP:20260423T014520
CREATED:20260122T195914Z
LAST-MODIFIED:20260122T195914Z
UID:113419-1773691200-1773703800@rocksound.cz
SUMMARY:Pan Lynx - Praha
DESCRIPTION:Je to tady!\nPan Lynx nechá pražský Lucerna Music bar už podruhé prorůst kořeny svého pomyslného lesa a vás zvířátka vezme na teatrálně-psychedelicko-grungeový výlet s kapelou\, co vám učaruje\, a za účasti hostů! Bude to jeho doposud nejnabušenější koncert\, kde zazní hudba z obou desek! A nejen to\, poprvé ten večer dostanete do paciček luxusní nový dvojvinyl\, na který jste v kampani na Startovači přispěli částkou přes 320.000\,-! Bude to večírek\, ze kterého neodejdete stejní\, jako jste přišli!\nDoražte\, těšíme se!\nM. a P.L. s kapelou\nKdo chce hned skočit do listí\, předprodej zde:\nLucerna Music Bar: https://musicbar.cz/cs/program/pan-lynx-2/\nGoout: https://goout.net/cs/pan-lynx/szcwrdy/
URL:https://rocksound.cz/akce/pan-lynx-praha-3/
LOCATION:Lucerna Music Bar\, Vodičkova 36\, Praha
ATTACH;FMTTYPE=image/jpeg:https://rocksound.cz/wp-content/uploads/2026/01/592560787_861305436416563_6049121095213748481_n.jpg
END:VEVENT
END:VCALENDAR