BEGIN:VCALENDAR
VERSION:2.0
PRODID:-//Rocksound - ECPv6.15.18//NONSGML v1.0//EN
CALSCALE:GREGORIAN
METHOD:PUBLISH
X-WR-CALNAME:Rocksound
X-ORIGINAL-URL:https://rocksound.cz
X-WR-CALDESC:Akce na Rocksound
REFRESH-INTERVAL;VALUE=DURATION:PT1H
X-Robots-Tag:noindex
X-PUBLISHED-TTL:PT1H
BEGIN:VTIMEZONE
TZID:Europe/Prague
BEGIN:DAYLIGHT
TZOFFSETFROM:+0100
TZOFFSETTO:+0200
TZNAME:CEST
DTSTART:20250330T010000
END:DAYLIGHT
BEGIN:STANDARD
TZOFFSETFROM:+0200
TZOFFSETTO:+0100
TZNAME:CET
DTSTART:20251026T010000
END:STANDARD
BEGIN:DAYLIGHT
TZOFFSETFROM:+0100
TZOFFSETTO:+0200
TZNAME:CEST
DTSTART:20260329T010000
END:DAYLIGHT
BEGIN:STANDARD
TZOFFSETFROM:+0200
TZOFFSETTO:+0100
TZNAME:CET
DTSTART:20261025T010000
END:STANDARD
BEGIN:DAYLIGHT
TZOFFSETFROM:+0100
TZOFFSETTO:+0200
TZNAME:CEST
DTSTART:20270328T010000
END:DAYLIGHT
BEGIN:STANDARD
TZOFFSETFROM:+0200
TZOFFSETTO:+0100
TZNAME:CET
DTSTART:20271031T010000
END:STANDARD
END:VTIMEZONE
BEGIN:VEVENT
DTSTART;TZID=Europe/Prague:20260320T190000
DTEND;TZID=Europe/Prague:20260320T233000
DTSTAMP:20260422T235916
CREATED:20260111T191002Z
LAST-MODIFIED:20260111T191002Z
UID:113289-1774033200-1774049400@rocksound.cz
SUMMARY:WALTARI\, PVRS - Praha
DESCRIPTION:20 / 03 / 2026 / PRAHA / PALÁC AKROPOLIS\nObscure vstupenky: https://obscure.cz/cs/tickets/detail/id/1007Dále pak ticketmaster\, goout a Palác Akropolis.\nFinská metalová legenda WALTARI se vrací do České Republiky v rámci tour k jejich poslední desce Nations’ Neurosis! Hudební chameleoni\, kteří se u nás už téměř 40 let těší extrémní oblíbenosti\, vystoupí 20. března v pražském Paláci Akropolis. Nenechte si tuto originální show uniknout!\nWaltari vznikli v roce 1986 ve finských Helsinkách a svoji tvorbu postavili na odvážném míšení nejrůznějších žánrů. Od svých počátku se Waltari odmítali nechat spoutat tradičními hranicemi metalu a do své tvorby začlenili prvky elektroniky\, techno rytmů\, popu\, punku či dokonce klasické hudby. Díky tomu si postupně vybudovali reputaci jednoho z nejoriginálnějších evropských metalových projektů.Průlom přišel v 90. letech s albem Torcha! a později Big Bang\, kde se naplno projevila jejich schopnost kombinovat tvrdé riffy s tanečními beaty a chytlavými melodiemi. Kritika oceňovala nejen odvahu experimentovat\, ale i to\, že Waltari dokázali udržet soudržný zvuk navzdory extrémní žánrové rozmanitosti. Kapela si tak získala fanoušky napříč Evropou\, včetně České Republiky.\nDo Prahy přivezou Waltari svoji poslední desku Nations’ Neurosis\, na které opět ukázali\, že nikdy nebyli kapelou\, která by poslouchala jakákoliv pravidla a opět předvedli svůj unikátní mix hudební svobody\, odvážného experimentu a nefiltrovaného uměleckého vyjádření. V jádru hudební cesty Waltari stojí Kärtsy Hatakka\, mozek kapely a její hnací síla. Hatakka\, který se stará o hlavní i doprovodné vokály\, basu\, programování\, klávesy a perkuse\, čelil při tvorbě tohoto alba osobní bouři — ztratil svou matku a sledoval svět\, jak se stále více propadá do chaosu a rozdělení. Frustrace a emoční zmatek tohoto období pronikají do každé noty Nations‘ Neurosis\, což z něj činí jedno z nejnaléhavějších a nejpodnětnějších děl WALTARI vůbec.\nPVRS je belgické post-doom / atmospheric sludge / post-metal duo založené v roce 2023 dvěma hudebníky z Bruggy / Bruselu: Jean-Pierre Mottin a Twan Landrin. Jejich hudba kombinuje těžké\, pomalé riffy s melodiemi a intenzivními emocemi\, čímž vytváří depresivní a zároveň hypnotickou atmosféru. Projekt se vyhýbá tradičnímu metalovému přístupu a klade důraz na textury\, kontrast a hloubku zvuku.
URL:https://rocksound.cz/akce/waltari-pvrs-praha/
LOCATION:Palác Akropolis\, Kubelíkova 1548/27 130 00\, Praha 3-Žižkov
ATTACH;FMTTYPE=image/jpeg:https://rocksound.cz/wp-content/uploads/2026/01/600201795_1159618972993315_230712452516088358_n.jpg
END:VEVENT
END:VCALENDAR