BEGIN:VCALENDAR
VERSION:2.0
PRODID:-//Rocksound - ECPv6.15.18//NONSGML v1.0//EN
CALSCALE:GREGORIAN
METHOD:PUBLISH
X-ORIGINAL-URL:https://rocksound.cz
X-WR-CALDESC:Akce na Rocksound
REFRESH-INTERVAL;VALUE=DURATION:PT1H
X-Robots-Tag:noindex
X-PUBLISHED-TTL:PT1H
BEGIN:VTIMEZONE
TZID:Europe/Prague
BEGIN:DAYLIGHT
TZOFFSETFROM:+0100
TZOFFSETTO:+0200
TZNAME:CEST
DTSTART:20250330T010000
END:DAYLIGHT
BEGIN:STANDARD
TZOFFSETFROM:+0200
TZOFFSETTO:+0100
TZNAME:CET
DTSTART:20251026T010000
END:STANDARD
BEGIN:DAYLIGHT
TZOFFSETFROM:+0100
TZOFFSETTO:+0200
TZNAME:CEST
DTSTART:20260329T010000
END:DAYLIGHT
BEGIN:STANDARD
TZOFFSETFROM:+0200
TZOFFSETTO:+0100
TZNAME:CET
DTSTART:20261025T010000
END:STANDARD
BEGIN:DAYLIGHT
TZOFFSETFROM:+0100
TZOFFSETTO:+0200
TZNAME:CEST
DTSTART:20270328T010000
END:DAYLIGHT
BEGIN:STANDARD
TZOFFSETFROM:+0200
TZOFFSETTO:+0100
TZNAME:CET
DTSTART:20271031T010000
END:STANDARD
END:VTIMEZONE
BEGIN:VEVENT
DTSTART;TZID=Europe/Prague:20260321T110000
DTEND;TZID=Europe/Prague:20260322T003000
DTSTAMP:20260423T072332
CREATED:20260215T201406Z
LAST-MODIFIED:20260215T201406Z
UID:113676-1774090800-1774139400@rocksound.cz
SUMMARY:NÁROĎÁK FEST 10. - Jaroměř
DESCRIPTION:Nároďák Fest slaví 10 let! Už 21. 3. 2026 se Jaroměřský Nároďák otřese v základech! Přijďte oslavit jubilejní 10. ročník Nároďák Festu\, který je zároveň oslavou deseti let Hudebního klubu v Jaroměři.\nTěšte se na to nejlepší z metalové domácí i zahraniční hudební scény!Kapely z Česka\, ale možná i nějaké překvapení ze zahraničí.Za podpory města Jaroměř\nHudba\, energie a jedna velká oslava – buďte u toho!\nLINE UP Tortharryhttps://www.facebook.com/tortharryVastnesshttps://www.facebook.com/VastnessPLDMInquisitionhttps://www.facebook.com/InquisitionaustriaSymbtomyhttps://www.facebook.com/symbtomyPoppy Seed Grinderhttps://www.facebook.com/PoppySeedGrinderSoul Massacrehttps://www.facebook.com/SoulMassacreDissection Corpsehttps://www.facebook.com/profile.php?id=100063567129193Necnon mortusshttps://www.facebook.com/necnonmortussDestroyerhttps://www.facebook.com/Destroyer.deathmetal.CZla petite morthttps://www.facebook.com/profile.php?id=100091339249053
URL:https://rocksound.cz/akce/narodak-fest-10-jaromer/
LOCATION:Nároďák\, Národní 54\, Jaroměř
ATTACH;FMTTYPE=image/jpeg:https://rocksound.cz/wp-content/uploads/2026/02/625094856_1509929647808778_3456385823330590027_n.jpg
ORGANIZER;CN="N%C3%A1ro%C4%8F%C3%A1k":MAILTO:narodak.jaromer@seznam.cz
END:VEVENT
BEGIN:VEVENT
DTSTART;TZID=Europe/Prague:20260321T183000
DTEND;TZID=Europe/Prague:20260321T233000
DTSTAMP:20260423T072332
CREATED:20260111T191450Z
LAST-MODIFIED:20260111T191450Z
UID:113292-1774117800-1774135800@rocksound.cz
SUMMARY:BODYSNATCHER\, INGESTED\, PSYCHO-FRAME\, BIG ASS TRUCK - Praha
DESCRIPTION:21 / 03 / 2026 / PRAHA / ROCK CAFÉ\nObscure vstupenky: https://obscure.cz/cs/tickets/detail/id/975Prodej začíná 24.10.2025\nAmerické deathcorové komando Bodysnatcher přiveze to nejtvrdší\, co deathcore v současnosti nabízí – brutální breakdowny\, surové vokály a texty plné hněvu\, bolesti a osobní frustrace. V kombinaci se supportem v podobě britských Ingested a kanaďanů Big Ass Truck I.E. je jasné\, že nás čeká večer plný syrové energie\, nekonečného moshpitu a neředěné agrese.\nAmerická kapela Bodysnatcher pochází z Floridy a patří k nejtvrdším jménům současné deathcorové scény. Od svého vzniku v roce 2014 si vybudovala pověst nekompromisní síly\, která kombinuje brutální breakdowny\, surové vokály a texty plné hněvu\, bolesti a osobní frustrace. Jejich hudba čerpá inspiraci z klasického hardcore a death metalu\, přičemž si zachovává syrový\, až konfrontační zvuk\, který naživo působí jako úder přímo do hrudi.\nBodysnatcher jsou známí svým neústupným DIY přístupem a autenticitou – jejich tvorba odráží skutečné emoce a životní zkušenosti členů kapely\, což z nich činí jeden z nejupřímnějších hlasů moderního extremního metalu. S albem Bleed-Abide (2022) potvrdili\, že dokážou spojit brutální intenzitu s promyšlenou produkcí a silnou atmosférou. Naživo působí s neuvěřitelnou energií a syrovostí.\nBritové Ingested jsou zvěstovatelé moderního slam/deathcoru a už od svého vzniku v roce 2006 neúnavně posouvají hranice brutality i technické preciznosti. Jejich tvorba spojuje extrémní tempo\, chirurgicky přesné riffy a drtivé vokály s překvapivým smyslem pro atmosféru a temnou melodiku. Ingested si díky své neúnavné koncertní aktivitě a neustálému vývoji vydobyli status jedné z nejrespektovanějších kapel extrémní metalové scény – ať už na pódiu\, nebo ve studiu\, vždy doručují naprosté hudební inferno.\nKanadská hardcore kapela Big Ass Truck I.E. přináší syrovou a nekompromisní energii: jejich hudba kombinuje drtivé breakdowny\, agresivní vokály a pulsující riffy\, které nemají zájem o kompromisy. Kapela čerpá silnou inspiraci z klasického 90s amerického hardcore a grindcore scény\, přičemž si zachovává vlastní identitu prostřednictvím intenzivních textů zaměřených na sociální napětí a osobní výbuchy frustrace. Big Ass Truck MF působí jako výbušná síla\, která naprosto ovládá pódiový projev a zůstává věrná kořenům undergroundového heavy metalu.\nJako poslední tajný host se ukáží američtí deathcoroví Psycho-Frame\, o kterých si možná ještě neslyšel\, ale co z doslechu víme\, bude to překvapení večera!
URL:https://rocksound.cz/akce/bodysnatcher-ingested-psycho-frame-big-ass-truck-praha/
LOCATION:Rock Café Prague\, Národní třída 20\, Praha
ATTACH;FMTTYPE=image/jpeg:https://rocksound.cz/wp-content/uploads/2026/01/581206500_1134507512171128_6628364910925133089_n.jpg
END:VEVENT
BEGIN:VEVENT
DTSTART;TZID=Europe/Prague:20260321T190000
DTEND;TZID=Europe/Prague:20260321T230000
DTSTAMP:20260423T072332
CREATED:20250724T085341Z
LAST-MODIFIED:20250724T085341Z
UID:106843-1774119600-1774134000@rocksound.cz
SUMMARY:Epica\, Amaranthe - Praha
DESCRIPTION:EPICA\, AMARANTHE\, Charlotte Wessels’ The Obsession – 21. 3. 2026\, 19:00\, PRAHA – Fórum Karlín\nZačátkem roku 2026 spojí své síly průkopníci symfonického metalu EPICA a metaloví giganti AMARANTHE a vyrazí na turné „Arcane Dimensions Tour“\, které je zavede do 26 měst ve 13. zemích Evropy! Do PRAHY\, Fóra Karlín\, doputují v sobotu 21. března 2026!\nHolandská EPICA bude na turné představovat své nejnovější album „Aspiral“\, které bylo kritikou označeno za absolutní mistrovskou třídu ve vyprávění příběhů\, v nadčasových melodiích a ve velkoleposti. Můžete se tedy spolehnout na to\, že EPICA vám přiveze další naprosto fascinující novou live show! Překrásná Simone Simons & Co. se velmi těší\, až vám své nové album představí a s jistotou potvrdí\, že patří na vrchol metalové scény!AMARANTHE\, známí pro své drtivě chytlavé pop-metalové hymny a euforickými živými koncerty\, stoupají na žebříčku oblíbenosti hodně zprudka! Jejich nejnovější album „The Catalyst“ přineslo nejostřejší a nejšpičkovější prvky melodického metalu a elektronického rocku! Se třemi zpěváky na pódiu\, více než miliardou nashromážděných streamů a statisíci prodanými alby po celém světě AMARANTHE dokazují\, že jsou dokonalými mistry svého oboru.\nK tomuto kombu se ještě navíc připojí velmi speciální host\, další známá a maximálně talentovaná kráska se svou kapelou CHARLOTTE WESSELS’ THE OBSESSION. Tato Nizozemská zpěvačka\, skladatelka a bývalá zpěvačka DELAIN nedávno vydala své první sólové album „The Obsession“\, a těší se\, až vám ho všem představí naživo!\nCo dodat? Toto turné se stane událostí\, která otřese metalovým světem\, a vy byste u toho neměli chybět!
URL:https://rocksound.cz/akce/epica-amaranthe-praha/
LOCATION:Forum Karlín\, Pernerova 51\, Praha
ATTACH;FMTTYPE=image/jpeg:https://rocksound.cz/wp-content/uploads/2025/07/504688337_1025427046418315_337527770506953593_n.jpg
END:VEVENT
END:VCALENDAR