BEGIN:VCALENDAR
VERSION:2.0
PRODID:-//Rocksound - ECPv6.15.18//NONSGML v1.0//EN
CALSCALE:GREGORIAN
METHOD:PUBLISH
X-WR-CALNAME:Rocksound
X-ORIGINAL-URL:https://rocksound.cz
X-WR-CALDESC:Akce na Rocksound
REFRESH-INTERVAL;VALUE=DURATION:PT1H
X-Robots-Tag:noindex
X-PUBLISHED-TTL:PT1H
BEGIN:VTIMEZONE
TZID:Europe/Prague
BEGIN:DAYLIGHT
TZOFFSETFROM:+0100
TZOFFSETTO:+0200
TZNAME:CEST
DTSTART:20250330T010000
END:DAYLIGHT
BEGIN:STANDARD
TZOFFSETFROM:+0200
TZOFFSETTO:+0100
TZNAME:CET
DTSTART:20251026T010000
END:STANDARD
BEGIN:DAYLIGHT
TZOFFSETFROM:+0100
TZOFFSETTO:+0200
TZNAME:CEST
DTSTART:20260329T010000
END:DAYLIGHT
BEGIN:STANDARD
TZOFFSETFROM:+0200
TZOFFSETTO:+0100
TZNAME:CET
DTSTART:20261025T010000
END:STANDARD
BEGIN:DAYLIGHT
TZOFFSETFROM:+0100
TZOFFSETTO:+0200
TZNAME:CEST
DTSTART:20270328T010000
END:DAYLIGHT
BEGIN:STANDARD
TZOFFSETFROM:+0200
TZOFFSETTO:+0100
TZNAME:CET
DTSTART:20271031T010000
END:STANDARD
END:VTIMEZONE
BEGIN:VEVENT
DTSTART;TZID=Europe/Prague:20260321T110000
DTEND;TZID=Europe/Prague:20260322T003000
DTSTAMP:20260423T065824
CREATED:20260215T201406Z
LAST-MODIFIED:20260215T201406Z
UID:113676-1774090800-1774139400@rocksound.cz
SUMMARY:NÁROĎÁK FEST 10. - Jaroměř
DESCRIPTION:Nároďák Fest slaví 10 let! Už 21. 3. 2026 se Jaroměřský Nároďák otřese v základech! Přijďte oslavit jubilejní 10. ročník Nároďák Festu\, který je zároveň oslavou deseti let Hudebního klubu v Jaroměři.\nTěšte se na to nejlepší z metalové domácí i zahraniční hudební scény!Kapely z Česka\, ale možná i nějaké překvapení ze zahraničí.Za podpory města Jaroměř\nHudba\, energie a jedna velká oslava – buďte u toho!\nLINE UP Tortharryhttps://www.facebook.com/tortharryVastnesshttps://www.facebook.com/VastnessPLDMInquisitionhttps://www.facebook.com/InquisitionaustriaSymbtomyhttps://www.facebook.com/symbtomyPoppy Seed Grinderhttps://www.facebook.com/PoppySeedGrinderSoul Massacrehttps://www.facebook.com/SoulMassacreDissection Corpsehttps://www.facebook.com/profile.php?id=100063567129193Necnon mortusshttps://www.facebook.com/necnonmortussDestroyerhttps://www.facebook.com/Destroyer.deathmetal.CZla petite morthttps://www.facebook.com/profile.php?id=100091339249053
URL:https://rocksound.cz/akce/narodak-fest-10-jaromer/
LOCATION:Nároďák\, Národní 54\, Jaroměř
ATTACH;FMTTYPE=image/jpeg:https://rocksound.cz/wp-content/uploads/2026/02/625094856_1509929647808778_3456385823330590027_n.jpg
ORGANIZER;CN="N%C3%A1ro%C4%8F%C3%A1k":MAILTO:narodak.jaromer@seznam.cz
END:VEVENT
BEGIN:VEVENT
DTSTART;TZID=Europe/Prague:20260322T183000
DTEND;TZID=Europe/Prague:20260322T233000
DTSTAMP:20260423T065824
CREATED:20260111T192506Z
LAST-MODIFIED:20260111T192506Z
UID:113295-1774204200-1774222200@rocksound.cz
SUMMARY:HÄLLAS\, EARTH TONGUE - Praha
DESCRIPTION:22 / 03 / 2026 / PRAHA / FUTURUM\nObscure vstupenky: https://obscure.cz/cs/tickets/detail/id/973\nŠvédské uskupení Hällas přináší na současnou scénu unikátní směs nostalgie a fantazie. Jejich hudba propojuje progresivní rock 70. let s prvky heavy metalu a space rocku\, čím vytváří svět plný dobrodružství\, mýtů a melancholie. Do ČR se vrátí 22. března\, kdy vystoupí v pražském klubu Futurum.\nStyl Hällas lze nejlépe popsat jako “adventure rock” – termín\, který sami používají. Jejich tvorba stojí na melodickém zpěvu\, hřejivých kytarových harmoniích\, retro klávesách a rytmice evokující klasiky jako Uriah Heep\, Blue Öyster Cult nebo Camel. Místo temnoty a agrese volí Hällas snovou atmosféru\, která posluchače zve na výpravu do světa fantazie a minulosti. V jejich písních se potkává dobrodružství\, mystika i nádech sci-fi.\nKapela vznikla v roce 2011 ve švédském Linköpingu a už svým debutovým EP Hällas (2015) zaujala svérázným konceptem — kombinací starosvětského zvuku s uceleným fantasy příběhem. Následující album Excerpts from a Future Past (2017) posílilo jejich reputaci jako mistrů atmosférického retro rocku\, zatímco průlomové Conundrum (2020) kapelu katapultovalo mezi nejzajímavější evropské progresivní formace.\nNejnovější deska Isle of Wisdom (2022) pokračuje v příběhu Hällasova imaginárního světa a potvrzuje jejich výjimečné postavení na scéně. Živě působí kapela stejně přesvědčivě jako ve studiu — jejich koncerty jsou barevnou cestou časem\, kde se setkává estetika dávných prog rockových legend s moderním smyslem pro dramatičnost a detail. Hällas dokazují\, že i retro může znít svěže\, když je podané s fantazií\, vášní a vizí.\nSpolečně s Hällas vystoupí novozélandské fuzz-rockové duo Earth Tongue. Uskupení tvořené kytaristkou a zpěvačkou Gussie Larkin a bubeníkem Ezrou Simonsem se ve své tvorbě věnuje hutným kytarovým riffům\, hypnotickým rytmům a estetice inspirované sci-fi a hororovými motivy 60. a 70. let. Kapela si získala pozornost svým intenzivním\, syrovým zvukem i energickými živými vystoupeními.
URL:https://rocksound.cz/akce/hallas-earth-tongue-praha/
LOCATION:Futurum Music Bar\, Zborovská 7\, Praha
ATTACH;FMTTYPE=image/jpeg:https://rocksound.cz/wp-content/uploads/2026/01/588887277_1149792973975915_1627442369408052047_n.jpg
END:VEVENT
BEGIN:VEVENT
DTSTART;TZID=Europe/Prague:20260322T190000
DTEND;TZID=Europe/Prague:20260322T233000
DTSTAMP:20260423T065824
CREATED:20260111T172748Z
LAST-MODIFIED:20260111T172748Z
UID:113248-1774206000-1774222200@rocksound.cz
SUMMARY:Jo Quail - Praha
DESCRIPTION:Londýnská skladatelka a violoncellistka Jo Quail se vrací do Prahy! Zvuková alchymistka\, která mísí klasickou hudbu s rockovou\, zve na transformativní hudební cestu – hluboce osobní i univerzálně rezonanční. Už 22. března 2026 v Punctum-Krásovka. \n Vstupenky jsou právě v prodeji na GoOut  https://goout.net/cs/jo-quail/szkeqcy/.\nČeskému publiku se představila jako předskokanka God Is An Astronaut v pražském MeetFactory\, teď ale přiváží svou nejnovější desku Notan. Název vychází z japonského principu rovnováhy světla a tmy – a právě mezi těmito póly se pohybuje i její hudba. Notan zkoumá přítomnost a nepřítomnost\, sílu a jemnost\, tělesnost i prázdnotu. Z původních improvizací se zrodilo orchestrální dílo\, které se stalo první částí plánované dvojice alb.\nHudebnice stírá hranice mezi klasickou\, současnou\, metalovou i avantgardní hudbou. Její koncerty jsou intenzivní\, emotivní a vizuálně podmanivé. Na pódiu totiž působí\, jako by tančila se svým violoncellem – každou notu prožívá celým tělem\, s vášní\, která z její hudby dělá vizuální i zvukový zážitek. Jak napsal magazín At The Barrier: „Okouzlující.“
URL:https://rocksound.cz/akce/jo-quail-praha/
LOCATION:Punctum – Krásovka\, Krásova 803/27\, Praha
ATTACH;FMTTYPE=image/jpeg:https://rocksound.cz/wp-content/uploads/2026/01/573948580_1356531532507503_6064331305419000754_n.jpg
END:VEVENT
END:VCALENDAR