BEGIN:VCALENDAR
VERSION:2.0
PRODID:-//Rocksound - ECPv6.15.18//NONSGML v1.0//EN
CALSCALE:GREGORIAN
METHOD:PUBLISH
X-ORIGINAL-URL:https://rocksound.cz
X-WR-CALDESC:Akce na Rocksound
REFRESH-INTERVAL;VALUE=DURATION:PT1H
X-Robots-Tag:noindex
X-PUBLISHED-TTL:PT1H
BEGIN:VTIMEZONE
TZID:Europe/Prague
BEGIN:DAYLIGHT
TZOFFSETFROM:+0100
TZOFFSETTO:+0200
TZNAME:CEST
DTSTART:20250330T010000
END:DAYLIGHT
BEGIN:STANDARD
TZOFFSETFROM:+0200
TZOFFSETTO:+0100
TZNAME:CET
DTSTART:20251026T010000
END:STANDARD
BEGIN:DAYLIGHT
TZOFFSETFROM:+0100
TZOFFSETTO:+0200
TZNAME:CEST
DTSTART:20260329T010000
END:DAYLIGHT
BEGIN:STANDARD
TZOFFSETFROM:+0200
TZOFFSETTO:+0100
TZNAME:CET
DTSTART:20261025T010000
END:STANDARD
BEGIN:DAYLIGHT
TZOFFSETFROM:+0100
TZOFFSETTO:+0200
TZNAME:CEST
DTSTART:20270328T010000
END:DAYLIGHT
BEGIN:STANDARD
TZOFFSETFROM:+0200
TZOFFSETTO:+0100
TZNAME:CET
DTSTART:20271031T010000
END:STANDARD
END:VTIMEZONE
BEGIN:VEVENT
DTSTART;TZID=Europe/Prague:20260417T190000
DTEND;TZID=Europe/Prague:20260417T230000
DTSTAMP:20260423T014243
CREATED:20260225T075354Z
LAST-MODIFIED:20260225T075354Z
UID:113856-1776452400-1776466800@rocksound.cz
SUMMARY:Motorband – Hradec Králové
DESCRIPTION:Třetí koncert Tour MB40 přiváží Motorband do Hradce Králové – a nebude u toho nikdo menší než power metalová kapela DONOR jako exkluzivní host večera.\nPůvodně jsme chtěli program doplnit ještě o další speciální jméno. Realita nabité koncertní sezóny je ale neúprosná – sladit kalendáře všech kapel a turné není vždy možné. Tentokrát se termíny nepodařilo dát dohromady.\nTo ale nic nemění na tom\, že vás čeká silný rock-metalový večer.\nDONOR otevře koncert svou energií a precizností.Motorband následně nabídne více než 2 hodiny poctivého rocku a metalu – průřez 40 lety historie\, zásadní skladby i současnou sílu nové sestavy.\nMOOD je klub\, kde se hraje naplno. A přesně tak to 17. dubna bude.\nA možná ještě něco navíc…Nic neslibujeme. Ale Motorband občas umí překvapit.\nHradec Králové\, buďte u toho.
URL:https://rocksound.cz/akce/motorband-hradec-kralove/
LOCATION:MOOD Hradec Králové\, Pilnáčkova 543\, Hradec Králové
ATTACH;FMTTYPE=image/jpeg:https://rocksound.cz/wp-content/uploads/2026/02/638421532_1448032086681315_2546830785570381438_n.jpg
END:VEVENT
BEGIN:VEVENT
DTSTART;TZID=Europe/Prague:20260417T190000
DTEND;TZID=Europe/Prague:20260417T233000
DTSTAMP:20260423T014243
CREATED:20260122T202100Z
LAST-MODIFIED:20260122T202100Z
UID:113431-1776452400-1776468600@rocksound.cz
SUMMARY:OLYMPIC - Zlín
DESCRIPTION:Představovat skupinu Olympic je zbytečné. Největší legenda české hudební scény míří v rámci turné „Bombarďák“ do Zlína.   \n\n\nV pátek 17. dubna od 19:00 se necháme v pohodlí Kongresového centra Zlín unášet světem hitů\, které všichni dobře známe – Osmý den\, Dávno\, Vlak co nikde nestaví\, Slzy tvý mámy\, Já\, Jako zamlada\, Dynamit\, Otázky\, Želva\, Okno mé lásky\, Jasná zpráva\, Dej mi víc a spousty jiných\, které dobře známe\, ale i nových písní jako např. Bombarďák\, Já nejsem zlej anebo Pálím tvář.  \nNenechte si ujít šanci vidět a slyšet naživo Petra Jandu\, Milana Brouma\, Martina Vajgla a Pavla Březiny\, kteří prostě nestárnou. 
URL:https://rocksound.cz/akce/olympic-zlin/
LOCATION:Kongresové centrum Zlín\, nám. T. G. Masaryka 5556\, Zlín
ATTACH;FMTTYPE=image/jpeg:https://rocksound.cz/wp-content/uploads/2026/01/558996043_1643838343680700_6540285989788497886_n.jpg
END:VEVENT
END:VCALENDAR