BEGIN:VCALENDAR
VERSION:2.0
PRODID:-//Rocksound - ECPv6.15.18//NONSGML v1.0//EN
CALSCALE:GREGORIAN
METHOD:PUBLISH
X-WR-CALNAME:Rocksound
X-ORIGINAL-URL:https://rocksound.cz
X-WR-CALDESC:Akce na Rocksound
REFRESH-INTERVAL;VALUE=DURATION:PT1H
X-Robots-Tag:noindex
X-PUBLISHED-TTL:PT1H
BEGIN:VTIMEZONE
TZID:Europe/Prague
BEGIN:DAYLIGHT
TZOFFSETFROM:+0100
TZOFFSETTO:+0200
TZNAME:CEST
DTSTART:20250330T010000
END:DAYLIGHT
BEGIN:STANDARD
TZOFFSETFROM:+0200
TZOFFSETTO:+0100
TZNAME:CET
DTSTART:20251026T010000
END:STANDARD
BEGIN:DAYLIGHT
TZOFFSETFROM:+0100
TZOFFSETTO:+0200
TZNAME:CEST
DTSTART:20260329T010000
END:DAYLIGHT
BEGIN:STANDARD
TZOFFSETFROM:+0200
TZOFFSETTO:+0100
TZNAME:CET
DTSTART:20261025T010000
END:STANDARD
BEGIN:DAYLIGHT
TZOFFSETFROM:+0100
TZOFFSETTO:+0200
TZNAME:CEST
DTSTART:20270328T010000
END:DAYLIGHT
BEGIN:STANDARD
TZOFFSETFROM:+0200
TZOFFSETTO:+0100
TZNAME:CET
DTSTART:20271031T010000
END:STANDARD
END:VTIMEZONE
BEGIN:VEVENT
DTSTART;TZID=Europe/Prague:20260420T190000
DTEND;TZID=Europe/Prague:20260420T230000
DTSTAMP:20260422T112721
CREATED:20260216T200832Z
LAST-MODIFIED:20260216T200832Z
UID:113721-1776711600-1776726000@rocksound.cz
SUMMARY:Witch Fever - Praha
DESCRIPTION:Witch Fever jsou zvěstem nové éry heavy music. Takovou\, která je hladovou vlnou a dokáže odplavit tlak a úzkost. S novou deskou “FEVEREATEN” a v plné síle přijedou 20. dubna 2026 do Klubu Varšava.\nVstupenky v prodeji od 28. listopadu\, 11:00\, na GoOut https://goout.net/cs/witch-fever/szfqudy/.\nTahle manchesterská parta odmítá jakákoliv pravidla – ať už jde o pohlaví nebo žánr. Jejich punk bez hranic je živelný nápor. Není divu\, že se vydali na turné jako předskokani s fenomenálními My Chemical Romance\, Biffy Clyro\, IDLES nebo Poppy.\nJak napsal Steve Lamacq z BBC Radio 6 Music: \,\,To je něco\, co by mohlo spálit trávníky a vypálit budovy.”
URL:https://rocksound.cz/akce/witch-fever-praha/
LOCATION:klub Varšava\, Praha\, Varšavská 10\, Praha
ATTACH;FMTTYPE=image/jpeg:https://rocksound.cz/wp-content/uploads/2026/02/590692154_122106523515105481_1827815519342406324_n.jpg
END:VEVENT
BEGIN:VEVENT
DTSTART;TZID=Europe/Prague:20260420T190000
DTEND;TZID=Europe/Prague:20260420T233000
DTSTAMP:20260422T112721
CREATED:20260216T195021Z
LAST-MODIFIED:20260216T195021Z
UID:113715-1776711600-1776727800@rocksound.cz
SUMMARY:DITZ - Praha
DESCRIPTION:DITZ se vrací do Prahy s další sólovou show! Svůj pokrokový noise rock/post-punk s vlivy post-hardcoru i noise rocku 80. a 90. let přivezou 20. dubna 2026 do Café V lese.\nVstupenky v prodeji od 17. prosince\, 10:00\, na GoOut https://goout.net/cs/ditz/szggney/.\nDITZ vznikli v roce 2016 v Brightonu a do své hudby vnáší témata nejistoty\, genderu nebo body image. Na úspěch jejich debutového alba The Great Regression (2022) navázala i jejich druhá nahrávka Never Exhale (2025)\, která si vysloužila chválu od BBC 6 Music\, DORK Magazine nebo třeba NPR. Stereogum ji zařadil mezi „50 nejlepších alb roku 2025”.\nNyní se vrací s novým třídílným noise-rockovým eposem „Don Enzo Magic Carpet Salesman”. Divoký\, podmanivý a nepředvídatelný singl trvá devět minut a je znamením\, že se kapela vydala na zcela novou cestu. „Píseň odráží mou frustraci z umění vytvořeného umělou inteligencí. První část reaguje na tento problém\, druhá je napsána z pohledu umělé inteligence a třetí část je posledním vzdechem skutečného umění\, než jej převálcuje umělý výtvor\,” říká o inspiraci vokalista C. A. Francis.
URL:https://rocksound.cz/akce/ditz-praha-2/
LOCATION:Café V Lese\, Praha\, Krymská 12\, Praha
ATTACH;FMTTYPE=image/jpeg:https://rocksound.cz/wp-content/uploads/2026/02/598883330_122110938561105481_5828242740061130573_n.jpg
END:VEVENT
END:VCALENDAR