BEGIN:VCALENDAR
VERSION:2.0
PRODID:-//Rocksound - ECPv6.15.18//NONSGML v1.0//EN
CALSCALE:GREGORIAN
METHOD:PUBLISH
X-WR-CALNAME:Rocksound
X-ORIGINAL-URL:https://rocksound.cz
X-WR-CALDESC:Akce na Rocksound
REFRESH-INTERVAL;VALUE=DURATION:PT1H
X-Robots-Tag:noindex
X-PUBLISHED-TTL:PT1H
BEGIN:VTIMEZONE
TZID:Europe/Prague
BEGIN:DAYLIGHT
TZOFFSETFROM:+0100
TZOFFSETTO:+0200
TZNAME:CEST
DTSTART:20250330T010000
END:DAYLIGHT
BEGIN:STANDARD
TZOFFSETFROM:+0200
TZOFFSETTO:+0100
TZNAME:CET
DTSTART:20251026T010000
END:STANDARD
BEGIN:DAYLIGHT
TZOFFSETFROM:+0100
TZOFFSETTO:+0200
TZNAME:CEST
DTSTART:20260329T010000
END:DAYLIGHT
BEGIN:STANDARD
TZOFFSETFROM:+0200
TZOFFSETTO:+0100
TZNAME:CET
DTSTART:20261025T010000
END:STANDARD
BEGIN:DAYLIGHT
TZOFFSETFROM:+0100
TZOFFSETTO:+0200
TZNAME:CEST
DTSTART:20270328T010000
END:DAYLIGHT
BEGIN:STANDARD
TZOFFSETFROM:+0200
TZOFFSETTO:+0100
TZNAME:CET
DTSTART:20271031T010000
END:STANDARD
END:VTIMEZONE
BEGIN:VEVENT
DTSTART;TZID=Europe/Prague:20260430T190000
DTEND;TZID=Europe/Prague:20260430T233000
DTSTAMP:20260422T235935
CREATED:20260312T201452Z
LAST-MODIFIED:20260312T201452Z
UID:114059-1777575600-1777591800@rocksound.cz
SUMMARY:1914\, KATLA - Brno
DESCRIPTION:30 / 04 / 2026 / BRNO / KABINET MÚZ\nObscure vstupenky: https://obscure.cz/cs/tickets/detail/id/997Dále pak ticketmaster a goout.\nZhudebněné hrůzy první světové války na přelomu dubna a května 2026 přiveze ukrajinská kavalerie 1914\, a to hned dvakrát – do brněnského Kabinetu Můz a pražského klubu Black Pes. Láká tě pořádná death/black/doomová nálož s historickým přesahem? Neváhej ani vteřinu a kupuj vstupenky!\n1914 je ukrajinská metalová kapela založená v roce 2014 ve Lvově. Od začátku si vybudovala výraznou identitu díky tematickému zaměření na první světovou válku – právě letopočet v názvu odkazuje na její začátek. Jejich tvorba není jen hudební interpretací historie; kapela propojuje autentické příběhy\, archivní materiály i vojenskou symboliku s temnou atmosférou extrémního metalu.\nHudebně se 1914 pohybuje na pomezí black metalu\, death metalu a doom metalu. Jejich skladby jsou typické hutnými kytarovými riffy\, syrovými vokály a dramatickými kompozicemi\, které mají evokovat chaos\, brutalitu a beznaděj zákopové války. Kapela vkládá do své hudby i zvuky bitev\, úryvky dobových projevů nebo melodie připomínající vojenské pochody\, což posiluje celkovou sugestivnost jejich nahrávek.\nTexty 1914 se zaměřují na konkrétní události a postavy z období první světové války\, často s důrazem na tragiku a lidské utrpení. Kapela si získala respekt díky detailní historické práci a schopnosti vyprávět silné příběhy prostřednictvím extrémní hudby. Na mezinárodní scéně je dnes vnímána jako jeden z nejoriginálnějších projektů\, který propojuje metal a historický koncept s neobvykle vysokou mírou autenticity.
URL:https://rocksound.cz/akce/1914-katla-brno/
LOCATION:Kabinet múz\, Brno\, Sukova 4\, Brno
ATTACH;FMTTYPE=image/jpeg:https://rocksound.cz/wp-content/uploads/2026/03/586516838_1146262634328949_1155934707767392496_n.jpg
END:VEVENT
END:VCALENDAR