BEGIN:VCALENDAR
VERSION:2.0
PRODID:-//Rocksound - ECPv6.15.18//NONSGML v1.0//EN
CALSCALE:GREGORIAN
METHOD:PUBLISH
X-ORIGINAL-URL:https://rocksound.cz
X-WR-CALDESC:Akce na Rocksound
REFRESH-INTERVAL;VALUE=DURATION:PT1H
X-Robots-Tag:noindex
X-PUBLISHED-TTL:PT1H
BEGIN:VTIMEZONE
TZID:Europe/Prague
BEGIN:DAYLIGHT
TZOFFSETFROM:+0100
TZOFFSETTO:+0200
TZNAME:CEST
DTSTART:20250330T010000
END:DAYLIGHT
BEGIN:STANDARD
TZOFFSETFROM:+0200
TZOFFSETTO:+0100
TZNAME:CET
DTSTART:20251026T010000
END:STANDARD
BEGIN:DAYLIGHT
TZOFFSETFROM:+0100
TZOFFSETTO:+0200
TZNAME:CEST
DTSTART:20260329T010000
END:DAYLIGHT
BEGIN:STANDARD
TZOFFSETFROM:+0200
TZOFFSETTO:+0100
TZNAME:CET
DTSTART:20261025T010000
END:STANDARD
BEGIN:DAYLIGHT
TZOFFSETFROM:+0100
TZOFFSETTO:+0200
TZNAME:CEST
DTSTART:20270328T010000
END:DAYLIGHT
BEGIN:STANDARD
TZOFFSETFROM:+0200
TZOFFSETTO:+0100
TZNAME:CET
DTSTART:20271031T010000
END:STANDARD
END:VTIMEZONE
BEGIN:VEVENT
DTSTART;TZID=Europe/Prague:20260507T190000
DTEND;TZID=Europe/Prague:20260507T230000
DTSTAMP:20260419T225914
CREATED:20260313T190927Z
LAST-MODIFIED:20260313T190927Z
UID:114091-1778180400-1778194800@rocksound.cz
SUMMARY:Never Easy + support: Love Is Noise + newshapes - Praha
DESCRIPTION:Kanadští never easy se nebojí spojit alt-rock\, emo\, shoegaze a nu-metal. Nyní oznamují první sólovou show v Praze\, kde vystoupí s připravovanou deskou i still care. Doprovodí je speciální hosté Love Is Noise a newshapes. Formace zahrají 7. května 2026 v Bike Jesus.\nVstupenky jsou právě v prodeji na GoOut https://goout.net/…/never-easy%2Bsupport-love…/szrrmey/.\nnever easy vstoupili na hudební scénu pomalu a jistě. V roce 2020 začali vydávat jednotlivé skladby\, které vedly k debutovému albu it never gets easier (2024). To kombinovalo prvky atmosférických zvuků s vlivy alternativního rocku a přístupem inspirovaným ranými 2000s metalovými a emo styly.\nPoslední rok strávila kapela vystupováním\, kde zdokonalovala své energické sety mísící kytary inspirované nultými léty\, éterický i agresivní zpěv a zuřivé bicí. Pro rok 2026 mají naplánované doposud největší sólové turné k druhé připravované desce i still care\, která vyjde v březnu 2026.
URL:https://rocksound.cz/akce/never-easy-support-love-is-noise-newshapes-praha/
LOCATION:Bike Jesus\, Praha\, ostrov Štvanice 1125\, Praha
ATTACH;FMTTYPE=image/jpeg:https://rocksound.cz/wp-content/uploads/2026/03/600885258_122111164083105481_8721414827591553396_n.jpg
END:VEVENT
END:VCALENDAR