BEGIN:VCALENDAR
VERSION:2.0
PRODID:-//Rocksound - ECPv6.15.18//NONSGML v1.0//EN
CALSCALE:GREGORIAN
METHOD:PUBLISH
X-ORIGINAL-URL:https://rocksound.cz
X-WR-CALDESC:Akce na Rocksound
REFRESH-INTERVAL;VALUE=DURATION:PT1H
X-Robots-Tag:noindex
X-PUBLISHED-TTL:PT1H
BEGIN:VTIMEZONE
TZID:Europe/Prague
BEGIN:DAYLIGHT
TZOFFSETFROM:+0100
TZOFFSETTO:+0200
TZNAME:CEST
DTSTART:20250330T010000
END:DAYLIGHT
BEGIN:STANDARD
TZOFFSETFROM:+0200
TZOFFSETTO:+0100
TZNAME:CET
DTSTART:20251026T010000
END:STANDARD
BEGIN:DAYLIGHT
TZOFFSETFROM:+0100
TZOFFSETTO:+0200
TZNAME:CEST
DTSTART:20260329T010000
END:DAYLIGHT
BEGIN:STANDARD
TZOFFSETFROM:+0200
TZOFFSETTO:+0100
TZNAME:CET
DTSTART:20261025T010000
END:STANDARD
BEGIN:DAYLIGHT
TZOFFSETFROM:+0100
TZOFFSETTO:+0200
TZNAME:CEST
DTSTART:20270328T010000
END:DAYLIGHT
BEGIN:STANDARD
TZOFFSETFROM:+0200
TZOFFSETTO:+0100
TZNAME:CET
DTSTART:20271031T010000
END:STANDARD
END:VTIMEZONE
BEGIN:VEVENT
DTSTART;TZID=Europe/Prague:20260515T183000
DTEND;TZID=Europe/Prague:20260515T233000
DTSTAMP:20260419T230651
CREATED:20260418T192637Z
LAST-MODIFIED:20260418T192637Z
UID:115118-1778869800-1778887800@rocksound.cz
SUMMARY:ČERNÝ ŠATY PÁRTY / ZLLO FEST #4 - Praha
DESCRIPTION:Černý Šaty Párty #4 \n\n\nCOCOTTE MINUTE + ANTEATER + BOUND TO BREAK \nČtvrtý ročník „rodinnýho“ mejdanu COCOTTE MINUTE! \nJiž čtvrtej rok po sobě se s váma chceme potkat na pravý cocottisticky ČERNÝ ŠATY PÁRTY / ZLLO FESTu!\nVšechny předchozí ročníky byly vyprodaný. \nPrvní ČŠ Párty jsme na rychlo zpunktovali aby jsme sehnali peníze na nečekanej dluh za klip a dál už je to historie! 🙂 \nNa čtvrtým „rodiným“ mejdanu s fans to spolu s náma rozbalí i lumpové z BOUND TO BREAK a hejsci a bosorka z ANTEATER. \nObě kapely se se ctí porvali o možnost dát s náma Zllucernu. Do  Zllucerny se bohužel nevešli ale v rock cafe si to s níma už užít můžeme! \nAle jak se na pořádnou ČŠ Párty patří nečekej žádný velký oficiality. Prostě zakalíme\, pokecáme a zahrajeme! Back to the roots. Z klubů jsme všichni vzešli a vždycky si to takhle rádi připomenem. Rádi vás uvidíme! \nDress code „ČERNÝ ŠATY“ pro dámy recomended! .-)
URL:https://rocksound.cz/akce/cerny-saty-party-zllo-fest-4-praha/
LOCATION:Rock Café Prague\, Národní třída 20\, Praha
ATTACH;FMTTYPE=image/jpeg:https://rocksound.cz/wp-content/uploads/2026/04/315-fb5e4e83b6d441ff8c76d857fc02e16f.jpg
END:VEVENT
END:VCALENDAR