BEGIN:VCALENDAR
VERSION:2.0
PRODID:-//Rocksound - ECPv6.15.18//NONSGML v1.0//EN
CALSCALE:GREGORIAN
METHOD:PUBLISH
X-ORIGINAL-URL:https://rocksound.cz
X-WR-CALDESC:Akce na Rocksound
REFRESH-INTERVAL;VALUE=DURATION:PT1H
X-Robots-Tag:noindex
X-PUBLISHED-TTL:PT1H
BEGIN:VTIMEZONE
TZID:Europe/Prague
BEGIN:DAYLIGHT
TZOFFSETFROM:+0100
TZOFFSETTO:+0200
TZNAME:CEST
DTSTART:20250330T010000
END:DAYLIGHT
BEGIN:STANDARD
TZOFFSETFROM:+0200
TZOFFSETTO:+0100
TZNAME:CET
DTSTART:20251026T010000
END:STANDARD
BEGIN:DAYLIGHT
TZOFFSETFROM:+0100
TZOFFSETTO:+0200
TZNAME:CEST
DTSTART:20260329T010000
END:DAYLIGHT
BEGIN:STANDARD
TZOFFSETFROM:+0200
TZOFFSETTO:+0100
TZNAME:CET
DTSTART:20261025T010000
END:STANDARD
BEGIN:DAYLIGHT
TZOFFSETFROM:+0100
TZOFFSETTO:+0200
TZNAME:CEST
DTSTART:20270328T010000
END:DAYLIGHT
BEGIN:STANDARD
TZOFFSETFROM:+0200
TZOFFSETTO:+0100
TZNAME:CET
DTSTART:20271031T010000
END:STANDARD
END:VTIMEZONE
BEGIN:VEVENT
DTSTART;TZID=Europe/Prague:20261015T180000
DTEND;TZID=Europe/Prague:20261015T233000
DTSTAMP:20260423T014455
CREATED:20250724T091414Z
LAST-MODIFIED:20250724T091414Z
UID:106861-1792087200-1792107000@rocksound.cz
SUMMARY:HÄMATOM - Praha
DESCRIPTION:15 / 10 / 2026 / PRAHA / PALÁC AKROPOLIS\nObscure vstupenky: https://obscure.cz/cs/tickets/detail/id/933Dále pak ticketmaster\, v Akropoli a v síti goout: https://goout.net/cs/hamatom/szambwx/\nNěmecká čtveřice HÄMATOM vás zve na nejšílenější turné v historii kapely! Masky jsou naleštěné\, zesilovače vytočené na maximum – HÄMATOM jsou zpět v plné síle a připraveni znovu dobýt pódia napříč Evropou! Česká zastávka proběhne už 15. října v pražském Paláci Akropolis.\nSe svým zbrusu novým turné GAGAMANIA přináší tato čtveřice v maskách nejen svou typickou výbušnou show\, ale zároveň otevírá zcela novou kapitolu svého příběhu. To\, co dříve bývalo obyčejným koncertem\, se mění v událost\, která obrací běžné koncertní zážitky naruby. Jako na zvráceném karnevalu se potácíte od jedné absurdní atrakce ke druhé – a než se nadějete\, podává vám blázen na chůdách cukrovou vatu právě ve chvíli\, kdy jste chtěli zpívat karaoke.\nPo úspěchu jejich posledního alba a vyprodaných show v Německu\, Rakousku\, Švýcarsku a Česku je HÄMATOM připraven vyrazit v roce 2026 znovu na cestu s turné\, které boří všechny hranice: hlasitější\, šílenější\, drzejší – GAGAMANIA není jen název\, ale i mise. Kapela slibuje jedinečný zážitek na pomezí šílenství a reality\, v němž se mísí brutální metal\, chytlavé melodie a dechberoucí audiovizuální show a spojují se v něco\, co jste ještě nezažili.
URL:https://rocksound.cz/akce/hamatom-praha-3/
LOCATION:Palác Akropolis\, Kubelíkova 1548/27 130 00\, Praha 3-Žižkov
ATTACH;FMTTYPE=image/jpeg:https://rocksound.cz/wp-content/uploads/2025/07/513902987_1029217566033457_3701734059653985731_n.jpg
END:VEVENT
END:VCALENDAR