BEGIN:VCALENDAR
VERSION:2.0
PRODID:-//Rocksound - ECPv6.15.18//NONSGML v1.0//EN
CALSCALE:GREGORIAN
METHOD:PUBLISH
X-WR-CALNAME:Rocksound
X-ORIGINAL-URL:https://rocksound.cz
X-WR-CALDESC:Akce na Rocksound
REFRESH-INTERVAL;VALUE=DURATION:PT1H
X-Robots-Tag:noindex
X-PUBLISHED-TTL:PT1H
BEGIN:VTIMEZONE
TZID:Europe/Prague
BEGIN:DAYLIGHT
TZOFFSETFROM:+0100
TZOFFSETTO:+0200
TZNAME:CEST
DTSTART:20210328T010000
END:DAYLIGHT
BEGIN:STANDARD
TZOFFSETFROM:+0200
TZOFFSETTO:+0100
TZNAME:CET
DTSTART:20211031T010000
END:STANDARD
BEGIN:DAYLIGHT
TZOFFSETFROM:+0100
TZOFFSETTO:+0200
TZNAME:CEST
DTSTART:20220327T010000
END:DAYLIGHT
BEGIN:STANDARD
TZOFFSETFROM:+0200
TZOFFSETTO:+0100
TZNAME:CET
DTSTART:20221030T010000
END:STANDARD
BEGIN:DAYLIGHT
TZOFFSETFROM:+0100
TZOFFSETTO:+0200
TZNAME:CEST
DTSTART:20230326T010000
END:DAYLIGHT
BEGIN:STANDARD
TZOFFSETFROM:+0200
TZOFFSETTO:+0100
TZNAME:CET
DTSTART:20231029T010000
END:STANDARD
END:VTIMEZONE
BEGIN:VEVENT
DTSTART;TZID=Europe/Prague:20221210T200000
DTEND;TZID=Europe/Prague:20221210T230000
DTSTAMP:20260419T180909
CREATED:20221128T171414Z
LAST-MODIFIED:20221128T171414Z
UID:64230-1670702400-1670713200@rocksound.cz
SUMMARY:OLYMPIC 60\, 1963 - 2023 ...vlak\, co nikde nestaví! / Svitavy
DESCRIPTION:Výroční koncert nestárnoucí legendy české hudební scény\, která oslaví 60 let. Olympic zahraje své největší hity.\nMůžete se těšit na velkolepou scénu a show! 
URL:https://rocksound.cz/akce/olympic-60-1963-2023-vlak-co-nikde-nestavi-svitavy/
LOCATION:MC Fabrika\, Svitavy\, Wolkerova alej 92/18\, Svitavy
ATTACH;FMTTYPE=image/jpeg:https://rocksound.cz/wp-content/uploads/2022/11/315091407_799391298006584_7235756857295785843_n.jpg
END:VEVENT
END:VCALENDAR