BEGIN:VCALENDAR
VERSION:2.0
PRODID:-//Rocksound - ECPv6.15.18//NONSGML v1.0//EN
CALSCALE:GREGORIAN
METHOD:PUBLISH
X-WR-CALNAME:Rocksound
X-ORIGINAL-URL:https://rocksound.cz
X-WR-CALDESC:Akce na Rocksound
REFRESH-INTERVAL;VALUE=DURATION:PT1H
X-Robots-Tag:noindex
X-PUBLISHED-TTL:PT1H
BEGIN:VTIMEZONE
TZID:Europe/Prague
BEGIN:DAYLIGHT
TZOFFSETFROM:+0100
TZOFFSETTO:+0200
TZNAME:CEST
DTSTART:20220327T010000
END:DAYLIGHT
BEGIN:STANDARD
TZOFFSETFROM:+0200
TZOFFSETTO:+0100
TZNAME:CET
DTSTART:20221030T010000
END:STANDARD
BEGIN:DAYLIGHT
TZOFFSETFROM:+0100
TZOFFSETTO:+0200
TZNAME:CEST
DTSTART:20230326T010000
END:DAYLIGHT
BEGIN:STANDARD
TZOFFSETFROM:+0200
TZOFFSETTO:+0100
TZNAME:CET
DTSTART:20231029T010000
END:STANDARD
BEGIN:DAYLIGHT
TZOFFSETFROM:+0100
TZOFFSETTO:+0200
TZNAME:CEST
DTSTART:20240331T010000
END:DAYLIGHT
BEGIN:STANDARD
TZOFFSETFROM:+0200
TZOFFSETTO:+0100
TZNAME:CET
DTSTART:20241027T010000
END:STANDARD
END:VTIMEZONE
BEGIN:VEVENT
DTSTART;TZID=Europe/Prague:20230114T200000
DTEND;TZID=Europe/Prague:20230114T220000
DTSTAMP:20260419T160645
CREATED:20221128T170440Z
LAST-MODIFIED:20221205T160834Z
UID:64225-1673726400-1673733600@rocksound.cz
SUMMARY:OLYMPIC 60\, 1963 - 2023 ...vlak\, co nikde nestaví! / Brno
DESCRIPTION:Výroční koncert nestárnoucí legendy české hudební scény\, která oslaví 60 let. Olympic zahraje své největší hity.\nMůžete se těšit na velkolepou scénu a show! \n\n\nHudba
URL:https://rocksound.cz/akce/olympic-60-1963-2023-vlak-co-nikde-nestavi-brno/
LOCATION:Sono\, Brno\, Vodova 108\, 612 00 Brno-Královo Pole\, Brno-Královo Pole\, 61200
ATTACH;FMTTYPE=image/jpeg:https://rocksound.cz/wp-content/uploads/2022/11/311699814_772002590745455_3573187830310141890_n.jpg
END:VEVENT
END:VCALENDAR