BEGIN:VCALENDAR
VERSION:2.0
PRODID:-//Rocksound - ECPv6.15.18//NONSGML v1.0//EN
CALSCALE:GREGORIAN
METHOD:PUBLISH
X-WR-CALNAME:Rocksound
X-ORIGINAL-URL:https://rocksound.cz
X-WR-CALDESC:Akce na Rocksound
REFRESH-INTERVAL;VALUE=DURATION:PT1H
X-Robots-Tag:noindex
X-PUBLISHED-TTL:PT1H
BEGIN:VTIMEZONE
TZID:Europe/Prague
BEGIN:DAYLIGHT
TZOFFSETFROM:+0100
TZOFFSETTO:+0200
TZNAME:CEST
DTSTART:20190331T010000
END:DAYLIGHT
BEGIN:STANDARD
TZOFFSETFROM:+0200
TZOFFSETTO:+0100
TZNAME:CET
DTSTART:20191027T010000
END:STANDARD
BEGIN:DAYLIGHT
TZOFFSETFROM:+0100
TZOFFSETTO:+0200
TZNAME:CEST
DTSTART:20200329T010000
END:DAYLIGHT
BEGIN:STANDARD
TZOFFSETFROM:+0200
TZOFFSETTO:+0100
TZNAME:CET
DTSTART:20201025T010000
END:STANDARD
BEGIN:DAYLIGHT
TZOFFSETFROM:+0100
TZOFFSETTO:+0200
TZNAME:CEST
DTSTART:20210328T010000
END:DAYLIGHT
BEGIN:STANDARD
TZOFFSETFROM:+0200
TZOFFSETTO:+0100
TZNAME:CET
DTSTART:20211031T010000
END:STANDARD
END:VTIMEZONE
BEGIN:VEVENT
DTSTART;TZID=Europe/Prague:20201120T204000
DTEND;TZID=Europe/Prague:20201120T221000
DTSTAMP:20260425T042210
CREATED:20201115T204956Z
LAST-MODIFIED:20201115T204956Z
UID:39340-1605904800-1605910200@rocksound.cz
SUMMARY:Rolling Stones - ČT Art
DESCRIPTION:Rolling Stones: Sticky Fingers – Live at the Fonda Theatre \n\n\nDvacátého května 2015 se ve Fonda Theatre v Hollywoodu uskutečnila jedinečná hudební událost. Ikoničtí Rolling Stones zde dosud poprvé a zatím také naposledy živě uvedli celé album Sticky Fingers. Tento výjimečný koncert předcházel turné Zip Code\, které se uskutečnilo v severní Americe během následujících dvou měsíců. V intimním prostředí Fonda Theatre měli diváci možnost zažít mnohem komornější atmosféru\, než ve velkých halách po zbytek turné. I díky tomu je televizní záznam tohoto koncertu zcela unikátní.
URL:https://rocksound.cz/akce/rolling-stones-ct-art/
LOCATION:ČT Art
END:VEVENT
BEGIN:VEVENT
DTSTART;TZID=Europe/Prague:20201122T005000
DTEND;TZID=Europe/Prague:20201122T022000
DTSTAMP:20260425T042210
CREATED:20201115T210113Z
LAST-MODIFIED:20201115T210113Z
UID:39349-1606006200-1606011600@rocksound.cz
SUMMARY:Rolling Stones - ČT Art
DESCRIPTION:Rolling Stones: Sticky Fingers – Live at the Fonda Theatre \n\n\nDvacátého května 2015 se ve Fonda Theatre v Hollywoodu uskutečnila jedinečná hudební událost. Ikoničtí Rolling Stones zde dosud poprvé a zatím také naposledy živě uvedli celé album Sticky Fingers. Tento výjimečný koncert předcházel turné Zip Code\, které se uskutečnilo v severní Americe během následujících dvou měsíců. V intimním prostředí Fonda Theatre měli diváci možnost zažít mnohem komornější atmosféru\, než ve velkých halách po zbytek turné. I díky tomu je televizní záznam tohoto koncertu zcela unikátní.
URL:https://rocksound.cz/akce/rolling-stones-ct-art-2/
LOCATION:ČT Art
END:VEVENT
END:VCALENDAR