BEGIN:VCALENDAR
VERSION:2.0
PRODID:-//Rocksound - ECPv6.15.18//NONSGML v1.0//EN
CALSCALE:GREGORIAN
METHOD:PUBLISH
X-WR-CALNAME:Rocksound
X-ORIGINAL-URL:https://rocksound.cz
X-WR-CALDESC:Akce na Rocksound
REFRESH-INTERVAL;VALUE=DURATION:PT1H
X-Robots-Tag:noindex
X-PUBLISHED-TTL:PT1H
BEGIN:VTIMEZONE
TZID:Europe/Prague
BEGIN:DAYLIGHT
TZOFFSETFROM:+0100
TZOFFSETTO:+0200
TZNAME:CEST
DTSTART:20190331T010000
END:DAYLIGHT
BEGIN:STANDARD
TZOFFSETFROM:+0200
TZOFFSETTO:+0100
TZNAME:CET
DTSTART:20191027T010000
END:STANDARD
BEGIN:DAYLIGHT
TZOFFSETFROM:+0100
TZOFFSETTO:+0200
TZNAME:CEST
DTSTART:20200329T010000
END:DAYLIGHT
BEGIN:STANDARD
TZOFFSETFROM:+0200
TZOFFSETTO:+0100
TZNAME:CET
DTSTART:20201025T010000
END:STANDARD
BEGIN:DAYLIGHT
TZOFFSETFROM:+0100
TZOFFSETTO:+0200
TZNAME:CEST
DTSTART:20210328T010000
END:DAYLIGHT
BEGIN:STANDARD
TZOFFSETFROM:+0200
TZOFFSETTO:+0100
TZNAME:CET
DTSTART:20211031T010000
END:STANDARD
END:VTIMEZONE
BEGIN:VEVENT
DTSTART;TZID=Europe/Prague:20200917T120000
DTEND;TZID=Europe/Prague:20200920T150000
DTSTAMP:20260419T182004
CREATED:20200608T085729Z
LAST-MODIFIED:20200608T085729Z
UID:33408-1600344000-1600614000@rocksound.cz
SUMMARY:EURO BIKE FEST 2020 - Pasohlávky
DESCRIPTION:12. ROČNÍK kultovního a největšího československého moto-festivalu pro motorkáře i nemotorkáře z celé Evropy i světa! 🏍\nVýběr té nejskvělejší zábavy a nezapomenutelných zážitků ve třech dnech od 17.9.2020 do 20.9.2020. \n\n\nV rámci bohatého programu vystoupí kapely: \nŠKWOR\, Alkehol\, Doga\, Gate Crasher\, Tanja\, Komunál\, Witch Hammer a další. \nVstupenka: 800 Kč v předprodeji\nPředprodej: na smsticket.cz
URL:https://rocksound.cz/akce/euro-bike-fest-2020-pasohlavky/
LOCATION:Autokemp ATC Merkur Pasohlávky
END:VEVENT
BEGIN:VEVENT
DTSTART;TZID=Europe/Prague:20200918T153000
DTEND;TZID=Europe/Prague:20200919T233000
DTSTAMP:20260419T182004
CREATED:20200210T082253Z
LAST-MODIFIED:20200520T195029Z
UID:29418-1600443000-1600558200@rocksound.cz
SUMMARY:Rockový Majáles Zubří země - Bystřice pod Pernštejnem
DESCRIPTION:Dva dny plné 16 nejlepších českých rockových a metalových kapel\, zábavy a pohody – to je jediný ROCKOVĚ ORIENTOVANÝ MAJÁLES v ČR – přesunutý na předposlední zářijový víkend od pátku 18. září do soboty 19. září 2020. \n\n\nPo velmi úspěšném 9. ročníku přinášíme jediný ROCKOVÝ MAJÁLES v ČR\, již 10. ročník v přírodním prostředím areálu na prosluněné travnaté ploše sportovního oválu za Lužánkami v Bystřici nad Pernštejnem\, tedy v oblasti\, kde historicky žila obrovská divoká zvířata – mystičtí zubři – ke kterým se festival hlásí názvem „ZUBŘÍ ZEMĚ“\nJedna ze 3 největších open air rockových akcí na Vysočině\, očekáváme 2500 návštěvníků. \nLINE-UP PÁTEK 18.9.2020 (VSTUP: 14.30 hodin\, START: 15.00 hodin)\nB.C. BROTHERS\nHEADFIRE\nD.O.P.\nRIMORTIS\nTITANIC\nVITACIT\nKOMUNÁL\nMILOŠ DODO DOLEŽAL\nAFTER PARTY „HARD & HEAVY“ DJ do 03:00 v XXL párty stanu! \nLINE-UP SOBOTA 19.9.2020 (VSTUP: 11.30 hodin\, START: 12.00 hodin)\nINSANIA\nALKEHOL\nMETALLICA revival\nTH!S s Vojtou Kotkem\nDOGA\nARAKAIN\nTRAUTENBERK\nKABÁT revival\nAFTER PARTY „HARD & HEAVY“ DJ do 03:00 v XXL párty stanu! \nVstupenky: předprodej na ticketlive.cz \n 
URL:https://rocksound.cz/akce/rockovy-majales-zubri-zeme-bystrice-pod-pernstejnem/
LOCATION:Rockový Majáles – in-line kruháč za Lužánkami
END:VEVENT
END:VCALENDAR