BEGIN:VCALENDAR
VERSION:2.0
PRODID:-//Rocksound - ECPv6.15.18//NONSGML v1.0//EN
CALSCALE:GREGORIAN
METHOD:PUBLISH
X-WR-CALNAME:Rocksound
X-ORIGINAL-URL:https://rocksound.cz
X-WR-CALDESC:Akce na Rocksound
REFRESH-INTERVAL;VALUE=DURATION:PT1H
X-Robots-Tag:noindex
X-PUBLISHED-TTL:PT1H
BEGIN:VTIMEZONE
TZID:Europe/Prague
BEGIN:DAYLIGHT
TZOFFSETFROM:+0100
TZOFFSETTO:+0200
TZNAME:CEST
DTSTART:20220327T010000
END:DAYLIGHT
BEGIN:STANDARD
TZOFFSETFROM:+0200
TZOFFSETTO:+0100
TZNAME:CET
DTSTART:20221030T010000
END:STANDARD
BEGIN:DAYLIGHT
TZOFFSETFROM:+0100
TZOFFSETTO:+0200
TZNAME:CEST
DTSTART:20230326T010000
END:DAYLIGHT
BEGIN:STANDARD
TZOFFSETFROM:+0200
TZOFFSETTO:+0100
TZNAME:CET
DTSTART:20231029T010000
END:STANDARD
BEGIN:DAYLIGHT
TZOFFSETFROM:+0100
TZOFFSETTO:+0200
TZNAME:CEST
DTSTART:20240331T010000
END:DAYLIGHT
BEGIN:STANDARD
TZOFFSETFROM:+0200
TZOFFSETTO:+0100
TZNAME:CET
DTSTART:20241027T010000
END:STANDARD
END:VTIMEZONE
BEGIN:VEVENT
DTSTART;TZID=Europe/Prague:20231028T190000
DTEND;TZID=Europe/Prague:20231028T235900
DTSTAMP:20260419T141741
CREATED:20230920T090802Z
LAST-MODIFIED:20230920T090802Z
UID:79467-1698519600-1698537540@rocksound.cz
SUMMARY:Aleš Brichta\, Alkehol\, Hattrick - Hořovice
DESCRIPTION:Aleš Brichta 40 let na scéně + nové CD\, Alkohol + Hattrick nový singl
URL:https://rocksound.cz/akce/ales-brichta-alkehol-hattrick-horovice/
LOCATION:Společenský dům Hořovice\, Nádražní 606\, Hořovice\, Středočeský\, 26801\, Česká republika
ATTACH;FMTTYPE=image/png:https://rocksound.cz/wp-content/uploads/2023/09/otuidh0gv4_sq_1x.png
END:VEVENT
END:VCALENDAR