BEGIN:VCALENDAR
VERSION:2.0
PRODID:-//Rocksound - ECPv6.15.18//NONSGML v1.0//EN
CALSCALE:GREGORIAN
METHOD:PUBLISH
X-WR-CALNAME:Rocksound
X-ORIGINAL-URL:https://rocksound.cz
X-WR-CALDESC:Akce na Rocksound
REFRESH-INTERVAL;VALUE=DURATION:PT1H
X-Robots-Tag:noindex
X-PUBLISHED-TTL:PT1H
BEGIN:VTIMEZONE
TZID:Europe/Prague
BEGIN:DAYLIGHT
TZOFFSETFROM:+0100
TZOFFSETTO:+0200
TZNAME:CEST
DTSTART:20220327T010000
END:DAYLIGHT
BEGIN:STANDARD
TZOFFSETFROM:+0200
TZOFFSETTO:+0100
TZNAME:CET
DTSTART:20221030T010000
END:STANDARD
BEGIN:DAYLIGHT
TZOFFSETFROM:+0100
TZOFFSETTO:+0200
TZNAME:CEST
DTSTART:20230326T010000
END:DAYLIGHT
BEGIN:STANDARD
TZOFFSETFROM:+0200
TZOFFSETTO:+0100
TZNAME:CET
DTSTART:20231029T010000
END:STANDARD
BEGIN:DAYLIGHT
TZOFFSETFROM:+0100
TZOFFSETTO:+0200
TZNAME:CEST
DTSTART:20240331T010000
END:DAYLIGHT
BEGIN:STANDARD
TZOFFSETFROM:+0200
TZOFFSETTO:+0100
TZNAME:CET
DTSTART:20241027T010000
END:STANDARD
END:VTIMEZONE
BEGIN:VEVENT
DTSTART;TZID=Europe/Prague:20230922T200000
DTEND;TZID=Europe/Prague:20230922T234500
DTSTAMP:20260419T150712
CREATED:20230804T220422Z
LAST-MODIFIED:20230804T220422Z
UID:76985-1695412800-1695426300@rocksound.cz
SUMMARY:WIND ROSE - European Warfront 2023 - ZLÍN
DESCRIPTION:Metaloví bojoví trpaslíci WIND ROSE dorazí v září do ZLÍNA!\nWIND ROSE\, ALL FOR METAL\, Seven Kingdoms – 22. 9. 2023\, ZLÍN\, Masters of Rock Café\nA je tady nová výzva! Metaloví bojovníci připravte se! Čeká vás nezapomenutelný hudební zážitek! Trpasličí mistři heavy-metalu WIND ROSE vyrazí na podzim na velmi očekávané\, své první headline tour a jedna jejich zastávka patří také vám\, fanoušci v ČR!\n22. září 2023 dorazí do ZLÍNA\, Masters of Rock Café a vstupenky jsou v prodeji!\nWIND ROSE vám přivezou zcela nový setlist\, akorát tak pro skákání\, headbanging a super zábavu! Budete uchváceni z jejich nových trpasličích hymn a živých metalových bitev.\nSpeciálním hostem tohoto epického turné jsou navíc neuvěřitelní ALL FOR METAL z Německa! Toto power-metalové seskupení už dokázalo ve světě pohnout nejedním metalovým srdcem a za svoji zatím krátkou kariéru už dosáhli opravdu velkých čísel ve sledovanosti!\nDruhým speciálním hostem je talentovaná banda SEVEN KINGDOMS z USA\, která se vrací do Evropy po dlouhých 10 letech a společně s WIND ROSE a ALL FOR METAL vytvoří noc\, která ve vás zanechá stopy a touhu po metalu na hodně dlouho!
URL:https://rocksound.cz/akce/wind-rose-european-warfront-2023-zlin/
LOCATION:Masters of Rock Cafe\, Tyršovo nábřeží 5497\, Zlín
ATTACH;FMTTYPE=image/jpeg:https://rocksound.cz/wp-content/uploads/2023/08/347109154_3595578010670578_4104063090969185512_n.jpg
END:VEVENT
END:VCALENDAR