BEGIN:VCALENDAR
VERSION:2.0
PRODID:-//Rocksound - ECPv6.15.18//NONSGML v1.0//EN
CALSCALE:GREGORIAN
METHOD:PUBLISH
X-ORIGINAL-URL:https://rocksound.cz
X-WR-CALDESC:Akce na Rocksound
REFRESH-INTERVAL;VALUE=DURATION:PT1H
X-Robots-Tag:noindex
X-PUBLISHED-TTL:PT1H
BEGIN:VTIMEZONE
TZID:Europe/Prague
BEGIN:DAYLIGHT
TZOFFSETFROM:+0100
TZOFFSETTO:+0200
TZNAME:CEST
DTSTART:20210328T010000
END:DAYLIGHT
BEGIN:STANDARD
TZOFFSETFROM:+0200
TZOFFSETTO:+0100
TZNAME:CET
DTSTART:20211031T010000
END:STANDARD
BEGIN:DAYLIGHT
TZOFFSETFROM:+0100
TZOFFSETTO:+0200
TZNAME:CEST
DTSTART:20220327T010000
END:DAYLIGHT
BEGIN:STANDARD
TZOFFSETFROM:+0200
TZOFFSETTO:+0100
TZNAME:CET
DTSTART:20221030T010000
END:STANDARD
BEGIN:DAYLIGHT
TZOFFSETFROM:+0100
TZOFFSETTO:+0200
TZNAME:CEST
DTSTART:20230326T010000
END:DAYLIGHT
BEGIN:STANDARD
TZOFFSETFROM:+0200
TZOFFSETTO:+0100
TZNAME:CET
DTSTART:20231029T010000
END:STANDARD
END:VTIMEZONE
BEGIN:VEVENT
DTSTART;TZID=Europe/Prague:20221103T190000
DTEND;TZID=Europe/Prague:20221103T233000
DTSTAMP:20260419T145037
CREATED:20221009T155905Z
LAST-MODIFIED:20221009T160038Z
UID:61244-1667502000-1667518200@rocksound.cz
SUMMARY:NEŽFALEŠ - Praha
DESCRIPTION:Pražská punkrocková kapela Nežfaleš letos slaví 20 let na scéně!\nHlavní výroční koncert je naplánovaný na čtvrtek 3.11.2022 do pražského Rock Café\nV plánu je prodloužený narozeninový koncertní set se zásadními songy napříč celou kariérou\, řádka hostů a taky křest speciálního alba k 20. výročí!\nVstup:\n190 Kč předprodej / 230 Kč na místě\nPředprodej GoOut: https://goout.net/cs/nezfales+special-guests/szsibts/\nDalší informace budeme servírovat průběžně. Těšíme se na vás!
URL:https://rocksound.cz/akce/nezfales-praha/
LOCATION:Rock Café Prague\, Národní třída 20\, Praha
ATTACH;FMTTYPE=image/jpeg:https://rocksound.cz/wp-content/uploads/2022/10/272193207_342179277911412_5495572629920160202_n.jpg
END:VEVENT
END:VCALENDAR