BEGIN:VCALENDAR
VERSION:2.0
PRODID:-//Rocksound - ECPv6.15.18//NONSGML v1.0//EN
CALSCALE:GREGORIAN
METHOD:PUBLISH
X-WR-CALNAME:Rocksound
X-ORIGINAL-URL:https://rocksound.cz
X-WR-CALDESC:Akce na Rocksound
REFRESH-INTERVAL;VALUE=DURATION:PT1H
X-Robots-Tag:noindex
X-PUBLISHED-TTL:PT1H
BEGIN:VTIMEZONE
TZID:Europe/Prague
BEGIN:DAYLIGHT
TZOFFSETFROM:+0100
TZOFFSETTO:+0200
TZNAME:CEST
DTSTART:20230326T010000
END:DAYLIGHT
BEGIN:STANDARD
TZOFFSETFROM:+0200
TZOFFSETTO:+0100
TZNAME:CET
DTSTART:20231029T010000
END:STANDARD
BEGIN:DAYLIGHT
TZOFFSETFROM:+0100
TZOFFSETTO:+0200
TZNAME:CEST
DTSTART:20240331T010000
END:DAYLIGHT
BEGIN:STANDARD
TZOFFSETFROM:+0200
TZOFFSETTO:+0100
TZNAME:CET
DTSTART:20241027T010000
END:STANDARD
BEGIN:DAYLIGHT
TZOFFSETFROM:+0100
TZOFFSETTO:+0200
TZNAME:CEST
DTSTART:20250330T010000
END:DAYLIGHT
BEGIN:STANDARD
TZOFFSETFROM:+0200
TZOFFSETTO:+0100
TZNAME:CET
DTSTART:20251026T010000
END:STANDARD
END:VTIMEZONE
BEGIN:VEVENT
DTSTART;TZID=Europe/Prague:20240202T193000
DTEND;TZID=Europe/Prague:20240202T233000
DTSTAMP:20260419T140559
CREATED:20240118T123450Z
LAST-MODIFIED:20240118T123450Z
UID:86510-1706902200-1706916600@rocksound.cz
SUMMARY:WELICORUSS + INNERSPHERE - Litoměřice
DESCRIPTION:WELICORUSS / INNERSPHERE „World Falls Tour 2023/24“\nEpic extreme metalová kapela Welicoruss se vynořila z dvouleté hibernace\, aby představila novou show obsahující skladby ze všech 4 alb. Welicoruss jsou opět připraveni dobýt českou svou energickou\, zběsilou show\, kterou rozhodně musíte vidět naživo!\nStyl kapely je těžké popsat\, ale v průběhu let se členové kapely shodli\, že hudebně nejblíž má k epickému extrémnímu metalu\, který ztělesňuje zuřivost black metalu\, epičnost symfonického metalu a složité aranže a rytmy progresivního metalu.\nWelicoruss již vystoupili na mnoha kultovních festivalech v Evropě\, absolvovali rozsáhlá turné a v současné době kapela aktivně pracuje na novém albu „Deadman’s Manifest“\, které vyjde v roce 2024.\nVIDEO „Siberian Heathen Horde“: https://youtu.be/ab7ddpqiO9w\nVIDEO „Spellcaster“: https://youtu.be/J3AJqMGAhcM\nLIVE „Legends Rock Festival“: https://youtu.be/v5Xofmuks0w\n__________________\nINNERSPHERE – melodic death / black metal [Pilsen\, CZ]\nje melodic-death metalová kapela z Plzně\, České\nRepubliky založená na konci roku 2015. Tento kvartet míchá prvky různých metalových a i rockových subžánrů a je možné poznat vlivy progresive\, thrash\, black nebo doom metalu a při tom si stále zachovávají agresivní elementy napříč tvorbou. Poslední alba jsou více zaměřena na výpravu\, atmosféru či ducha skladeb a jsou epičtější.\nInnersphere je aktivní kapelou hned od první sestavy (2016) \, kdy objíždějí koncerty nejen v ČR\, ale také v Německu\, Polsku\, Rakousku\, na Balkáně a dál… pracují na hudbě a kapele\, aby se dílo dostalo ještě dále. Vydané byly zatím 3 studiové nahrávky – debutové EP a 2 dlouhohrající desky “Amnesia” a “Omfalos”. Třetí řadové album “In The Shadow of the Sun” je již natočeno a řeší se jeho vydání.\nVIDEO: https://youtu.be/VHCWA-sjJQE\n__________________\nDAVID HRADÍLEK je metalová kapela založená hudebníkem a spisovatelem Davidem Hradílkem (ex-VIDOCK\, TÖRR\, INNERSPHERE\, ADAGIO FUNEBRE) v roce 2021 v Ústí nad Labem. Kapela vznikla na základě hororové knihy “David Hradílek – My Sweet Mortuary“\, kdy David složil ke každé kapitole knihy skladbu. Vzniklo tak ucelené koncepční album\, jež se řadí do žánru heavy/black/doom metal. Kapela momentálně hledá pro vydání knihy a alba vydavatele.\nVIDEO: https://www.youtube.com/watch?v=SufOcDe43DE\nPřeprodej bude oznámen předem a harmonogram upřesněn
URL:https://rocksound.cz/akce/welicoruss-innersphere-litomerice/
LOCATION:Baronka\, Litoměřice\, Lidická 58/13\, Litoměřice
ATTACH;FMTTYPE=image/jpeg:https://rocksound.cz/wp-content/uploads/2024/01/382449351_721615609791812_7797017993936275492_n.jpg
END:VEVENT
END:VCALENDAR