BEGIN:VCALENDAR
VERSION:2.0
PRODID:-//Rocksound - ECPv6.15.18//NONSGML v1.0//EN
CALSCALE:GREGORIAN
METHOD:PUBLISH
X-WR-CALNAME:Rocksound
X-ORIGINAL-URL:https://rocksound.cz
X-WR-CALDESC:Akce na Rocksound
REFRESH-INTERVAL;VALUE=DURATION:PT1H
X-Robots-Tag:noindex
X-PUBLISHED-TTL:PT1H
BEGIN:VTIMEZONE
TZID:Europe/Prague
BEGIN:DAYLIGHT
TZOFFSETFROM:+0100
TZOFFSETTO:+0200
TZNAME:CEST
DTSTART:20190331T010000
END:DAYLIGHT
BEGIN:STANDARD
TZOFFSETFROM:+0200
TZOFFSETTO:+0100
TZNAME:CET
DTSTART:20191027T010000
END:STANDARD
BEGIN:DAYLIGHT
TZOFFSETFROM:+0100
TZOFFSETTO:+0200
TZNAME:CEST
DTSTART:20200329T010000
END:DAYLIGHT
BEGIN:STANDARD
TZOFFSETFROM:+0200
TZOFFSETTO:+0100
TZNAME:CET
DTSTART:20201025T010000
END:STANDARD
BEGIN:DAYLIGHT
TZOFFSETFROM:+0100
TZOFFSETTO:+0200
TZNAME:CEST
DTSTART:20210328T010000
END:DAYLIGHT
BEGIN:STANDARD
TZOFFSETFROM:+0200
TZOFFSETTO:+0100
TZNAME:CET
DTSTART:20211031T010000
END:STANDARD
END:VTIMEZONE
BEGIN:VEVENT
DTSTART;TZID=Europe/Prague:20200229T210000
DTEND;TZID=Europe/Prague:20200229T233000
DTSTAMP:20260425T151646
CREATED:20200130T143446Z
LAST-MODIFIED:20200224T162244Z
UID:28742-1583010000-1583019000@rocksound.cz
SUMMARY:Suffocation\, Belphegor a Hate - Praha
DESCRIPTION:Suffocation (USA)\, Belphegor (AUT) a Hate (PL) 29. února v pražském Futurum Music Baru. \n\n\nEvropu zpraží láva roztavené černé smrti aneb Suffocation a Belphegor se po úspěšném korzování Amerikou v rámci turné Under the Black Death Metal Fire společně vrhnou na starý kontinent.\nLegendární „vynálezce“ slamu SUFFOCATION a přes 30 let jednu z nejosobitějších kapel death metalu s vysokorychlostně seštelovanými\, krvelačnými black/death čarodějníky BELPHEGOR na turné navíc doplní polští kozli HATE. Nebude nouze o rychlá tempa\, knock-out zasazující riffy\, ani temnou atmosféru. \nCena vstupenek: v předprodeji 550 Kč\, na místě 590 Kč\nPředprodej na: obscure.cz \nDoors: 20:00 hod.\nZačátek: 21:00 hod
URL:https://rocksound.cz/akce/suffocation-belphegor-a-hate-praha/
LOCATION:Futurum Music Bar\, Zborovská 7\, Praha
END:VEVENT
END:VCALENDAR