BEGIN:VCALENDAR
VERSION:2.0
PRODID:-//Rocksound - ECPv6.15.18//NONSGML v1.0//EN
CALSCALE:GREGORIAN
METHOD:PUBLISH
X-WR-CALNAME:Rocksound
X-ORIGINAL-URL:https://rocksound.cz
X-WR-CALDESC:Akce na Rocksound
REFRESH-INTERVAL;VALUE=DURATION:PT1H
X-Robots-Tag:noindex
X-PUBLISHED-TTL:PT1H
BEGIN:VTIMEZONE
TZID:Europe/Prague
BEGIN:DAYLIGHT
TZOFFSETFROM:+0100
TZOFFSETTO:+0200
TZNAME:CEST
DTSTART:20190331T010000
END:DAYLIGHT
BEGIN:STANDARD
TZOFFSETFROM:+0200
TZOFFSETTO:+0100
TZNAME:CET
DTSTART:20191027T010000
END:STANDARD
BEGIN:DAYLIGHT
TZOFFSETFROM:+0100
TZOFFSETTO:+0200
TZNAME:CEST
DTSTART:20200329T010000
END:DAYLIGHT
BEGIN:STANDARD
TZOFFSETFROM:+0200
TZOFFSETTO:+0100
TZNAME:CET
DTSTART:20201025T010000
END:STANDARD
BEGIN:DAYLIGHT
TZOFFSETFROM:+0100
TZOFFSETTO:+0200
TZNAME:CEST
DTSTART:20210328T010000
END:DAYLIGHT
BEGIN:STANDARD
TZOFFSETFROM:+0200
TZOFFSETTO:+0100
TZNAME:CET
DTSTART:20211031T010000
END:STANDARD
END:VTIMEZONE
BEGIN:VEVENT
DTSTART;TZID=Europe/Prague:20200710T193000
DTEND;TZID=Europe/Prague:20200711T233000
DTSTAMP:20260423T053203
CREATED:20200306T124945Z
LAST-MODIFIED:20200520T191900Z
UID:31186-1594409400-1594510200@rocksound.cz
SUMMARY:Fajtfest Help Party - Velké Meziříčí
DESCRIPTION:FAJTFEST HELP PARTY \n\n\nCOCOTTE MINUTE\, GUTALAX\, SPASM\, BACKFIST\,MERESIEW\, BAD VICTIM\, NEXT SPACE\, TERMINAL na Fajtově kopci ve Velkém Meziříčí. \nVstupenka: 450 Kč\nPředprodej vstupenek: na tickets@fajtfest.com
URL:https://rocksound.cz/akce/fajtfest-rumela-party-vol-17-velke-mezirici/
LOCATION:Fajtův kopec Velké Meziříčí
END:VEVENT
END:VCALENDAR