BEGIN:VCALENDAR
VERSION:2.0
PRODID:-//Rocksound - ECPv6.15.18//NONSGML v1.0//EN
CALSCALE:GREGORIAN
METHOD:PUBLISH
X-WR-CALNAME:Rocksound
X-ORIGINAL-URL:https://rocksound.cz
X-WR-CALDESC:Akce na Rocksound
REFRESH-INTERVAL;VALUE=DURATION:PT1H
X-Robots-Tag:noindex
X-PUBLISHED-TTL:PT1H
BEGIN:VTIMEZONE
TZID:Europe/Prague
BEGIN:DAYLIGHT
TZOFFSETFROM:+0100
TZOFFSETTO:+0200
TZNAME:CEST
DTSTART:20170326T010000
END:DAYLIGHT
BEGIN:STANDARD
TZOFFSETFROM:+0200
TZOFFSETTO:+0100
TZNAME:CET
DTSTART:20171029T010000
END:STANDARD
BEGIN:DAYLIGHT
TZOFFSETFROM:+0100
TZOFFSETTO:+0200
TZNAME:CEST
DTSTART:20180325T010000
END:DAYLIGHT
BEGIN:STANDARD
TZOFFSETFROM:+0200
TZOFFSETTO:+0100
TZNAME:CET
DTSTART:20181028T010000
END:STANDARD
BEGIN:DAYLIGHT
TZOFFSETFROM:+0100
TZOFFSETTO:+0200
TZNAME:CEST
DTSTART:20190331T010000
END:DAYLIGHT
BEGIN:STANDARD
TZOFFSETFROM:+0200
TZOFFSETTO:+0100
TZNAME:CET
DTSTART:20191027T010000
END:STANDARD
END:VTIMEZONE
BEGIN:VEVENT
DTSTART;TZID=Europe/Prague:20181222T200000
DTEND;TZID=Europe/Prague:20181222T213000
DTSTAMP:20260426T030910
CREATED:20181118T105418Z
LAST-MODIFIED:20181118T105418Z
UID:5777-1545508800-1545514200@rocksound.cz
SUMMARY:Mega vánoční koncert Olympic (Brno)
DESCRIPTION:Mega vánoční koncert skupiny OLYMPIC v Brně v Zoner BobyHall (Bobycentrum). \n\n\nVstupenky na www.olympicbrno.cz a v INDIES na Poštovské 2 v Brně. \nCena: 390 Kč – 790 Kč
URL:https://rocksound.cz/akce/mega-vanocni-koncert-olympic-brno/
LOCATION:Zoner BOBYHALL\, Sportovní 2a\, Brno
END:VEVENT
END:VCALENDAR