BEGIN:VCALENDAR
VERSION:2.0
PRODID:-//Rocksound - ECPv6.15.18//NONSGML v1.0//EN
CALSCALE:GREGORIAN
METHOD:PUBLISH
X-WR-CALNAME:Rocksound
X-ORIGINAL-URL:https://rocksound.cz
X-WR-CALDESC:Akce na Rocksound
REFRESH-INTERVAL;VALUE=DURATION:PT1H
X-Robots-Tag:noindex
X-PUBLISHED-TTL:PT1H
BEGIN:VTIMEZONE
TZID:Europe/Prague
BEGIN:DAYLIGHT
TZOFFSETFROM:+0100
TZOFFSETTO:+0200
TZNAME:CEST
DTSTART:20190331T010000
END:DAYLIGHT
BEGIN:STANDARD
TZOFFSETFROM:+0200
TZOFFSETTO:+0100
TZNAME:CET
DTSTART:20191027T010000
END:STANDARD
BEGIN:DAYLIGHT
TZOFFSETFROM:+0100
TZOFFSETTO:+0200
TZNAME:CEST
DTSTART:20200329T010000
END:DAYLIGHT
BEGIN:STANDARD
TZOFFSETFROM:+0200
TZOFFSETTO:+0100
TZNAME:CET
DTSTART:20201025T010000
END:STANDARD
BEGIN:DAYLIGHT
TZOFFSETFROM:+0100
TZOFFSETTO:+0200
TZNAME:CEST
DTSTART:20210328T010000
END:DAYLIGHT
BEGIN:STANDARD
TZOFFSETFROM:+0200
TZOFFSETTO:+0100
TZNAME:CET
DTSTART:20211031T010000
END:STANDARD
END:VTIMEZONE
BEGIN:VEVENT
DTSTART;TZID=Europe/Prague:20200815T180000
DTEND;TZID=Europe/Prague:20200815T233000
DTSTAMP:20260421T182126
CREATED:20200710T123120Z
LAST-MODIFIED:20200710T123120Z
UID:34738-1597514400-1597534200@rocksound.cz
SUMMARY:Tři sestry - Slušovice
DESCRIPTION:V sobotu 15. srpna vystoupí v rámci Gambrinus 11 Tour kapela Tři sestry ve Slušovicích. \n\n\nHosté: E!E\, Brünnfield\, Cindy Rock\, Pavel Langer \nVstupenky: 490 Kč v předprodeji.\nPředprodej: v síti Ticketstream.
URL:https://rocksound.cz/akce/tri-sestry-slusovice/
LOCATION:Dostihové informace Slušovice/Sud
END:VEVENT
END:VCALENDAR