BEGIN:VCALENDAR
VERSION:2.0
PRODID:-//Rocksound - ECPv6.15.18//NONSGML v1.0//EN
CALSCALE:GREGORIAN
METHOD:PUBLISH
X-WR-CALNAME:Rocksound
X-ORIGINAL-URL:https://rocksound.cz
X-WR-CALDESC:Akce na Rocksound
REFRESH-INTERVAL;VALUE=DURATION:PT1H
X-Robots-Tag:noindex
X-PUBLISHED-TTL:PT1H
BEGIN:VTIMEZONE
TZID:Europe/Prague
BEGIN:DAYLIGHT
TZOFFSETFROM:+0100
TZOFFSETTO:+0200
TZNAME:CEST
DTSTART:20200329T010000
END:DAYLIGHT
BEGIN:STANDARD
TZOFFSETFROM:+0200
TZOFFSETTO:+0100
TZNAME:CET
DTSTART:20201025T010000
END:STANDARD
BEGIN:DAYLIGHT
TZOFFSETFROM:+0100
TZOFFSETTO:+0200
TZNAME:CEST
DTSTART:20210328T010000
END:DAYLIGHT
BEGIN:STANDARD
TZOFFSETFROM:+0200
TZOFFSETTO:+0100
TZNAME:CET
DTSTART:20211031T010000
END:STANDARD
BEGIN:DAYLIGHT
TZOFFSETFROM:+0100
TZOFFSETTO:+0200
TZNAME:CEST
DTSTART:20220327T010000
END:DAYLIGHT
BEGIN:STANDARD
TZOFFSETFROM:+0200
TZOFFSETTO:+0100
TZNAME:CET
DTSTART:20221030T010000
END:STANDARD
END:VTIMEZONE
BEGIN:VEVENT
DTSTART;TZID=Europe/Prague:20210606T180000
DTEND;TZID=Europe/Prague:20210606T235900
DTSTAMP:20260419T165426
CREATED:20210603T071537Z
LAST-MODIFIED:20210603T071537Z
UID:41720-1623002400-1623023940@rocksound.cz
SUMMARY:Experiment - Koncert zdarma\, Praha
DESCRIPTION:Chcete si v magické datum 6. 6. 2021 užít zadarmo speciální koncert špiček tuzemské metalové scény\, a k tomu se stát součástí experimentu\, kdy na sobě necháte otestovat nový cashless systém festivalu BRUTAL ASSAULT? \n\n\nCashless systém\, jak mnozí z vás již vědí\, je založen na bezhotovostní platbě\, v podobě wristbandu (čipového náramku)\, na kterém je nabitý kredit\, jenž dle své libosti utrácíte.\nPro připravovaný koncert máme jen jednu jedinou podmínku\, a tou je zakoupení tohoto přednabitého wristbandu za cenu 200 Kč\, se kterým ale zároveň získáte kredit ve stejné hodnotě\, tedy 200 Kč pro Vaši útratu za konzumaci v Modré Vopici.\nJe to fér? Pokud si myslíte\, že ano\, líbí se vám sestava a chcete se zúčastnit tohoto experimentu\, kupte si prosím svůj kredit/vstupenku zde: https://obscure.cz/cs/tickets/detail/id/422\n\nPo celou dobu akce budeme dodržovat aktuální protiepidemická opatření. Návštevník by měl být schopen se prokázat dokladem o takzvaném T-N-O (test – nemoc – očkování)\n\n\nEXPERIMENT – KONCERT ZDARMA\n06 / 06 / 2021 / PRAHA / MODRÁ VOPICE\nMINDWORK / BRUTALLY DECEASED / BEAST WITHIN THE SOUND \n\ntiming:\n18: 00 doors\n19:00 – 19:40 BEAST WITHIN THE SOUND\n20:05 – 20:45 MINDWORK\n21:10 – 22:00 BRUTALLY DECEASED
URL:https://rocksound.cz/akce/experiment-koncert-zdarma-praha/
LOCATION:MusicClub Modrá Vopice\, Spojovací 1901/12\, Praha
END:VEVENT
END:VCALENDAR