BEGIN:VCALENDAR
VERSION:2.0
PRODID:-//Rocksound - ECPv6.15.18//NONSGML v1.0//EN
CALSCALE:GREGORIAN
METHOD:PUBLISH
X-WR-CALNAME:Rocksound
X-ORIGINAL-URL:https://rocksound.cz
X-WR-CALDESC:Akce na Rocksound
REFRESH-INTERVAL;VALUE=DURATION:PT1H
X-Robots-Tag:noindex
X-PUBLISHED-TTL:PT1H
BEGIN:VTIMEZONE
TZID:Europe/Prague
BEGIN:DAYLIGHT
TZOFFSETFROM:+0100
TZOFFSETTO:+0200
TZNAME:CEST
DTSTART:20230326T010000
END:DAYLIGHT
BEGIN:STANDARD
TZOFFSETFROM:+0200
TZOFFSETTO:+0100
TZNAME:CET
DTSTART:20231029T010000
END:STANDARD
BEGIN:DAYLIGHT
TZOFFSETFROM:+0100
TZOFFSETTO:+0200
TZNAME:CEST
DTSTART:20240331T010000
END:DAYLIGHT
BEGIN:STANDARD
TZOFFSETFROM:+0200
TZOFFSETTO:+0100
TZNAME:CET
DTSTART:20241027T010000
END:STANDARD
BEGIN:DAYLIGHT
TZOFFSETFROM:+0100
TZOFFSETTO:+0200
TZNAME:CEST
DTSTART:20250330T010000
END:DAYLIGHT
BEGIN:STANDARD
TZOFFSETFROM:+0200
TZOFFSETTO:+0100
TZNAME:CET
DTSTART:20251026T010000
END:STANDARD
END:VTIMEZONE
BEGIN:VEVENT
DTSTART;TZID=Europe/Prague:20240123T183000
DTEND;TZID=Europe/Prague:20240123T233000
DTSTAMP:20260423T210952
CREATED:20231212T170318Z
LAST-MODIFIED:20231212T170318Z
UID:85183-1706034600-1706052600@rocksound.cz
SUMMARY:CABAL\, VISCERA\, VEXED\, LIFESICK - Praha
DESCRIPTION:CABAL jsou deathcore supernova z dánské Kodaně\, která tam patří mezi nejbrutálnější a nejslibnější heavy kapely. Ve své hudbě i vizuální stylizaci vytváří niternou a doomovou atmosféru plnou zmaru\, zatímco produkci mají křišťálově čistou\, ačkoli v písních čerpají inspiraci ze všeho možného od black a death metalu až po djent a hardcore.\nMladá kapela si od vydání svého debutového alba „Mark of Rot“ v roce 2018 stihla udělat jméno jak v Dánsku\, tak ve zbytku světa\, a to díky hraní na renomovaných festivalech jako Copenhell\, Roskilde či Euroblast a i díky turné po Evropě\, Japonsku a Severní Americe\, čímž si jich všimli až v Nuclear Blast. A ti jim také vydali brutální třetí desku „Magno Interitus“.\nCabal na turné doprovodí trojice kapel. Technické core komando VISCERA z Anglie kotvící u Unique Leader\, které se namísto chrlení nápadu za nápadem soustředí na strukturu a silné písně s údernými motivy. Spolu s anglickými modernisty VEXED v čele se zpěvačkou Megan\, kteří budou druhým doprovodem\, patří mezi tamní nejnadějnější spolky. Silné groovy a progresivní myšlenky však nebudou patřit na úvod tohoto core-večírku. Ten trochu nečekaně rozjedou dánští deathmetalisté LIFESICK.\n————————————-\nCABAL\, VISCERA\, VEXED\, LIFESICK\n23. 1. 2024 – Praha\, Modrá Vopice\nOBSCURE E-TICKET: https://obscure.cz/cs/tickets/detail/id/647\nPředprodej dále v sítích Ticketmaster a GoOut:\nhttps://goout.net/cs/cabal%2Bviscera%2Bdalsi/szyberw/
URL:https://rocksound.cz/akce/cabal-viscera-vexed-lifesick-praha/
LOCATION:MusicClub Modrá Vopice\, Spojovací 1901/12\, Praha
ATTACH;FMTTYPE=image/jpeg:https://rocksound.cz/wp-content/uploads/2023/12/396542363_640952831526601_1491333599769109167_n.jpg
END:VEVENT
END:VCALENDAR