BEGIN:VCALENDAR
VERSION:2.0
PRODID:-//Rocksound - ECPv6.15.18//NONSGML v1.0//EN
CALSCALE:GREGORIAN
METHOD:PUBLISH
X-WR-CALNAME:Rocksound
X-ORIGINAL-URL:https://rocksound.cz
X-WR-CALDESC:Akce na Rocksound
REFRESH-INTERVAL;VALUE=DURATION:PT1H
X-Robots-Tag:noindex
X-PUBLISHED-TTL:PT1H
BEGIN:VTIMEZONE
TZID:Europe/Prague
BEGIN:DAYLIGHT
TZOFFSETFROM:+0100
TZOFFSETTO:+0200
TZNAME:CEST
DTSTART:20230326T010000
END:DAYLIGHT
BEGIN:STANDARD
TZOFFSETFROM:+0200
TZOFFSETTO:+0100
TZNAME:CET
DTSTART:20231029T010000
END:STANDARD
BEGIN:DAYLIGHT
TZOFFSETFROM:+0100
TZOFFSETTO:+0200
TZNAME:CEST
DTSTART:20240331T010000
END:DAYLIGHT
BEGIN:STANDARD
TZOFFSETFROM:+0200
TZOFFSETTO:+0100
TZNAME:CET
DTSTART:20241027T010000
END:STANDARD
BEGIN:DAYLIGHT
TZOFFSETFROM:+0100
TZOFFSETTO:+0200
TZNAME:CEST
DTSTART:20250330T010000
END:DAYLIGHT
BEGIN:STANDARD
TZOFFSETFROM:+0200
TZOFFSETTO:+0100
TZNAME:CET
DTSTART:20251026T010000
END:STANDARD
END:VTIMEZONE
BEGIN:VEVENT
DTSTART;TZID=Europe/Prague:20240711T194500
DTEND;TZID=Europe/Prague:20240711T220000
DTSTAMP:20260423T042147
CREATED:20240618T170559Z
LAST-MODIFIED:20240618T170559Z
UID:92085-1720727100-1720735200@rocksound.cz
SUMMARY:Royal Blood - Praha
DESCRIPTION: Po více jak třinácti letech působení zavítají Royal Blood konečně do ČR odehrát svůj první sólový koncert!\n Kapela pocházející z britského Worthingu vznikla v roce 2011 a téměř od samého začátku byla založená na dlouholetém přátelství hudebníků Mikea Kerra (zpěv\, baskytara) a Bena Thatchera (bicí). Po vydání debutového alba se do té doby neznámý projekt dostal téměř přes noc do čela žebříčků britských hitparád\, zahrál si na pódiích festivalů jako Glastonbury nebo Rock Werchter a v neposlední řadě získal nominaci na prestižní Mercury Prize a ocenění Brit Awards za Nejlepší britskou kapelu roku 2015.\nJejich zvuk se dá přirovnat ke kapelám jako The White Stripes nebo Muse\, se kterými v loňském roce odehráli Royal Blood turné. Kombinaci baskytary a bicích originálně podtrhuje Kerrův typický styl\, kdy jeho baskytara zní díky efektům zároveň jako elektrická kytara. Ačkoliv jde pouze o duo\, naživo dokáže tato dnes již ikonická kapela předvést strhující a energickou show.\n Vstupenky na pražský koncert budou v prodeji v síti GoOut od 2. února od 10:00.\nKoncert organizuje Charmenko Czechia.\n—\n After more than thirteen years of career\, Royal Blood will finally come to Czechia to play their first solo concert!\n The band from Worthing\, UK was formed in 2011 and almost from the very beginning was based on the long-term friendship of musicians Mike Kerr (vocals\, bass guitar) and Ben Thatcher (drums). After the release of their debut album\, the until then unknown project reached the top of the British charts almost overnight\, played on the stages of festivals such as Glastonbury and Rock Werchter and\, last but not least\, received a nomination for the prestigious Mercury Prize and won the Brit Awards for Best British Band of 2015.\nTheir sound can be compared to bands like The White Stripes or Muse\, with whom they toured last year. The combination of bass guitar and drums is originally emphasized by Kerr’s typical style\, where his bass guitar sounds also like an electric guitar thanks to the effects. Although only a duo\, this now iconic band can put on a captivating and energetic show live.\n Tickets for the Prague concert will be on sale in the GoOut network from 10:00 on February 2.\nThe concert is organized by Charmenko Czechia.
URL:https://rocksound.cz/akce/royal-blood-praha/
LOCATION:Ledárny Braník\, Ledařská 5\, Praha\, 147 00
ATTACH;FMTTYPE=image/jpeg:https://rocksound.cz/wp-content/uploads/2024/06/425307054_859343689535127_719811565649593103_n.jpg
END:VEVENT
END:VCALENDAR