BEGIN:VCALENDAR
VERSION:2.0
PRODID:-//Rocksound - ECPv6.15.18//NONSGML v1.0//EN
CALSCALE:GREGORIAN
METHOD:PUBLISH
X-WR-CALNAME:Rocksound
X-ORIGINAL-URL:https://rocksound.cz
X-WR-CALDESC:Akce na Rocksound
REFRESH-INTERVAL;VALUE=DURATION:PT1H
X-Robots-Tag:noindex
X-PUBLISHED-TTL:PT1H
BEGIN:VTIMEZONE
TZID:Europe/Prague
BEGIN:DAYLIGHT
TZOFFSETFROM:+0100
TZOFFSETTO:+0200
TZNAME:CEST
DTSTART:20210328T010000
END:DAYLIGHT
BEGIN:STANDARD
TZOFFSETFROM:+0200
TZOFFSETTO:+0100
TZNAME:CET
DTSTART:20211031T010000
END:STANDARD
BEGIN:DAYLIGHT
TZOFFSETFROM:+0100
TZOFFSETTO:+0200
TZNAME:CEST
DTSTART:20220327T010000
END:DAYLIGHT
BEGIN:STANDARD
TZOFFSETFROM:+0200
TZOFFSETTO:+0100
TZNAME:CET
DTSTART:20221030T010000
END:STANDARD
BEGIN:DAYLIGHT
TZOFFSETFROM:+0100
TZOFFSETTO:+0200
TZNAME:CEST
DTSTART:20230326T010000
END:DAYLIGHT
BEGIN:STANDARD
TZOFFSETFROM:+0200
TZOFFSETTO:+0100
TZNAME:CET
DTSTART:20231029T010000
END:STANDARD
END:VTIMEZONE
BEGIN:VEVENT
DTSTART;TZID=Europe/Prague:20220513T200000
DTEND;TZID=Europe/Prague:20220513T233000
DTSTAMP:20260419T200110
CREATED:20220407T130410Z
LAST-MODIFIED:20220407T130410Z
UID:51464-1652472000-1652484600@rocksound.cz
SUMMARY:Cocotte Minute\, Elektrïck Mann\, Vojtaano - JABLONEC NAD NISOU
DESCRIPTION:Tak jo! je na čase trochu rozčeřit hladinku!!! Top showTop forma …Top intelektuálně kulturní esence všeho\, na co jste se báli jen pomyslet!!!! tohle spojení je vražda\nseejaa CM\, EM\, VJT i na vaší diskošce\nCocotte Minute a Elektrïck Mann\, nezpochybnitelní čeští a moravští králové luxusu\, vytříbeného chování\, mluvy a ryzího intelektuálna\, vyráží na společnou apokalyptickou výpravu.\nTurné s deseti zastávkami začíná 8.4. a bude zakončeno 14.5. v Praze. Na vybraných místech je navíc dorazí podpořit i král rapu\, funku\, soulu a španělky o zem rozbíjející Vojtaano.
URL:https://rocksound.cz/akce/cocotte-minute-elektrick-mann-vojtaano-jablonec-nad-nisou/
LOCATION:Klub Na Rampě\, Jiráskova 9\, Jablonec nad Nisou
ATTACH;FMTTYPE=image/jpeg:https://rocksound.cz/wp-content/uploads/2022/04/274202869_496076645222123_3446875418783872704_n.jpg
END:VEVENT
END:VCALENDAR