BEGIN:VCALENDAR
VERSION:2.0
PRODID:-//Rocksound - ECPv6.15.18//NONSGML v1.0//EN
CALSCALE:GREGORIAN
METHOD:PUBLISH
X-WR-CALNAME:Rocksound
X-ORIGINAL-URL:https://rocksound.cz
X-WR-CALDESC:Akce na Rocksound
REFRESH-INTERVAL;VALUE=DURATION:PT1H
X-Robots-Tag:noindex
X-PUBLISHED-TTL:PT1H
BEGIN:VTIMEZONE
TZID:Europe/Prague
BEGIN:DAYLIGHT
TZOFFSETFROM:+0100
TZOFFSETTO:+0200
TZNAME:CEST
DTSTART:20220327T010000
END:DAYLIGHT
BEGIN:STANDARD
TZOFFSETFROM:+0200
TZOFFSETTO:+0100
TZNAME:CET
DTSTART:20221030T010000
END:STANDARD
BEGIN:DAYLIGHT
TZOFFSETFROM:+0100
TZOFFSETTO:+0200
TZNAME:CEST
DTSTART:20230326T010000
END:DAYLIGHT
BEGIN:STANDARD
TZOFFSETFROM:+0200
TZOFFSETTO:+0100
TZNAME:CET
DTSTART:20231029T010000
END:STANDARD
BEGIN:DAYLIGHT
TZOFFSETFROM:+0100
TZOFFSETTO:+0200
TZNAME:CEST
DTSTART:20240331T010000
END:DAYLIGHT
BEGIN:STANDARD
TZOFFSETFROM:+0200
TZOFFSETTO:+0100
TZNAME:CET
DTSTART:20241027T010000
END:STANDARD
END:VTIMEZONE
BEGIN:VEVENT
DTSTART;TZID=Europe/Prague:20230128T170000
DTEND;TZID=Europe/Prague:20230128T220000
DTSTAMP:20260423T053014
CREATED:20221214T134931Z
LAST-MODIFIED:20221214T134931Z
UID:64999-1674925200-1674943200@rocksound.cz
SUMMARY:KATATONIA\, SÓLSTAFIR\, SOM - Praha
DESCRIPTION:Švédská KATATONIA a islandští SÓLSTAFIR oznamují společné turné\, k němuž přizvali post-rockový super-kolektiv SOM složený ze současných i bývalých členů Caspian\, Junius a Constants\, jehož součástí bude i pražská zastávka v legendárním podzemním klubu ROXY!\nDá se tomuto spojení kapel vůbec něco vytknout?\nKde jinde by jedinečné atmosféry všech tří interpretů\, které jsou až po okraj magické číše naplněné melancholií\, zasněností\, vášní i všech temných tužeb\, jež nikdo nevyřkne nahlas\, vyzněly lépe?\n——————————–\nKATATONIA\, SÓLSTAFIR\, SOM\n29. 1. 2022 – PRAHA\, ROXY\nPředprodej: https://obscure.cz/cs/tickets/detail/id/415\nVstupenky dále v síti Ticketmaster.
URL:https://rocksound.cz/akce/katatonia-solstafir-som-praha/
LOCATION:Roxy Prague\, Dlouhá 33\, Praha
ATTACH;FMTTYPE=image/jpeg:https://rocksound.cz/wp-content/uploads/2022/12/269832005_4645439098879192_8672898517472615234_n.jpg
END:VEVENT
END:VCALENDAR