BEGIN:VCALENDAR
VERSION:2.0
PRODID:-//Rocksound - ECPv6.15.18//NONSGML v1.0//EN
CALSCALE:GREGORIAN
METHOD:PUBLISH
X-WR-CALNAME:Rocksound
X-ORIGINAL-URL:https://rocksound.cz
X-WR-CALDESC:Akce na Rocksound
REFRESH-INTERVAL;VALUE=DURATION:PT1H
X-Robots-Tag:noindex
X-PUBLISHED-TTL:PT1H
BEGIN:VTIMEZONE
TZID:Europe/Prague
BEGIN:DAYLIGHT
TZOFFSETFROM:+0100
TZOFFSETTO:+0200
TZNAME:CEST
DTSTART:20180325T010000
END:DAYLIGHT
BEGIN:STANDARD
TZOFFSETFROM:+0200
TZOFFSETTO:+0100
TZNAME:CET
DTSTART:20181028T010000
END:STANDARD
BEGIN:DAYLIGHT
TZOFFSETFROM:+0100
TZOFFSETTO:+0200
TZNAME:CEST
DTSTART:20190331T010000
END:DAYLIGHT
BEGIN:STANDARD
TZOFFSETFROM:+0200
TZOFFSETTO:+0100
TZNAME:CET
DTSTART:20191027T010000
END:STANDARD
BEGIN:DAYLIGHT
TZOFFSETFROM:+0100
TZOFFSETTO:+0200
TZNAME:CEST
DTSTART:20200329T010000
END:DAYLIGHT
BEGIN:STANDARD
TZOFFSETFROM:+0200
TZOFFSETTO:+0100
TZNAME:CET
DTSTART:20201025T010000
END:STANDARD
END:VTIMEZONE
BEGIN:VEVENT
DTSTART;TZID=Europe/Prague:20191103T210000
DTEND;TZID=Europe/Prague:20191103T233000
DTSTAMP:20260422T145032
CREATED:20191030T195221Z
LAST-MODIFIED:20191030T195221Z
UID:24627-1572814800-1572823800@rocksound.cz
SUMMARY:ADAM BOMB (USA) - Praha
DESCRIPTION:V rámci svého aktuálního evropského turné 2019 se newyorská klubová legenda – zpěvák a kytarista ADAM BOMB vrací hned na několik zastávek se svou dynamickou show! \n\n\nSvou tvorbou a hlavně nenapodobitelnou podiovou prezentací je tuzemskému publiku již dobře znám a jeho návrat na česká podia je vždy netrpělivě očekáván. \nSupport: CraZze \nPředprodej vstupenek na pokladně Divadla Metro.
URL:https://rocksound.cz/akce/adam-bomb-usa-praha/
LOCATION:Vagon Klub\, Národní 25 - Palác METRO\, Praha
END:VEVENT
END:VCALENDAR