BEGIN:VCALENDAR
VERSION:2.0
PRODID:-//Rocksound - ECPv6.15.18//NONSGML v1.0//EN
CALSCALE:GREGORIAN
METHOD:PUBLISH
X-ORIGINAL-URL:https://rocksound.cz
X-WR-CALDESC:Akce na Rocksound
REFRESH-INTERVAL;VALUE=DURATION:PT1H
X-Robots-Tag:noindex
X-PUBLISHED-TTL:PT1H
BEGIN:VTIMEZONE
TZID:Europe/Prague
BEGIN:DAYLIGHT
TZOFFSETFROM:+0100
TZOFFSETTO:+0200
TZNAME:CEST
DTSTART:20240331T010000
END:DAYLIGHT
BEGIN:STANDARD
TZOFFSETFROM:+0200
TZOFFSETTO:+0100
TZNAME:CET
DTSTART:20241027T010000
END:STANDARD
BEGIN:DAYLIGHT
TZOFFSETFROM:+0100
TZOFFSETTO:+0200
TZNAME:CEST
DTSTART:20250330T010000
END:DAYLIGHT
BEGIN:STANDARD
TZOFFSETFROM:+0200
TZOFFSETTO:+0100
TZNAME:CET
DTSTART:20251026T010000
END:STANDARD
BEGIN:DAYLIGHT
TZOFFSETFROM:+0100
TZOFFSETTO:+0200
TZNAME:CEST
DTSTART:20260329T010000
END:DAYLIGHT
BEGIN:STANDARD
TZOFFSETFROM:+0200
TZOFFSETTO:+0100
TZNAME:CET
DTSTART:20261025T010000
END:STANDARD
END:VTIMEZONE
BEGIN:VEVENT
DTSTART;TZID=Europe/Prague:20250710T120000
DTEND;TZID=Europe/Prague:20250713T234500
DTSTAMP:20260419T161307
CREATED:20250107T184859Z
LAST-MODIFIED:20250107T184859Z
UID:100671-1752148800-1752450300@rocksound.cz
SUMMARY:MASTERS OF ROCK 2025 - Vizovice
DESCRIPTION:MASTERS OF ROCK 2025 – 10. – 13. 7. 2025 – areál likérky R. Jelínek\, VIZOVICE\n21. ročník festivalu MASTERS OF ROCK se uskuteční ve dnech 10. – 13. 7. 2025 tradičně v areálu likérky R. Jelínek ve VIZOVICÍCH.\nPředstaví se vám tyto kapely:TILL LINDEMANN\, POWERWOLF\, HAMMERFALL\, APOCALYPTICA – Plays Metallica\, THE HU\, LITA FORD – poprvé live v ČR\, SOULFLY\, KORPIKLAANI\, PAIN\, DRAGONFORCE\, GLORYHAMMER\, SEPTICFLESH\, RHAPSODY OF FIRE za doprovodu zlínské Filharmonie Bohuslava Martinů\, WARKINGS\, KANONENFIEBER\, ME AND THAT MAN\, VAN CANTO\, DARTAGNAN\, CITRON\, VARG – 20th Anniversary show\, HERMAN FRANK LEGACY\, TEMPERANCE\, ORPHANED LAND\, RYUJIN\, LEAGUE OF DISTORTION\, BURNING WITCHES\, CROWNSHIFT\, NACHTBLUT\, DRAGONLAND\, SHREDHEAD\, ILLUMISHADE\, MOON SHOT\, HELLPASS\, HURRICANE ON SATURN\, METALITE\, SECRET RULE\, DOGA\, SEBASTIEN\, DARK GAMBALLE\, FORREST JUMP.\nLetní festivalová sezóna je tímto rozjetá naplno! MASTERS OF ROCK pro vás v červenci otvírá svou již třetí desetiletku. Připojte se ke světové „Masters“ komunitě a zajistěte si svou účast ve VIZOVICÍCH „u Jelínka“ co nejdříve! Těšíme se na vás!
URL:https://rocksound.cz/akce/masters-of-rock-2025-vizovice/
LOCATION:Areál Likérky R.Jelínek\, Razov 472\, Vizovice
ATTACH;FMTTYPE=image/jpeg:https://rocksound.cz/wp-content/uploads/2025/01/467972508_882842347343453_4135682172133078494_n.jpg
END:VEVENT
BEGIN:VEVENT
DTSTART;TZID=Europe/Prague:20250301T190000
DTEND;TZID=Europe/Prague:20250301T230000
DTSTAMP:20260419T161307
CREATED:20241229T200335Z
LAST-MODIFIED:20241229T200335Z
UID:99997-1740855600-1740870000@rocksound.cz
SUMMARY:Dirkschneider - Praha
DESCRIPTION:DIRKSCHNEIDER – Balls To The Wall 40th Anniversary Tour – 1. 3. 2025 – PRAHA\, SaSaZu\nDIRKSCHNEIDER. To je jméno\, které znamená mnohem víc než jen pouhou druhou inkarnaci kapely U.D.O.\, kapely mistra a metalové legendy Udo Dirkschneidera. V této podobě kvintet vzdává hold celé hudební historii svého ikonického zpěváka. Jako skladatel\, a dokonce zakladatel\, byl Udo\, v 70. letech\, jednou z hlavních postav úspěšného příběhu ACCEPT. Baskytarista Peter Baltes\, nejnovější člen U.D.O. / DIRKSCHNEIDER bandy se také hodně podílel na tvorbě ACCEPT. Během jejich společného působení v ACCEPT\, vznikla metalovou scénu definující a slavná deska „Balls To The Wall“.\nNa oslavu 40. výročí vydání tohoto kultovního alba vyrazí DIRSKCHNEIDER příští jaro na rozsáhlé evropské turné! U nás bude mít toto turné jen jednu zastávku! V PRAZE\, klubu SaSaZu – 1. března 2025!\n„Balls To The Wall“ by byl výstižný popis pro pódiovou přítomnost kapely\, kterou završuje bubenický ‚hodinový stroj‘ Sven Dirkschneider a talentované kytarové duo\, Andrey Smirnov a Fabian „Dee“ Dammers. Kapela DIRKSCHNEIDER nechce nechat jubilejní\, 40. výročí nejznámějšího a nejprodávanějšího alba ACCEPT (vyšlo 1983) bez povšimnutí\, a tak\, sice s malým zpožděním\, ale přece…vyrazí z kraje roku 2025 na toto slavnostní turné po celé Evropě!Udo se na turné moc těší: „Opravdu se nemůžu dočkat\, až znovu opráším toto ultimátní úspěšné album mé skupiny ACCEPT.\nZavršeno sdílením na pódiu s Peterem Baltesem\, předvedením „Balls To The Wall“ v plném rozsahu pro vás všechny. Bude to určitě jeden z největších vrcholů mé kariéry!“\nJako by 45 minut „Balls To The Wall“ – obsahující kultovní skladby\, jako je jeho titulní píseň „London Leatherboys“\, „Love Child“ nebo závěrečná balada „Winterdreams“ – k oslavě nestačilo\, DIRKSCHNEIDER do setlistu přidá i další hudební překvapení a přijede se zbrusu novou pódiovou produkcí!\nVše bude dokonale připraveno na toto krásné\, 40. výročí nepopiratelného milníku ACCEPT! Metalová noc 1.3.2025 v PRAZE – SaSaZu\, bude nezapomenutelným zážitkem pro každého\, kdo\, stejně jako Udo sám\, nosí metal ve svém srdci!
URL:https://rocksound.cz/akce/dirkschneider-praha/
LOCATION:SaSaZu\, Praha\, Bubenské nábřeží 306\, Praha
ATTACH;FMTTYPE=image/jpeg:https://rocksound.cz/wp-content/uploads/2024/12/459557848_835394918754863_4580066246035069753_n.jpg
END:VEVENT
END:VCALENDAR