BEGIN:VCALENDAR
VERSION:2.0
PRODID:-//Rocksound - ECPv6.15.18//NONSGML v1.0//EN
CALSCALE:GREGORIAN
METHOD:PUBLISH
X-WR-CALNAME:Rocksound
X-ORIGINAL-URL:https://rocksound.cz
X-WR-CALDESC:Akce na Rocksound
REFRESH-INTERVAL;VALUE=DURATION:PT1H
X-Robots-Tag:noindex
X-PUBLISHED-TTL:PT1H
BEGIN:VTIMEZONE
TZID:Europe/Prague
BEGIN:DAYLIGHT
TZOFFSETFROM:+0100
TZOFFSETTO:+0200
TZNAME:CEST
DTSTART:20180325T010000
END:DAYLIGHT
BEGIN:STANDARD
TZOFFSETFROM:+0200
TZOFFSETTO:+0100
TZNAME:CET
DTSTART:20181028T010000
END:STANDARD
BEGIN:DAYLIGHT
TZOFFSETFROM:+0100
TZOFFSETTO:+0200
TZNAME:CEST
DTSTART:20190331T010000
END:DAYLIGHT
BEGIN:STANDARD
TZOFFSETFROM:+0200
TZOFFSETTO:+0100
TZNAME:CET
DTSTART:20191027T010000
END:STANDARD
BEGIN:DAYLIGHT
TZOFFSETFROM:+0100
TZOFFSETTO:+0200
TZNAME:CEST
DTSTART:20200329T010000
END:DAYLIGHT
BEGIN:STANDARD
TZOFFSETFROM:+0200
TZOFFSETTO:+0100
TZNAME:CET
DTSTART:20201025T010000
END:STANDARD
END:VTIMEZONE
BEGIN:VEVENT
DTSTART;TZID=Europe/Prague:20191030T190000
DTEND;TZID=Europe/Prague:20191030T220000
DTSTAMP:20260423T032841
CREATED:20190922T193133Z
LAST-MODIFIED:20190922T193133Z
UID:22775-1572462000-1572472800@rocksound.cz
SUMMARY:Daniel Landa - Brno
DESCRIPTION:DANIEL LANDA „AKUSTICKÁ ŠŇŮRA 2019/2020” \n\n\nAkustická šňůra temně romantických večerů s Danielem Landou nabízí nabitý průřez jeho rozsáhlou tvorbou. Přijďte si užít jeho charismatické písně v doprovodu špičkových muzikantů. \nVstupenky vyprodány.
URL:https://rocksound.cz/akce/daniel-landa-brno/
LOCATION:KC Semilasso\, Palackého třída 126\, Brno
END:VEVENT
END:VCALENDAR