BEGIN:VCALENDAR
VERSION:2.0
PRODID:-//Rocksound - ECPv6.15.18//NONSGML v1.0//EN
CALSCALE:GREGORIAN
METHOD:PUBLISH
X-WR-CALNAME:Rocksound
X-ORIGINAL-URL:https://rocksound.cz
X-WR-CALDESC:Akce na Rocksound
REFRESH-INTERVAL;VALUE=DURATION:PT1H
X-Robots-Tag:noindex
X-PUBLISHED-TTL:PT1H
BEGIN:VTIMEZONE
TZID:Europe/Prague
BEGIN:DAYLIGHT
TZOFFSETFROM:+0100
TZOFFSETTO:+0200
TZNAME:CEST
DTSTART:20170326T010000
END:DAYLIGHT
BEGIN:STANDARD
TZOFFSETFROM:+0200
TZOFFSETTO:+0100
TZNAME:CET
DTSTART:20171029T010000
END:STANDARD
BEGIN:DAYLIGHT
TZOFFSETFROM:+0100
TZOFFSETTO:+0200
TZNAME:CEST
DTSTART:20180325T010000
END:DAYLIGHT
BEGIN:STANDARD
TZOFFSETFROM:+0200
TZOFFSETTO:+0100
TZNAME:CET
DTSTART:20181028T010000
END:STANDARD
BEGIN:DAYLIGHT
TZOFFSETFROM:+0100
TZOFFSETTO:+0200
TZNAME:CEST
DTSTART:20190331T010000
END:DAYLIGHT
BEGIN:STANDARD
TZOFFSETFROM:+0200
TZOFFSETTO:+0100
TZNAME:CET
DTSTART:20191027T010000
END:STANDARD
END:VTIMEZONE
BEGIN:VEVENT
DTSTART;TZID=Europe/Prague:20181209T180000
DTEND;TZID=Europe/Prague:20181209T230000
DTSTAMP:20260421T091417
CREATED:20181111T132552Z
LAST-MODIFIED:20181111T132552Z
UID:5429-1544378400-1544396400@rocksound.cz
SUMMARY:Kreator & Dimmu Borgir\, Praha - Forum Karlín
DESCRIPTION:Němečtí thrashoví titáni KREATOR a norský symfonický black metalový gigant DIMMU BORGIR spojili své síly pro velké turné po Evropě. V prosinci představí svou show také v pražském Foru Karlín! \n\n\nDlouho očekávaný návrat norských star symfonického black metalu je tady! DIMMU BORGIR po více než sedmi letech znovu ožívají a je to návrat vskutku obřích rozměrů! Na začátku května vyšlo nové studiové album „Eonian“\, které už nyní okupuje příčky světových žebříčků a na konci roku vyráží s thrashmetalovou stálicí KREATOR na společné turné! \nVelkolepé EUROPEAN APOCALYPSE TOUR bude probíhat také za doprovodu americké hardcore pětky HATEBREED a death metalouvé supergroup BLOODBATH. \nPředprodej vstupenek: www.mastersofrock.cz
URL:https://rocksound.cz/akce/kreator-dimmu-borgir-praha-forum-karlin/
LOCATION:Forum Karlín\, Pernerova 51\, Praha
END:VEVENT
END:VCALENDAR