BEGIN:VCALENDAR
VERSION:2.0
PRODID:-//Rocksound - ECPv6.15.18//NONSGML v1.0//EN
CALSCALE:GREGORIAN
METHOD:PUBLISH
X-WR-CALNAME:Rocksound
X-ORIGINAL-URL:https://rocksound.cz
X-WR-CALDESC:Akce na Rocksound
REFRESH-INTERVAL;VALUE=DURATION:PT1H
X-Robots-Tag:noindex
X-PUBLISHED-TTL:PT1H
BEGIN:VTIMEZONE
TZID:Europe/Prague
BEGIN:DAYLIGHT
TZOFFSETFROM:+0100
TZOFFSETTO:+0200
TZNAME:CEST
DTSTART:20180325T010000
END:DAYLIGHT
BEGIN:STANDARD
TZOFFSETFROM:+0200
TZOFFSETTO:+0100
TZNAME:CET
DTSTART:20181028T010000
END:STANDARD
BEGIN:DAYLIGHT
TZOFFSETFROM:+0100
TZOFFSETTO:+0200
TZNAME:CEST
DTSTART:20190331T010000
END:DAYLIGHT
BEGIN:STANDARD
TZOFFSETFROM:+0200
TZOFFSETTO:+0100
TZNAME:CET
DTSTART:20191027T010000
END:STANDARD
BEGIN:DAYLIGHT
TZOFFSETFROM:+0100
TZOFFSETTO:+0200
TZNAME:CEST
DTSTART:20200329T010000
END:DAYLIGHT
BEGIN:STANDARD
TZOFFSETFROM:+0200
TZOFFSETTO:+0100
TZNAME:CET
DTSTART:20201025T010000
END:STANDARD
END:VTIMEZONE
BEGIN:VEVENT
DTSTART;TZID=Europe/Prague:20190124T200000
DTEND;TZID=Europe/Prague:20190124T233000
DTSTAMP:20260424T235039
CREATED:20181230T194250Z
LAST-MODIFIED:20181230T194250Z
UID:7753-1548360000-1548372600@rocksound.cz
SUMMARY:Divokej Bill 20 LET
DESCRIPTION:DIVOKEJ BILL OSLAVÍ SVÉ DVACETINY KONCERTEM V O2 ARENĚ \n\n\nRok 2018 byl milníkem pro úvalskou partu Divokej Bill\, která dosáhla dvaceti let své hudební existence. Jubileum se rozhodli oslavit se svými fanoušky 24. ledna 2019 koncertem v pražské O2 areně. \n„Jak pojmout oslavu našich dvacetin jsme přemýšleli už dlouho. Bylo jasný\, že chceme našim věrným příznivcům poděkovat\, že při nás stojí a naše hudba je stále baví. A tak z různých návrhů a nápadů začal pomalu krystalizovat jeden v podobě toho\, co umíme a děláme i po těch letech nejraději. Tedy velkého koncertu\, kde se všichni sejdeme a společně zrekapitulujeme uplynulé dvě koncertní dekády. Aby vše proběhlo jak má a koncert byl komfortní se vším všudy\, tak první volba padla na pražskou O2arenu. Je to samozřejmě trochu adrenalin\, ale ten k nám patří a těšíme se na to\,“ říká Divokej Bill. \nVstup otevřen od 18:00. \nVstupenky vyprodány.
URL:https://rocksound.cz/akce/divokej-bill-20-let/
LOCATION:O2 arena\, Českomoravská 2345/17\, Praha
END:VEVENT
END:VCALENDAR