BEGIN:VCALENDAR
VERSION:2.0
PRODID:-//Rocksound - ECPv6.15.18//NONSGML v1.0//EN
CALSCALE:GREGORIAN
METHOD:PUBLISH
X-ORIGINAL-URL:https://rocksound.cz
X-WR-CALDESC:Akce na Rocksound
REFRESH-INTERVAL;VALUE=DURATION:PT1H
X-Robots-Tag:noindex
X-PUBLISHED-TTL:PT1H
BEGIN:VTIMEZONE
TZID:Europe/Prague
BEGIN:DAYLIGHT
TZOFFSETFROM:+0100
TZOFFSETTO:+0200
TZNAME:CEST
DTSTART:20190331T010000
END:DAYLIGHT
BEGIN:STANDARD
TZOFFSETFROM:+0200
TZOFFSETTO:+0100
TZNAME:CET
DTSTART:20191027T010000
END:STANDARD
BEGIN:DAYLIGHT
TZOFFSETFROM:+0100
TZOFFSETTO:+0200
TZNAME:CEST
DTSTART:20200329T010000
END:DAYLIGHT
BEGIN:STANDARD
TZOFFSETFROM:+0200
TZOFFSETTO:+0100
TZNAME:CET
DTSTART:20201025T010000
END:STANDARD
BEGIN:DAYLIGHT
TZOFFSETFROM:+0100
TZOFFSETTO:+0200
TZNAME:CEST
DTSTART:20210328T010000
END:DAYLIGHT
BEGIN:STANDARD
TZOFFSETFROM:+0200
TZOFFSETTO:+0100
TZNAME:CET
DTSTART:20211031T010000
END:STANDARD
END:VTIMEZONE
BEGIN:VEVENT
DTSTART;TZID=Europe/Prague:20200718T200000
DTEND;TZID=Europe/Prague:20200718T233000
DTSTAMP:20260419T224435
CREATED:20200703T065322Z
LAST-MODIFIED:20200703T065322Z
UID:34427-1595102400-1595115000@rocksound.cz
SUMMARY:Malý\, velký fest - Hořice
DESCRIPTION:The Legends Rock Fest \, tak jak jej známe\, jsme z obečně známých důvodů museli přeložit na rok 2021. Ovšem díky řadě srdcařů (A PRO SDCAŘE) si dáme dostaveníčko alespoň na jeden den. \n\n\nAkce proběhne v nově vytvořeném areálu ZAHRADA Hořice\, část LIbonice\, směr Hořice – Dobrá Voda. \nÚčinkující: Doga\, Krucipüsk\, XIII. století\, Seven\, Blitz Union a další… \nVstupenky: v předprodeji za 674 Kč\nLimitovaná edice vstupenek: na webu thelegendsrockshop.cz
URL:https://rocksound.cz/akce/maly-velky-fest-horice/
LOCATION:areál Zahrada Hořice
END:VEVENT
END:VCALENDAR