BEGIN:VCALENDAR
VERSION:2.0
PRODID:-//Rocksound - ECPv6.15.18//NONSGML v1.0//EN
CALSCALE:GREGORIAN
METHOD:PUBLISH
X-WR-CALNAME:Rocksound
X-ORIGINAL-URL:https://rocksound.cz
X-WR-CALDESC:Akce na Rocksound
REFRESH-INTERVAL;VALUE=DURATION:PT1H
X-Robots-Tag:noindex
X-PUBLISHED-TTL:PT1H
BEGIN:VTIMEZONE
TZID:Europe/Prague
BEGIN:DAYLIGHT
TZOFFSETFROM:+0100
TZOFFSETTO:+0200
TZNAME:CEST
DTSTART:20230326T010000
END:DAYLIGHT
BEGIN:STANDARD
TZOFFSETFROM:+0200
TZOFFSETTO:+0100
TZNAME:CET
DTSTART:20231029T010000
END:STANDARD
BEGIN:DAYLIGHT
TZOFFSETFROM:+0100
TZOFFSETTO:+0200
TZNAME:CEST
DTSTART:20240331T010000
END:DAYLIGHT
BEGIN:STANDARD
TZOFFSETFROM:+0200
TZOFFSETTO:+0100
TZNAME:CET
DTSTART:20241027T010000
END:STANDARD
BEGIN:DAYLIGHT
TZOFFSETFROM:+0100
TZOFFSETTO:+0200
TZNAME:CEST
DTSTART:20250330T010000
END:DAYLIGHT
BEGIN:STANDARD
TZOFFSETFROM:+0200
TZOFFSETTO:+0100
TZNAME:CET
DTSTART:20251026T010000
END:STANDARD
END:VTIMEZONE
BEGIN:VEVENT
DTSTART;TZID=Europe/Prague:20240813T193000
DTEND;TZID=Europe/Prague:20240813T224500
DTSTAMP:20260421T230120
CREATED:20240725T191855Z
LAST-MODIFIED:20240725T191855Z
UID:93611-1723577400-1723589100@rocksound.cz
SUMMARY:DRAGONFORCE - Bratislava
DESCRIPTION:Synonymom rýchlosti\, melodickosti a ekvilibristiky sa v roku 2004 stali britsko-medzinárodní rýchlici DRAGONFORCE. Svojím ultra rýchlym metalom „vyrážali poistky“ státisícom získaných fanúšikov a ich živelné vystúpenia sledujú fanúšikovia doslova s otvorenými ústami. Neubrali ani po rokoch a preto sa prihlásili s novinkou.S albumom Warp Speed Warriors (vyšiel 15.3.2024) sa po mierne rozpačitom predošlom diele kapela vracia k údernému\, hymnickému\, doslova speed-metalu a to\, v akej bude forme (my vieme\, že v skvelej)\, príde fanúšikom na Slovensku predviesť 13. augusta 2024 do Bratislavy.Predkapelu im budú robiť americkí Necrogoblicon\, ktorí sú zaujímavou zámorskou „odozvou“ na novšiu tvorbu Children of Bodom. Výborný mix 2 kapiel – akostný koncert Dragonforce aNecrogoblikon – 13.8. v Bratislave v MMCPredpredaj od piatka 12.4. v Ticketportali a v MMC.
URL:https://rocksound.cz/akce/dragonforce-bratislava/
LOCATION:Majestic Music Club\, Karpatska 2\, Bratislava
ATTACH;FMTTYPE=image/jpeg:https://rocksound.cz/wp-content/uploads/2024/07/449778767_488931213497144_876071747566972510_n.jpg
END:VEVENT
END:VCALENDAR