BEGIN:VCALENDAR
VERSION:2.0
PRODID:-//Rocksound - ECPv6.15.18//NONSGML v1.0//EN
CALSCALE:GREGORIAN
METHOD:PUBLISH
X-ORIGINAL-URL:https://rocksound.cz
X-WR-CALDESC:Akce na Rocksound
REFRESH-INTERVAL;VALUE=DURATION:PT1H
X-Robots-Tag:noindex
X-PUBLISHED-TTL:PT1H
BEGIN:VTIMEZONE
TZID:Europe/Prague
BEGIN:DAYLIGHT
TZOFFSETFROM:+0100
TZOFFSETTO:+0200
TZNAME:CEST
DTSTART:20230326T010000
END:DAYLIGHT
BEGIN:STANDARD
TZOFFSETFROM:+0200
TZOFFSETTO:+0100
TZNAME:CET
DTSTART:20231029T010000
END:STANDARD
BEGIN:DAYLIGHT
TZOFFSETFROM:+0100
TZOFFSETTO:+0200
TZNAME:CEST
DTSTART:20240331T010000
END:DAYLIGHT
BEGIN:STANDARD
TZOFFSETFROM:+0200
TZOFFSETTO:+0100
TZNAME:CET
DTSTART:20241027T010000
END:STANDARD
BEGIN:DAYLIGHT
TZOFFSETFROM:+0100
TZOFFSETTO:+0200
TZNAME:CEST
DTSTART:20250330T010000
END:DAYLIGHT
BEGIN:STANDARD
TZOFFSETFROM:+0200
TZOFFSETTO:+0100
TZNAME:CET
DTSTART:20251026T010000
END:STANDARD
END:VTIMEZONE
BEGIN:VEVENT
DTSTART;TZID=Europe/Prague:20240306T190000
DTEND;TZID=Europe/Prague:20240306T233000
DTSTAMP:20260419T175942
CREATED:20240220T173209Z
LAST-MODIFIED:20240220T173209Z
UID:87801-1709751600-1709767800@rocksound.cz
SUMMARY:AMARANTHE & DRAGONFORCE - Brno
DESCRIPTION:VYPRODÁNO!\nAMARANTHE & DRAGONFORCE\, Infected Rain – 6. 3. 2024 – BRNO\, Sono Centrum\nPo neuvěřitelně silné zpětné vazbě z jejich nedávného společného koncertování po USA\, se švédští metaloví virtuosové AMARANTHE a britská extrémní power-metalová banda DRAGONFORCE rozhodli posunout se dále a prodloužit toto své velmi úspěšné společné turné. Na jaře 2024 tak obě kapely vyrazí na rozsáhlé turné po Evropě a Velké Británii. Speciálním hostem turné bude navíc u nás velmi oblíbená moderní a energická metalová kapela INFECTED RAIN.\nJarní turné přivede tuto senzační metalovou trojici i 6. března 2024 do BRNA\, Sono Centra!
URL:https://rocksound.cz/akce/amaranthe-dragonforce-brno/
LOCATION:Sono\, Brno\, Vodova 108\, 612 00 Brno-Královo Pole\, Brno-Královo Pole\, 61200
ATTACH;FMTTYPE=image/jpeg:https://rocksound.cz/wp-content/uploads/2024/02/379994759_626646099629747_7053591690204992466_n.jpg
END:VEVENT
END:VCALENDAR