BEGIN:VCALENDAR
VERSION:2.0
PRODID:-//Rocksound - ECPv6.15.18//NONSGML v1.0//EN
CALSCALE:GREGORIAN
METHOD:PUBLISH
X-ORIGINAL-URL:https://rocksound.cz
X-WR-CALDESC:Akce na Rocksound
REFRESH-INTERVAL;VALUE=DURATION:PT1H
X-Robots-Tag:noindex
X-PUBLISHED-TTL:PT1H
BEGIN:VTIMEZONE
TZID:Europe/Prague
BEGIN:DAYLIGHT
TZOFFSETFROM:+0100
TZOFFSETTO:+0200
TZNAME:CEST
DTSTART:20180325T010000
END:DAYLIGHT
BEGIN:STANDARD
TZOFFSETFROM:+0200
TZOFFSETTO:+0100
TZNAME:CET
DTSTART:20181028T010000
END:STANDARD
BEGIN:DAYLIGHT
TZOFFSETFROM:+0100
TZOFFSETTO:+0200
TZNAME:CEST
DTSTART:20190331T010000
END:DAYLIGHT
BEGIN:STANDARD
TZOFFSETFROM:+0200
TZOFFSETTO:+0100
TZNAME:CET
DTSTART:20191027T010000
END:STANDARD
BEGIN:DAYLIGHT
TZOFFSETFROM:+0100
TZOFFSETTO:+0200
TZNAME:CEST
DTSTART:20200329T010000
END:DAYLIGHT
BEGIN:STANDARD
TZOFFSETFROM:+0200
TZOFFSETTO:+0100
TZNAME:CET
DTSTART:20201025T010000
END:STANDARD
END:VTIMEZONE
BEGIN:VEVENT
DTSTART;TZID=Europe/Prague:20190302T200000
DTEND;TZID=Europe/Prague:20190302T235900
DTSTAMP:20260419T205908
CREATED:20190209T111958Z
LAST-MODIFIED:20190209T111958Z
UID:9451-1551556800-1551571140@rocksound.cz
SUMMARY:Debustrol Tour 2019 – Jablonec nad Nisou
DESCRIPTION:33 let Antikrista Tour \n\n\nNení větší legendy v ranku thrashmetalové muziky u nás než je Kolinss a jeho ostrá parta. \nJako support vás nažhaví DWTK a Perseid. \n 
URL:https://rocksound.cz/akce/debustrol-tour-2019-jablonec-nad-nisou/
LOCATION:Woko klub\, Podzimní 21\, Jablonec nad Nisou
END:VEVENT
END:VCALENDAR