BEGIN:VCALENDAR
VERSION:2.0
PRODID:-//Rocksound - ECPv6.15.18//NONSGML v1.0//EN
CALSCALE:GREGORIAN
METHOD:PUBLISH
X-WR-CALNAME:Rocksound
X-ORIGINAL-URL:https://rocksound.cz
X-WR-CALDESC:Akce na Rocksound
REFRESH-INTERVAL;VALUE=DURATION:PT1H
X-Robots-Tag:noindex
X-PUBLISHED-TTL:PT1H
BEGIN:VTIMEZONE
TZID:Europe/Prague
BEGIN:DAYLIGHT
TZOFFSETFROM:+0100
TZOFFSETTO:+0200
TZNAME:CEST
DTSTART:20210328T010000
END:DAYLIGHT
BEGIN:STANDARD
TZOFFSETFROM:+0200
TZOFFSETTO:+0100
TZNAME:CET
DTSTART:20211031T010000
END:STANDARD
BEGIN:DAYLIGHT
TZOFFSETFROM:+0100
TZOFFSETTO:+0200
TZNAME:CEST
DTSTART:20220327T010000
END:DAYLIGHT
BEGIN:STANDARD
TZOFFSETFROM:+0200
TZOFFSETTO:+0100
TZNAME:CET
DTSTART:20221030T010000
END:STANDARD
BEGIN:DAYLIGHT
TZOFFSETFROM:+0100
TZOFFSETTO:+0200
TZNAME:CEST
DTSTART:20230326T010000
END:DAYLIGHT
BEGIN:STANDARD
TZOFFSETFROM:+0200
TZOFFSETTO:+0100
TZNAME:CET
DTSTART:20231029T010000
END:STANDARD
END:VTIMEZONE
BEGIN:VEVENT
DTSTART;TZID=Europe/Prague:20220903T150000
DTEND;TZID=Europe/Prague:20220903T233000
DTSTAMP:20260425T235119
CREATED:20220817T111829Z
LAST-MODIFIED:20220817T111829Z
UID:58550-1662217200-1662247800@rocksound.cz
SUMMARY:TŘI SESTRY - VYPSANÁ FIXA - MŇÁGA A ŽĎORP - DEBILL HEADS - IVAN MLÁDEK BANJO BAND - E!E - Výrava
DESCRIPTION:Fanánkova parta opět zavítá do Výravy!\nAť jseš punk\, ať jseš dred\, ať jseš metla s báječným hárem\,\npojď sem k nám\, nebuď sám\, postoj s náma před plným bárem.
URL:https://rocksound.cz/akce/tri-sestry-vypsana-fixa-mnaga-a-zdorp-debill-heads-ivan-mladek-banjo-band-ee-vyrava/
LOCATION:Letní parket Výrava\, 83\, 503 03 Výrava
ATTACH;FMTTYPE=image/png:https://rocksound.cz/wp-content/uploads/2022/08/npuszoo93c_560x560_1x-1.png
END:VEVENT
END:VCALENDAR