BEGIN:VCALENDAR
VERSION:2.0
PRODID:-//Rocksound - ECPv6.15.18//NONSGML v1.0//EN
CALSCALE:GREGORIAN
METHOD:PUBLISH
X-WR-CALNAME:Rocksound
X-ORIGINAL-URL:https://rocksound.cz
X-WR-CALDESC:Akce na Rocksound
REFRESH-INTERVAL;VALUE=DURATION:PT1H
X-Robots-Tag:noindex
X-PUBLISHED-TTL:PT1H
BEGIN:VTIMEZONE
TZID:Europe/Prague
BEGIN:DAYLIGHT
TZOFFSETFROM:+0100
TZOFFSETTO:+0200
TZNAME:CEST
DTSTART:20190331T010000
END:DAYLIGHT
BEGIN:STANDARD
TZOFFSETFROM:+0200
TZOFFSETTO:+0100
TZNAME:CET
DTSTART:20191027T010000
END:STANDARD
BEGIN:DAYLIGHT
TZOFFSETFROM:+0100
TZOFFSETTO:+0200
TZNAME:CEST
DTSTART:20200329T010000
END:DAYLIGHT
BEGIN:STANDARD
TZOFFSETFROM:+0200
TZOFFSETTO:+0100
TZNAME:CET
DTSTART:20201025T010000
END:STANDARD
BEGIN:DAYLIGHT
TZOFFSETFROM:+0100
TZOFFSETTO:+0200
TZNAME:CEST
DTSTART:20210328T010000
END:DAYLIGHT
BEGIN:STANDARD
TZOFFSETFROM:+0200
TZOFFSETTO:+0100
TZNAME:CET
DTSTART:20211031T010000
END:STANDARD
END:VTIMEZONE
BEGIN:VEVENT
DTSTART;TZID=Europe/Prague:20200130T200000
DTEND;TZID=Europe/Prague:20200130T230000
DTSTAMP:20260423T012256
CREATED:20200126T191216Z
LAST-MODIFIED:20200126T191216Z
UID:28455-1580414400-1580425200@rocksound.cz
SUMMARY:Eric Martin - Ostrava
DESCRIPTION:Majitel jednoho z největších hlasů a charisma ve světě rockové hudby – Eric Martin\, míří do České republiky.  Zahraje a zazpívá v lednu v ostravském klubu Garage! \n\n\nPředprodej vstupenek na woodmanproduction.cz nebo na recepci Retro hotelu Garage.
URL:https://rocksound.cz/akce/eric-martin-ostrava/
LOCATION:Garage Club\, Martinovská 3262/50\, Ostrava - Martinov
END:VEVENT
END:VCALENDAR