BEGIN:VCALENDAR
VERSION:2.0
PRODID:-//Rocksound - ECPv6.15.18//NONSGML v1.0//EN
CALSCALE:GREGORIAN
METHOD:PUBLISH
X-WR-CALNAME:Rocksound
X-ORIGINAL-URL:https://rocksound.cz
X-WR-CALDESC:Akce na Rocksound
REFRESH-INTERVAL;VALUE=DURATION:PT1H
X-Robots-Tag:noindex
X-PUBLISHED-TTL:PT1H
BEGIN:VTIMEZONE
TZID:Europe/Prague
BEGIN:DAYLIGHT
TZOFFSETFROM:+0100
TZOFFSETTO:+0200
TZNAME:CEST
DTSTART:20190331T010000
END:DAYLIGHT
BEGIN:STANDARD
TZOFFSETFROM:+0200
TZOFFSETTO:+0100
TZNAME:CET
DTSTART:20191027T010000
END:STANDARD
BEGIN:DAYLIGHT
TZOFFSETFROM:+0100
TZOFFSETTO:+0200
TZNAME:CEST
DTSTART:20200329T010000
END:DAYLIGHT
BEGIN:STANDARD
TZOFFSETFROM:+0200
TZOFFSETTO:+0100
TZNAME:CET
DTSTART:20201025T010000
END:STANDARD
BEGIN:DAYLIGHT
TZOFFSETFROM:+0100
TZOFFSETTO:+0200
TZNAME:CEST
DTSTART:20210328T010000
END:DAYLIGHT
BEGIN:STANDARD
TZOFFSETFROM:+0200
TZOFFSETTO:+0100
TZNAME:CET
DTSTART:20211031T010000
END:STANDARD
END:VTIMEZONE
BEGIN:VEVENT
DTSTART;TZID=Europe/Prague:20201031T193000
DTEND;TZID=Europe/Prague:20201031T233000
DTSTAMP:20260424T183514
CREATED:20200828T125642Z
LAST-MODIFIED:20200828T125642Z
UID:37491-1604172600-1604187000@rocksound.cz
SUMMARY:Forrest Jump + Eufory - Praha
DESCRIPTION:Přijďte na pořádný rockový nářez na „Barče“! Koncertovat zde budou kapely FORREST JUMP a EUFORY. Těšíme se na Vás! \n\n\nkdy? sobota 31. října od 19:30 hod. \nvstupenky: v předprodeji za 390 Kč\nPředprodej: na Goout.net
URL:https://rocksound.cz/akce/forrest-jump-eufory-praha/
LOCATION:Kulturní dům Barikádníků\, Praha
END:VEVENT
END:VCALENDAR